BEGIN:VCALENDAR
VERSION:2.0
PRODID:-//UM//UM*Events//EN
CALSCALE:GREGORIAN
BEGIN:VTIMEZONE
TZID:America/Detroit
TZURL:http://tzurl.org/zoneinfo/America/Detroit
X-LIC-LOCATION:America/Detroit
BEGIN:DAYLIGHT
TZOFFSETFROM:-0500
TZOFFSETTO:-0400
TZNAME:EDT
DTSTART:20070311T020000
RRULE:FREQ=YEARLY;BYMONTH=3;BYDAY=2SU
END:DAYLIGHT
BEGIN:STANDARD
TZOFFSETFROM:-0400
TZOFFSETTO:-0500
TZNAME:EST
DTSTART:20071104T020000
RRULE:FREQ=YEARLY;BYMONTH=11;BYDAY=1SU
END:STANDARD
END:VTIMEZONE
BEGIN:VEVENT
DTSTAMP:20101111T175629
DTSTART;TZID=America/Detroit:20100218T000000
SUMMARY:Exhibition:Exhibit of Recent Aquisitions
DESCRIPTION:This exhibit includes an extraordinarily wide variety of primary source material collected to support current and  future research.  Among the items on display are:  a watercolor “portrait” of a railroad bridge built in Prague in  1850\, original artwork by local artist Tom Pohrt for a children's book written by Justice Sandra Day O'Connor\, a  diary and photographs from a female UM student who hitchhiked from Ann Arbor to San Francisco in 1923\, a  Spanish text from 1693 for those studying to be soldiers\, and Dante's Divine Comedy with illustrations by  Salvador Dali.  \n\nNew archival collections with samples on display include the papers of film director Robert Altman and writers  Nicholas Delbanco and Richard Tillinghast\, as well as four separate women involved in radical causes such as  Clarence Darrow's 1907 defense of union leaders accused of murder and the ecological costs of technology.   This is the first opportunity for the public to see materials from the Altman Collection\, which is estimated to be  1\,000 linear feet in size and is now being sorted and processed for use.
UID:748-911434@events.umich.edu
URL:https://events.umich.edu/event/748
CLASS:PUBLIC
STATUS:CONFIRMED
CATEGORIES:visual arts
LOCATION:Hatcher Graduate Library - 7th Floor Special Collections Library
CONTACT:
END:VEVENT
BEGIN:VEVENT
DTSTAMP:20101111T175620
DTSTART;TZID=America/Detroit:20100218T000000
SUMMARY:Exhibition:Permanent Exhibits at the Exhibit Museum of Natural History
DESCRIPTION:The Hall of Evolution houses Michigan's largest display of prehistoric life. More than 600 million years of life on Earth are traced through fossils\, models and dioramas. The Michigan Wildlife Gallery has a large collection of native Great Lakes birds\, mammals\, reptiles\, and amphibians\, with taxidermy mounts\, habitat scenes\, and the largest mastodon trackway on display in the world. There are also displays about some of the environmental problems faced in this region today. The Anthropology Displays feature artifacts from human cultures around the world. The Geology Displays on the fourth floor offer a large selection of rocks\, minerals and gems. These displays are updated periodically. For more information go to www.lsa.umich.edu/exhibitmuseum/exhibits/permexhibits or call 734-764-0480.
UID:452-910595@events.umich.edu
URL:https://events.umich.edu/event/452
CLASS:PUBLIC
STATUS:CONFIRMED
CATEGORIES:
LOCATION:Ruthven Museums Building
CONTACT:
END:VEVENT
BEGIN:VEVENT
DTSTAMP:20101111T175759
DTSTART;TZID=America/Detroit:20100218T080000
DTEND;TZID=America/Detroit:20100218T170000
SUMMARY:Exhibition:History of Dentistry exhibits at the Sindecuse Museum of Dentistry
DESCRIPTION:Exhibits at the Sindecuse Museum of Dentistry include Dental Operatories of the 1860s to 1930s\, St. Apollonia-Patron Saint of Dentistry and more. Call 763-0767 or go to www.dent.umich.edu/museum for more information.
UID:3856-917704@events.umich.edu
URL:https://events.umich.edu/event/3856
CLASS:PUBLIC
STATUS:CONFIRMED
CATEGORIES:
LOCATION:Dental & W.K. Kellogg Institute
CONTACT:
END:VEVENT
BEGIN:VEVENT
DTSTAMP:20100111T160124
DTSTART;TZID=America/Detroit:20100218T080000
SUMMARY:Exhibition:Their Journey: Vietnamese in Michigan
DESCRIPTION:Imagine chaotically and permanently leaving your homeland for another country  and a completely different life! This exhibit includes photos from Vietnam and  Grand Rapids\, MI\, along with political\, cultural\, and personal perspectives of the  journey of Vietnamese immigrants to Michigan following the Vietnam War. It  augments the Great Michigan Read\, the Michigan Humanities Council's statewide  reading program\, and provides additional historical context to its book  selection\, \"Stealing Buddha's Dinner.\"\n\n\"Stealing Buddha's Dinner\" is a memoir chronicling author Bich Minh Nguyen's  migration from Vietnam in 1975 and her coming of age in Grand Rapids in the  1980s. Along the way\, she struggles to construct her own cultural identity from a  menagerie of uniquely American influences.\n\nThe University Library is one of only six sites chosen to host this exhibit.\n\nAccessible during library hours\; see http://www.lib.umich.edu/hatcher-graduate- library
UID:2556-920175@events.umich.edu
URL:https://events.umich.edu/event/2556
CLASS:PUBLIC
STATUS:CONFIRMED
CATEGORIES:multicultural
LOCATION:Hatcher Graduate Library - Room 100/Gallery
CONTACT:
END:VEVENT
BEGIN:VEVENT
DTSTAMP:20100329T161307
DTSTART;TZID=America/Detroit:20100218T083000
DTEND;TZID=America/Detroit:20100218T190000
SUMMARY:Exhibition:A History of the Bible from Ancient Papyri to King James
DESCRIPTION:This exhibit\, from the Special Collections Library\, shows a path of documents that  led to the creation of the 1611 King James Version of the Bible – from ancient  Egyptian manuscripts on papyrus to Medieval manuscripts to the printed book.\n\nThe earliest documents on display are Egyptian papyri\, including examples of a  census record from the year 119 and the oldest known copy of part of the New  Testament. Medieval manuscripts document the preservation of the text until the  invention of movable type printing by Gutenberg around 1450. The early printed  Bibles include versions in Latin and Greek\, and several that show the struggles  among various political factions and church reformers to control the translating of  the Scriptures into the language of the people. See the King James Bible of 1611  that became the accepted standard.\n\nFor Audubon Room hours\, see https://www.lib.umich.edu/audubon-room
UID:2220-918625@events.umich.edu
URL:https://events.umich.edu/event/2220
CLASS:PUBLIC
STATUS:CONFIRMED
CATEGORIES:visual arts
LOCATION:Hatcher Graduate Library - Audubon Room/First Floor
CONTACT:
END:VEVENT
BEGIN:VEVENT
DTSTAMP:20101111T175822
DTSTART;TZID=America/Detroit:20100218T090000
DTEND;TZID=America/Detroit:20100218T170000
SUMMARY:Exhibition:Exhibit: Santu Mofokeng's Chasing Shadows
DESCRIPTION:Santu Mofokeng\, one of South Africa's most prominent photographers\, began his  work as a documentarian of the anti-Apartheid struggle. Eventually deciding to  leave the field of straightforward photojournalism\, he focused instead on isolating  the simple gestures of everyday life in South African townships.  His work explores  landscape imbued with memory\, loss\, and spirituality\, and forces us to examine  any preconceived notion we have regarding exact locations of faith\, identity\, or  community. The photographs serve to “reclaim landscape\,” examining themes of  ownership\, and the relationship between the land\, power\, and money.  In his  extraordinary series Chasing Shadows\, displaced people reclaim their spirituality  and sustenance even in the midst of relentless transition.  His most recent urban  landscapes go beyond social and political commentary\, meditating on the profound  absurdity of living.  Billboards cruelly highlight the impoverishment of the citizenry  they importune.\n\nMofokeng has been the recipient of numerous awards.  In 1991\, he won the Ernest  Cole Scholarship to study at the International Center of Photography in New York.   He was also awarded the first Mother Jones Award for Africa in 1992\, and more  recently the Kunstlerhaus Worpswede Fellowship and DAAD Fellowship\, both in  Germany\, and was the Prince Claus Laureate for Visual Arts in 2009.
UID:2510-919210@events.umich.edu
URL:https://events.umich.edu/event/2510
CLASS:PUBLIC
STATUS:CONFIRMED
CATEGORIES:visual arts,multicultural
LOCATION:202 S. Thayer - #1010
CONTACT:
END:VEVENT
BEGIN:VEVENT
DTSTAMP:20090722T143534
DTSTART;TZID=America/Detroit:20100218T090000
DTEND;TZID=America/Detroit:20100218T170000
SUMMARY:Exhibition:Ida: Darwinius masillae
DESCRIPTION:\"Ida\,\" a new exhibit in the Exhibit Museum's Rotunda\, displays a high-resolution cast of an extremely rare  fossil discovered in 1983 near Messel\, Germany\, but only recently made available for study. The fossil has  proven to be a “link” between the prosimian and simian (\"anthropoid\") primate lineages. It has \"advanced\"  front teeth (incisors and canines) and second toes like those of monkeys\, and is broadly representative of what  human primate ancestors may have looked like during the Eocene epoch 47 million years ago.     Ida (prounded \"eeda\") is named after after the daughter of Dr JÃ¸rn Hurum\, the Norwegian vertebrate  paleontologist who secured one section of the fossil from an anonymous owner\, and led the research. Ida was  about eight months old\, or the equivalent of a six-year-old human.     Publication of a paper on the discovery was accompanied by a book\, The Link: Uncovering Our Earliest  Ancestors by Colin Tudge\, and a documentary shown on the History Channel (US)\, BBC One (UK)\,and various  stations in Germany and Norway.     U-M paleontologist Philip Gingerich and U-M anthropologist B. Holly Smith were two members of the \"dream  team\" invited to study Ida. The exhibit will be on display through May 2010.
UID:2124-918230@events.umich.edu
URL:https://events.umich.edu/event/2124
CLASS:PUBLIC
STATUS:CONFIRMED
CATEGORIES:multicultural,welcome week,visual arts
LOCATION:
CONTACT:
END:VEVENT
BEGIN:VEVENT
DTSTAMP:20100119T202856
DTSTART;TZID=America/Detroit:20100218T100000
DTEND;TZID=America/Detroit:20100218T120000
SUMMARY:Lecture / Discussion:Kathleen Fitzpatrick\, \"Planned Obsolescence: Publishing\, Technology\, and the Future of the Academy\"
DESCRIPTION:As part of an ongoing series of campus conversations about open access and scholarly publishing issues hosted by MPublishing\, this talk will explore some of these changes\, including shifts in the ways that we approach peer review\, transformations in our conceptions of authorship\, revisions in the structures of scholarly texts\, increased attention to preservation in our libraries\, and new partnerships among libraries\, presses\, and information technology departments in thinking about the place of publishing within the university infrastructure.\n\nWhile much attention has been paid in recent years to the digital future of scholarship\, and in particular to the technological and infrastructural development necessary to new publishing structures\, there is a set of social\, intellectual\, and institutional changes that will be a precondition for any such technological development\, as new publishing models promise substantive changes in the ways we write\, the ways we publish\, and the ways we review scholarly work.  Faculty\, technologists\, librarians\, and administrators will thus all need to understand the work of scholarship and its place within the university differently in order for any digital publishing future to become a viable reality.  \n\nKathleen Fitzpatrick is  is the author of The Anxiety of Obsolescence: The American Novel in the Age of Television (Vanderbilt University Press\, 2006)\, Planned Obsolescence: Publishing\, Technology\, and the Future of the Academy\, (NYU Press\, forthcoming)\, which is currently available online as part of an experimental open review process <http://mediacommons.futureofthebook.org/mcpress/plannedobsolescence>.  She is also co-coordinating editor of MediaCommons\, a scholarly publishing network focused on the field of media studies.
UID:905-912687@events.umich.edu
URL:https://events.umich.edu/event/905
CLASS:PUBLIC
STATUS:CONFIRMED
CATEGORIES:
LOCATION:Hatcher Graduate Library - 100
CONTACT:
END:VEVENT
BEGIN:VEVENT
DTSTAMP:20101111T175600
DTSTART;TZID=America/Detroit:20100218T100000
DTEND;TZID=America/Detroit:20100218T170000
SUMMARY:Exhibition:Stearns Collection of Music
DESCRIPTION:The Stearns Collection at the School of Music\, Theatre & Dance is one of six major collections of musical instruments in North America. The 2\,500-piece collection is internationally known and is a resource for musical and cultural education.
UID:3790-909220@events.umich.edu
URL:https://events.umich.edu/event/3790
CLASS:PUBLIC
STATUS:CONFIRMED
CATEGORIES:
LOCATION:Earl V. Moore Building
CONTACT:
END:VEVENT
BEGIN:VEVENT
DTSTAMP:20101111T175624
DTSTART;TZID=America/Detroit:20100218T110000
DTEND;TZID=America/Detroit:20100218T130000
SUMMARY:Performance:Beats N' Eats
DESCRIPTION:Enjoy the relaxing sounds of talented U-M student performers over lunch! Beats N' Eats takes place every Thursday from 11a-1p in either the Union MUG or League Underground. Interested in performance opportunities? Contact University Unions Arts & Programs at uuap@umich.edu or 734-763-3202.
UID:552-911072@events.umich.edu
URL:https://events.umich.edu/event/552
CLASS:PUBLIC
STATUS:CONFIRMED
CATEGORIES:music
LOCATION:Michigan League - Underground
CONTACT:
END:VEVENT
BEGIN:VEVENT
DTSTAMP:20101111T175605
DTSTART;TZID=America/Detroit:20100218T120000
SUMMARY:Lecture / Discussion:Ibn Ezra’s Treatise on the Astrolabe: The Hebrew and the Latin Versions
DESCRIPTION:Rodriquez-Arribas's presentation examines the genre of the instrument book in  medieval Hebrew and\, specifically\, it focuses on the first treatises written in Hebrew  describing and explaining the astrolabe. As far as is known\, Abraham ibn Ezra  (1089/92-1164/67) was the first Hebrew writer to deal with this subject and  implement the language of the Bible and the rabbis for conveying and explaining  the parts and uses of this scientific instrument (until then described in Greek\,  Syriac\, Arabic\, and partly in Latin\, but never in Hebrew). It is indisputable that Ibn  Ezra's treatises are the context in which many new meanings and words were coined  in the field of scientific instruments and astronomy\, and they are among the first  texts to make Hebrew a language capable of scientific expression (and eventually\,  research). The paper also takes into consideration the only extant Latin treatise  that Ibn Ezra wrote on the astrolabe\, as well as the Jewish communities intended for  everyone of the texts.
UID:239-909626@events.umich.edu
URL:https://events.umich.edu/event/239
CLASS:PUBLIC
STATUS:CONFIRMED
CATEGORIES:
LOCATION:202 S. Thayer - 2022
CONTACT:
END:VEVENT
BEGIN:VEVENT
DTSTAMP:20091209T115717
DTSTART;TZID=America/Detroit:20100218T120000
DTEND;TZID=America/Detroit:20100218T130000
SUMMARY:Lecture / Discussion:Intimate Trauma\, Cool Distance:
DESCRIPTION:Julia Adeney Thomas\, 2009-10 Toyota Visiting Professor\, CJS\; Associate Professor\,  History\, University of Notre Dame
UID:1866-916706@events.umich.edu
URL:https://events.umich.edu/event/1866
CLASS:PUBLIC
STATUS:CONFIRMED
CATEGORIES:multicultural
LOCATION:School of Social Work Building - 1636
CONTACT:
END:VEVENT
BEGIN:VEVENT
DTSTAMP:20101111T175615
DTSTART;TZID=America/Detroit:20100218T121500
DTEND;TZID=America/Detroit:20100218T133000
SUMMARY:Lecture / Discussion:Transgender 101
DESCRIPTION:\"What are transgender issues all about?\" \"How do I know what pronouns someone  prefers?\" \"How is being transgender different than being gay?\" \"Is intersex another  term for transgender?\" \"How can I be an ally to transgender people?\" \"How do  gender stereotypes affect us all?\"\n\nCome learn about these issues and more at a Trans 101 training\, presented by  Outlaws\, LLSA\, SQUALSA\, WLSA\, and the Michigan Journal of Gender & Law!\n\nWhen: Thursday\, February 18th at 12:15pm Where: 100 Hutchins Hall. Delicious lunch will be served!\n\nSometimes\, all of this language gets confusing and it's hard to find someone to  answer your questions. If you've seen or heard about transgender issues on  campus but don't quite understand what it's about\, what's going on\, or what you can  do\, this event is for you! RSVP on facebook http://www.facebook.com/event.php? eid=296934424073\n\nQuestions? Email kaitjack@umich.edu or rculley@umich.edu.
UID:264-910216@events.umich.edu
URL:https://events.umich.edu/event/264
CLASS:PUBLIC
STATUS:CONFIRMED
CATEGORIES:
LOCATION:Hutchins Hall - 100
CONTACT:
END:VEVENT
BEGIN:VEVENT
DTSTAMP:20091102T150050
DTSTART;TZID=America/Detroit:20100218T153000
DTEND;TZID=America/Detroit:20100218T173000
SUMMARY:Lecture / Discussion:Department of Astronomy Colloquia Series
DESCRIPTION:A weekly lecture series with Astronomy or Astrophysics related topics. Please see  department website for featured speaker and lecture topic. There will be a brief  reception with light refreshments preceding the lecture in room 845 Dennison from  3:30-4:00 pm.
UID:1689-915672@events.umich.edu
URL:https://events.umich.edu/event/1689
CLASS:PUBLIC
STATUS:CONFIRMED
CATEGORIES:
LOCATION:Weiser Hall - 807
CONTACT:
END:VEVENT
BEGIN:VEVENT
DTSTAMP:20101111T175613
DTSTART;TZID=America/Detroit:20100218T160000
DTEND;TZID=America/Detroit:20100218T173000
SUMMARY:Lecture / Discussion:Conversations on Europe.
DESCRIPTION:Linda Senden\, Netherlands Visiting Professor of Law\, U-M\; and professor of law\,  Tilburg University.
UID:179-910096@events.umich.edu
URL:https://events.umich.edu/event/179
CLASS:PUBLIC
STATUS:CONFIRMED
CATEGORIES:
LOCATION:School of Social Work Building - 1636
CONTACT:
END:VEVENT
BEGIN:VEVENT
DTSTAMP:20100210T121718
DTSTART;TZID=America/Detroit:20100218T160000
DTEND;TZID=America/Detroit:20100218T170000
SUMMARY:Workshop / Seminar:EEB Thursday Seminar Series: The importance of scale in Drosophila evolutionary genomics
DESCRIPTION:Abstract: The molecular evolutionary process is known to be variable\, both within  and between genomes. However\, the scale at which this process varies\, and the  scale at which factors underlying rates and patterns of molecular evolution vary\,  remain unclear. Understanding the temporal and physical (i.e.\, with respect to  physical location in the genome) scales over which the evolutionary process and its  constituent forces change is critical for addressing evolutionary questions in an  appropriate context. To investigate the temporal scale at which single nucleotide  substitutional patterns vary\, I applied a recently developed maximum likelihood  model\, capable of estimating lineage-specific rates of single nucleotide  substitution\, to coding and noncoding sequences in the six sequenced species of  the melanogaster group. This analysis provides strong evidence in support of  lineage-specific substitutional patterns\, suggesting that the assumption of  substitutional pattern stability over evolutionary time is flawed. To begin to address  the question of physical scale\, I focused on recombination rate. Using a classical  genetics approach\, I examined the fine-scale structure of recombination rate in a  1.2 Mb region of the D. melanogaster X chromosome. This analysis reveals  significant heterogeneity in the recombinational landscape of this region\, though  the range of recombination rates in this region is modest. Together\, these analyses  suggest that the molecular evolutionary process in Drosophila is heterogeneous on  both temporal and physical scales.
UID:592-911158@events.umich.edu
URL:https://events.umich.edu/event/592
CLASS:PUBLIC
STATUS:CONFIRMED
CATEGORIES:
LOCATION:Chemistry Dow Lab - 1200
CONTACT:
END:VEVENT
BEGIN:VEVENT
DTSTAMP:20101111T175639
DTSTART;TZID=America/Detroit:20100218T160000
DTEND;TZID=America/Detroit:20100218T173000
SUMMARY:Lecture / Discussion:Tenth Annual John Dewey Lecture
DESCRIPTION:The John Dewey lecture is held annually by the Ginsberg Center in commemoration of Dewey's impact on American education through his writings on the role of experience in learning and problem-solving. The Dewey Lecture highlights the work of current scholar-activists by featuring nationally known figures engaged in public scholarship.\n\nAnne M. Valk\, associate director for programs of the John Nicholas Brown Center at Brown University\, will discuss how her research in oral history and public humanities leads to new understanding of two concepts that are at the heart of much civic engagement - community and collaboration.  Practitioners of civic engagement often evoke these concepts as ideals or in a manner that simplifies the complexity of each term.  But turning attention to both the process and products of the historical research endeavor reveals new ways to think about these concepts and fresh approaches to understanding the outcomes of engaged research.  Valk's discussion will draw from work that she has done as an oral historian with an interest in neighborhoods and local histories\, including a recent project that she has been working on in Providence\, Rhode Island.
UID:675-912336@events.umich.edu
URL:https://events.umich.edu/event/675
CLASS:PUBLIC
STATUS:CONFIRMED
CATEGORIES:social justice
LOCATION:Michigan League - Henderson Room
CONTACT:
END:VEVENT
BEGIN:VEVENT
DTSTAMP:20101111T175810
DTSTART;TZID=America/Detroit:20100218T170000
DTEND;TZID=America/Detroit:20100218T180000
SUMMARY:Presentation:Ron Carlson
DESCRIPTION:Ron Carlson is the award-winning author of four story collections and four novels\,  most recently The Signal and Five Skies. His fiction has appeared in Harper's\, The  New Yorker\, Playboy\, and GQ\, and has been featured on NPR's This American Life  and Selected Shorts as well as in Best American Short Stories and The O. Henry  Prize Stories. His novella\, “Beanball\,” was recently selected for Best American  Mystery Stories. He is the director of the UC Irvine writing program.
UID:2213-918580@events.umich.edu
URL:https://events.umich.edu/event/2213
CLASS:PUBLIC
STATUS:CONFIRMED
CATEGORIES:literary arts
LOCATION:Museum of Art - Helmut Stern Auditorium
CONTACT:
END:VEVENT
BEGIN:VEVENT
DTSTAMP:20100218T134922
DTSTART;TZID=America/Detroit:20100218T170000
DTEND;TZID=America/Detroit:20100218T183000
SUMMARY:Meeting:Spectrum Center for LGBTQ and Friends Staff/Faculty Social Hour
DESCRIPTION:All U-M staff and faculty are invited to join the staff of the Spectrum Center for Lesbian\, Gay\, Bisexual\, Transgender\, Queer and Friends Staff/Faculty Social Hour. The group meets at various restaurants on the third Thursday of each month from 5:15-6:30 p.m. for food\, drinks and socializing. This is a great way to meet and hang out with colleagues. For more information and to get on the group e-mail list\, contact Ariana Bostian-Kentes at abostian@umich.edu or 763- 4186.
UID:330-910376@events.umich.edu
URL:https://events.umich.edu/event/330
CLASS:PUBLIC
STATUS:CONFIRMED
CATEGORIES:
LOCATION:
CONTACT:
END:VEVENT
BEGIN:VEVENT
DTSTAMP:20100217T134121
DTSTART;TZID=America/Detroit:20100218T180000
DTEND;TZID=America/Detroit:20100218T200000
SUMMARY:Other:\"Come Stuff Your Face\"
DESCRIPTION:***For only $5\, come support Camp Kesem***Great Performances and DJ Alfraydo for entertainment ***Great Prizes and Raffles --- CK will be raffling off a Princeton MCAT Course *** \n\nRestaurants include:  Tios\, Silvio's\, Afternoon Delight\, Monogolian BBQ\, Buffalo Wild Wings\, Noodles and Co.\, Jerusalem Garden\, Jamaican Jerk Pit\, Happy's Pizza\, Olive Garden \n\nPerformances Include: GMen\, Gimble\, Midnight Blue\, VSA Tradition/Modern Cultural Dance \n\nQuestions? Comments? Email kesemfundraising@umich.edu
UID:1712-915719@events.umich.edu
URL:https://events.umich.edu/event/1712
CLASS:PUBLIC
STATUS:CONFIRMED
CATEGORIES:
LOCATION:East Hall - Math Atrium
CONTACT:
END:VEVENT
BEGIN:VEVENT
DTSTAMP:20101111T175831
DTSTART;TZID=America/Detroit:20100218T183000
DTEND;TZID=America/Detroit:20100218T210000
SUMMARY:Workshop / Seminar:MOLS Leadership Clinic
DESCRIPTION:Do you see yourself as a leader? Do find yourself often placed in a leadership role? This MOLS  clinic will help you become an effective leader and give you the tools to manage any group of  individuals. Leadership is important for any group\, but in the backcountry it is essential for  creating a safe and fun environment. So whether you plan to lead in the outdoors\, are an  elected official for a University club\, or just often find yourself given the task of deciding on the  restaurant for the evening – this clinic is sure to offer insights and examples on how you can  become an exceptional leader.
UID:2385-919735@events.umich.edu
URL:https://events.umich.edu/event/2385
CLASS:PUBLIC
STATUS:CONFIRMED
CATEGORIES:
LOCATION:
CONTACT:
END:VEVENT
BEGIN:VEVENT
DTSTAMP:20101111T175643
DTSTART;TZID=America/Detroit:20100218T190000
DTEND;TZID=America/Detroit:20100218T210000
SUMMARY:Meeting:MGender Discussion Group
DESCRIPTION:MGender is a six-week dialogue/discussion group offered during the fall and winter  terms about the multiple realities and possibilities surrounding gender identity and  gender expression. Through the use of conversation\, experiential learning\, and  other forms of expression\, we will share\, explore and challenge notions of gender.  It is our goal to create a climate of support and understanding for all participants in  order to engage in a deeper exploration and understanding of gender identity and  gender expression. This dialogue intends to provide a space for the celebration and  recognition of various forms of gender identity and gender expression. The  dialogues will include exercises\, various opportunities for personal expression\, and  interactive discussions in order to explore the construct of gender. The maximum  number of participants is limited to twelve. Participants must pre-register for the  dialogues and are expected to attend all sessions. The dialogues will be closed to  only the participants who attend the first dialogue. Participation is open to students\,  staff\, faculty\, and community members. Participation will be free of cost and  voluntary. Ground rules and expectations to guide our interactions will be created at  the beginning of the first session.\n\nIf you are interested in participating in this program please contact Timothy  Corvidae at corvidae@umich.edu.
UID:820-912575@events.umich.edu
URL:https://events.umich.edu/event/820
CLASS:PUBLIC
STATUS:CONFIRMED
CATEGORIES:
LOCATION:Michigan Union - 3200
CONTACT:
END:VEVENT
BEGIN:VEVENT
DTSTAMP:20100218T030003
DTSTART;TZID=America/Detroit:20100218T190000
SUMMARY:Other:Student Woodwind Chamber Ensembles
DESCRIPTION:A recital featuring a variety of small woodwind ensembles.
UID:480-910909@events.umich.edu
URL:https://events.umich.edu/event/480
CLASS:PUBLIC
STATUS:CONFIRMED
CATEGORIES:music
LOCATION:
CONTACT:
END:VEVENT
BEGIN:VEVENT
DTSTAMP:20100218T030003
DTSTART;TZID=America/Detroit:20100218T193000
SUMMARY:Other:All s Well That Ends Well
DESCRIPTION:Dept. of Musical Theatre Studio Production. Directed by Malcolm Tulip.  By William Shakespeare.   League Ticket Office  734-764-2538.
UID:998-913643@events.umich.edu
URL:https://events.umich.edu/event/998
CLASS:PUBLIC
STATUS:CONFIRMED
CATEGORIES:theater,music
LOCATION:Walgreen Drama Center - Arthur Miller Theatre
CONTACT:
END:VEVENT
BEGIN:VEVENT
DTSTAMP:20100218T030003
DTSTART;TZID=America/Detroit:20100218T193000
SUMMARY:Other:Our Town
DESCRIPTION:Dept. of Theatre & Drama  by Thorton Wilder. Directed by Jerry Schwiebert.  The timeless and quintessential American play on life\, love\, and death.   Tickets available at the League Ticket Office 734-764-2538.
UID:2241-918724@events.umich.edu
URL:https://events.umich.edu/event/2241
CLASS:PUBLIC
STATUS:CONFIRMED
CATEGORIES:music,theater
LOCATION:Lydia Mendelssohn Theatre -  
CONTACT:
END:VEVENT
BEGIN:VEVENT
DTSTAMP:20100218T030003
DTSTART;TZID=America/Detroit:20100218T200000
SUMMARY:Other:Faculty Showcase Concert
DESCRIPTION:Faculty performers include Stephen West\, bass-baritone\, Christopher Harding\, piano\, Faculty Jazz Trio: Andrew Bishop\, saxophone\, Ed Sarah\, flugelhorn\, Dennis Wilson\, trombone\, Rebecca Albers\, viola\, Amy Porter\, flute\, Nancy Ambrose-King\, oboe\, Daniel Gilbert\, clarinet\, Jeffrey Lyman\, bassoon\, Adam Unsworth\, horn\, Donald Sinta\, saxophone\, Joseph Gramley\, multi-percussion
UID:2703-921033@events.umich.edu
URL:https://events.umich.edu/event/2703
CLASS:PUBLIC
STATUS:CONFIRMED
CATEGORIES:music
LOCATION:Earl V. Moore Building - Britton Recital Hall
CONTACT:
END:VEVENT
BEGIN:VEVENT
DTSTAMP:20101111T175625
DTSTART;TZID=America/Detroit:20100218T200000
SUMMARY:Performance:Marc Cohn
DESCRIPTION:
UID:595-911165@events.umich.edu
URL:https://events.umich.edu/event/595
CLASS:PUBLIC
STATUS:CONFIRMED
CATEGORIES:music
LOCATION:
CONTACT:
END:VEVENT
END:VCALENDAR