BEGIN:VCALENDAR
VERSION:2.0
PRODID:-//UM//UM*Events//EN
CALSCALE:GREGORIAN
BEGIN:VTIMEZONE
TZID:America/Detroit
TZURL:http://tzurl.org/zoneinfo/America/Detroit
X-LIC-LOCATION:America/Detroit
BEGIN:DAYLIGHT
TZOFFSETFROM:-0500
TZOFFSETTO:-0400
TZNAME:EDT
DTSTART:20070311T020000
RRULE:FREQ=YEARLY;BYMONTH=3;BYDAY=2SU
END:DAYLIGHT
BEGIN:STANDARD
TZOFFSETFROM:-0400
TZOFFSETTO:-0500
TZNAME:EST
DTSTART:20071104T020000
RRULE:FREQ=YEARLY;BYMONTH=11;BYDAY=1SU
END:STANDARD
END:VTIMEZONE
BEGIN:VEVENT
DTSTAMP:20101111T175629
DTSTART;TZID=America/Detroit:20100220T000000
SUMMARY:Exhibition:Exhibit of Recent Aquisitions
DESCRIPTION:This exhibit includes an extraordinarily wide variety of primary source material collected to support current and  future research.  Among the items on display are:  a watercolor “portrait” of a railroad bridge built in Prague in  1850\, original artwork by local artist Tom Pohrt for a children's book written by Justice Sandra Day O'Connor\, a  diary and photographs from a female UM student who hitchhiked from Ann Arbor to San Francisco in 1923\, a  Spanish text from 1693 for those studying to be soldiers\, and Dante's Divine Comedy with illustrations by  Salvador Dali.  \n\nNew archival collections with samples on display include the papers of film director Robert Altman and writers  Nicholas Delbanco and Richard Tillinghast\, as well as four separate women involved in radical causes such as  Clarence Darrow's 1907 defense of union leaders accused of murder and the ecological costs of technology.   This is the first opportunity for the public to see materials from the Altman Collection\, which is estimated to be  1\,000 linear feet in size and is now being sorted and processed for use.
UID:748-911436@events.umich.edu
URL:https://events.umich.edu/event/748
CLASS:PUBLIC
STATUS:CONFIRMED
CATEGORIES:visual arts
LOCATION:Hatcher Graduate Library - 7th Floor Special Collections Library
CONTACT:
END:VEVENT
BEGIN:VEVENT
DTSTAMP:20101111T175620
DTSTART;TZID=America/Detroit:20100220T000000
SUMMARY:Exhibition:Permanent Exhibits at the Exhibit Museum of Natural History
DESCRIPTION:The Hall of Evolution houses Michigan's largest display of prehistoric life. More than 600 million years of life on Earth are traced through fossils\, models and dioramas. The Michigan Wildlife Gallery has a large collection of native Great Lakes birds\, mammals\, reptiles\, and amphibians\, with taxidermy mounts\, habitat scenes\, and the largest mastodon trackway on display in the world. There are also displays about some of the environmental problems faced in this region today. The Anthropology Displays feature artifacts from human cultures around the world. The Geology Displays on the fourth floor offer a large selection of rocks\, minerals and gems. These displays are updated periodically. For more information go to www.lsa.umich.edu/exhibitmuseum/exhibits/permexhibits or call 734-764-0480.
UID:452-910597@events.umich.edu
URL:https://events.umich.edu/event/452
CLASS:PUBLIC
STATUS:CONFIRMED
CATEGORIES:
LOCATION:Ruthven Museums Building
CONTACT:
END:VEVENT
BEGIN:VEVENT
DTSTAMP:20100111T160124
DTSTART;TZID=America/Detroit:20100220T080000
SUMMARY:Exhibition:Their Journey: Vietnamese in Michigan
DESCRIPTION:Imagine chaotically and permanently leaving your homeland for another country  and a completely different life! This exhibit includes photos from Vietnam and  Grand Rapids\, MI\, along with political\, cultural\, and personal perspectives of the  journey of Vietnamese immigrants to Michigan following the Vietnam War. It  augments the Great Michigan Read\, the Michigan Humanities Council's statewide  reading program\, and provides additional historical context to its book  selection\, \"Stealing Buddha's Dinner.\"\n\n\"Stealing Buddha's Dinner\" is a memoir chronicling author Bich Minh Nguyen's  migration from Vietnam in 1975 and her coming of age in Grand Rapids in the  1980s. Along the way\, she struggles to construct her own cultural identity from a  menagerie of uniquely American influences.\n\nThe University Library is one of only six sites chosen to host this exhibit.\n\nAccessible during library hours\; see http://www.lib.umich.edu/hatcher-graduate- library
UID:2556-920177@events.umich.edu
URL:https://events.umich.edu/event/2556
CLASS:PUBLIC
STATUS:CONFIRMED
CATEGORIES:multicultural
LOCATION:Hatcher Graduate Library - Room 100/Gallery
CONTACT:
END:VEVENT
BEGIN:VEVENT
DTSTAMP:20100329T161307
DTSTART;TZID=America/Detroit:20100220T083000
DTEND;TZID=America/Detroit:20100220T190000
SUMMARY:Exhibition:A History of the Bible from Ancient Papyri to King James
DESCRIPTION:This exhibit\, from the Special Collections Library\, shows a path of documents that  led to the creation of the 1611 King James Version of the Bible – from ancient  Egyptian manuscripts on papyrus to Medieval manuscripts to the printed book.\n\nThe earliest documents on display are Egyptian papyri\, including examples of a  census record from the year 119 and the oldest known copy of part of the New  Testament. Medieval manuscripts document the preservation of the text until the  invention of movable type printing by Gutenberg around 1450. The early printed  Bibles include versions in Latin and Greek\, and several that show the struggles  among various political factions and church reformers to control the translating of  the Scriptures into the language of the people. See the King James Bible of 1611  that became the accepted standard.\n\nFor Audubon Room hours\, see https://www.lib.umich.edu/audubon-room
UID:2220-918627@events.umich.edu
URL:https://events.umich.edu/event/2220
CLASS:PUBLIC
STATUS:CONFIRMED
CATEGORIES:visual arts
LOCATION:Hatcher Graduate Library - Audubon Room/First Floor
CONTACT:
END:VEVENT
BEGIN:VEVENT
DTSTAMP:20101111T175822
DTSTART;TZID=America/Detroit:20100220T090000
DTEND;TZID=America/Detroit:20100220T170000
SUMMARY:Exhibition:Exhibit: Santu Mofokeng's Chasing Shadows
DESCRIPTION:Santu Mofokeng\, one of South Africa's most prominent photographers\, began his  work as a documentarian of the anti-Apartheid struggle. Eventually deciding to  leave the field of straightforward photojournalism\, he focused instead on isolating  the simple gestures of everyday life in South African townships.  His work explores  landscape imbued with memory\, loss\, and spirituality\, and forces us to examine  any preconceived notion we have regarding exact locations of faith\, identity\, or  community. The photographs serve to “reclaim landscape\,” examining themes of  ownership\, and the relationship between the land\, power\, and money.  In his  extraordinary series Chasing Shadows\, displaced people reclaim their spirituality  and sustenance even in the midst of relentless transition.  His most recent urban  landscapes go beyond social and political commentary\, meditating on the profound  absurdity of living.  Billboards cruelly highlight the impoverishment of the citizenry  they importune.\n\nMofokeng has been the recipient of numerous awards.  In 1991\, he won the Ernest  Cole Scholarship to study at the International Center of Photography in New York.   He was also awarded the first Mother Jones Award for Africa in 1992\, and more  recently the Kunstlerhaus Worpswede Fellowship and DAAD Fellowship\, both in  Germany\, and was the Prince Claus Laureate for Visual Arts in 2009.
UID:2510-919212@events.umich.edu
URL:https://events.umich.edu/event/2510
CLASS:PUBLIC
STATUS:CONFIRMED
CATEGORIES:visual arts,multicultural
LOCATION:202 S. Thayer - #1010
CONTACT:
END:VEVENT
BEGIN:VEVENT
DTSTAMP:20090722T143534
DTSTART;TZID=America/Detroit:20100220T090000
DTEND;TZID=America/Detroit:20100220T170000
SUMMARY:Exhibition:Ida: Darwinius masillae
DESCRIPTION:\"Ida\,\" a new exhibit in the Exhibit Museum's Rotunda\, displays a high-resolution cast of an extremely rare  fossil discovered in 1983 near Messel\, Germany\, but only recently made available for study. The fossil has  proven to be a “link” between the prosimian and simian (\"anthropoid\") primate lineages. It has \"advanced\"  front teeth (incisors and canines) and second toes like those of monkeys\, and is broadly representative of what  human primate ancestors may have looked like during the Eocene epoch 47 million years ago.     Ida (prounded \"eeda\") is named after after the daughter of Dr JÃ¸rn Hurum\, the Norwegian vertebrate  paleontologist who secured one section of the fossil from an anonymous owner\, and led the research. Ida was  about eight months old\, or the equivalent of a six-year-old human.     Publication of a paper on the discovery was accompanied by a book\, The Link: Uncovering Our Earliest  Ancestors by Colin Tudge\, and a documentary shown on the History Channel (US)\, BBC One (UK)\,and various  stations in Germany and Norway.     U-M paleontologist Philip Gingerich and U-M anthropologist B. Holly Smith were two members of the \"dream  team\" invited to study Ida. The exhibit will be on display through May 2010.
UID:2124-918232@events.umich.edu
URL:https://events.umich.edu/event/2124
CLASS:PUBLIC
STATUS:CONFIRMED
CATEGORIES:multicultural,visual arts,welcome week
LOCATION:
CONTACT:
END:VEVENT
BEGIN:VEVENT
DTSTAMP:20100220T030003
DTSTART;TZID=America/Detroit:20100220T170000
SUMMARY:Other:First Dissertation Recital: Jose Garcia\, tenor - DATE and VENUE CHANGE
DESCRIPTION:PROGRAM:  Schumann - from Dichterliebe\, Op. 48\, Im wunder schÃ¶nen Monat Mai/Aus meinen TrÃ¤nen spriessen/Die Rose\, die Lilie\, die Taube\, die Sonne/Wenn ich in deine Augen seh'/Ich will meine Seele tauchen/Im Rhein\, im heiligen Strome\;Ich grolle nicht/Und wÃ¼ssten’s die Blumen\, die kleinen/Das ist ein FlÃ¶ten und Geigen/HÃ¶r ich das Liedchen klingen/Ein JÃ¼ngling liebt ein MÃ¤dchen/Am leuchtenden Sommermorgen/Ich hab im Traum geweinet/AllnÃ¤chtlich im Traume/Aus alten MÃ¤rchen/Die alten\, bÃ¶sen Lieder\; Quilter - from Three Shakespeare Songs\, Op. 6\, No. 1 Come away\, Death/O Mistress Mine/Blow\, blow\, thou winter wind\; Quilter - When daffodils begin to peer from Four Shakespeare Songs\, Op. 30/When icicles hang by the wall from Two Shakespeare Songs\, Op. 32/Weep you no more from Seven Elizabethan Lyrics\, Op. 12/It was a lover and his lass from Five Shakespeare Songs)\, Op. 23
UID:545-911781@events.umich.edu
URL:https://events.umich.edu/event/545
CLASS:PUBLIC
STATUS:CONFIRMED
CATEGORIES:music
LOCATION:
CONTACT:
END:VEVENT
BEGIN:VEVENT
DTSTAMP:20100220T030003
DTSTART;TZID=America/Detroit:20100220T170000
SUMMARY:Other:Senior Recital:  Kate Wakefield\, mezzo soprano
DESCRIPTION:PROGRAM:  Faure - Chanson D'eve\; Mozart - Parto Parto\; Copland - Emily Dickinson Poems\; Robert Schumann - Die stille/Mondnacht\; Clara Schumann - An einem lichten morgen/O lust\, o lust!
UID:801-912546@events.umich.edu
URL:https://events.umich.edu/event/801
CLASS:PUBLIC
STATUS:CONFIRMED
CATEGORIES:music
LOCATION:
CONTACT:
END:VEVENT
BEGIN:VEVENT
DTSTAMP:20101111T175801
DTSTART;TZID=America/Detroit:20100220T190000
SUMMARY:Reception / Open House:Arabian Nights Charity Ball
DESCRIPTION:
UID:1944-917912@events.umich.edu
URL:https://events.umich.edu/event/1944
CLASS:PUBLIC
STATUS:CONFIRMED
CATEGORIES:
LOCATION:Michigan Union - Rogel Ballroom
CONTACT:
END:VEVENT
BEGIN:VEVENT
DTSTAMP:20100220T030003
DTSTART;TZID=America/Detroit:20100220T190000
SUMMARY:Other:SMTD at UMMA:  Dance on Camera Festival
DESCRIPTION:\"The Dance on Camera Festival is one of those NY stealth events\, prized by its devotees...where the allusiveness of dance meets the intimacy of film to create a new kind of magic.\" (John Rockwell\, The New York Times) The festival comes to Ann Arbor directly from Dance Films Association's 38th Dance On Camera Festival at Lincoln Center's Walter Reade Theater\, NYC.
UID:315-909711@events.umich.edu
URL:https://events.umich.edu/event/315
CLASS:PUBLIC
STATUS:CONFIRMED
CATEGORIES:music,film,dance
LOCATION:Museum of Art - Helmut Stern Auditorium
CONTACT:
END:VEVENT
BEGIN:VEVENT
DTSTAMP:20101111T175705
DTSTART;TZID=America/Detroit:20100220T193000
SUMMARY:Performance:23rd Annual Storytelling Festival
DESCRIPTION:
UID:1184-914023@events.umich.edu
URL:https://events.umich.edu/event/1184
CLASS:PUBLIC
STATUS:CONFIRMED
CATEGORIES:music
LOCATION:
CONTACT:
END:VEVENT
BEGIN:VEVENT
DTSTAMP:20101111T175746
DTSTART;TZID=America/Detroit:20100220T193000
SUMMARY:Performance:Huaren Mosaic Culture Show
DESCRIPTION:Huaren Mosaic is a compilation of Huaren culture during one night of exciting shows!  Mosaic includes: dance\, Chinese yegyo\, traditional instruments\, martial arts and more!
UID:1846-916676@events.umich.edu
URL:https://events.umich.edu/event/1846
CLASS:PUBLIC
STATUS:CONFIRMED
CATEGORIES:theater,visual arts,music,multicultural,dance
LOCATION:Power Center for the Performing Arts
CONTACT:
END:VEVENT
BEGIN:VEVENT
DTSTAMP:20101111T175823
DTSTART;TZID=America/Detroit:20100220T200000
SUMMARY:Reception / Open House:$5 Prom
DESCRIPTION:
UID:2530-919242@events.umich.edu
URL:https://events.umich.edu/event/2530
CLASS:PUBLIC
STATUS:CONFIRMED
CATEGORIES:
LOCATION:Michigan Union - University Club
CONTACT:
END:VEVENT
BEGIN:VEVENT
DTSTAMP:20100220T030003
DTSTART;TZID=America/Detroit:20100220T200000
SUMMARY:Other:All s Well That Ends Well
DESCRIPTION:Dept. of Musical Theatre Studio Production. Directed by Malcolm Tulip.  By William Shakespeare.   League Ticket Office  734-764-2538.
UID:334-910379@events.umich.edu
URL:https://events.umich.edu/event/334
CLASS:PUBLIC
STATUS:CONFIRMED
CATEGORIES:theater,music
LOCATION:Walgreen Drama Center - Arthur Miller Theatre
CONTACT:
END:VEVENT
BEGIN:VEVENT
DTSTAMP:20101111T175809
DTSTART;TZID=America/Detroit:20100220T200000
SUMMARY:Reception / Open House:Hope For Haiti Charity Ball
DESCRIPTION:
UID:2176-918536@events.umich.edu
URL:https://events.umich.edu/event/2176
CLASS:PUBLIC
STATUS:CONFIRMED
CATEGORIES:multicultural,social justice
LOCATION:Michigan League
CONTACT:
END:VEVENT
BEGIN:VEVENT
DTSTAMP:20100220T030003
DTSTART;TZID=America/Detroit:20100220T200000
SUMMARY:Other:Our Town
DESCRIPTION:Dept. of Theatre & Drama  by Thorton Wilder. Directed by Jerry Schwiebert.  The timeless and quintessential American play on life\, love\, and death.   Tickets available at the League Ticket Office 734-764-2538.
UID:561-911082@events.umich.edu
URL:https://events.umich.edu/event/561
CLASS:PUBLIC
STATUS:CONFIRMED
CATEGORIES:theater,music
LOCATION:Lydia Mendelssohn Theatre -  
CONTACT:
END:VEVENT
BEGIN:VEVENT
DTSTAMP:20100220T030003
DTSTART;TZID=America/Detroit:20100220T200000
SUMMARY:Other:Senior Recital: Paul Trapkus\, violin
DESCRIPTION:PROGRAM: Bach - Sonata No. 1 in G Minor\, BWV 1001\; Prokofiev - Concerto No. 2 in G Minor\, Op. 63\; Wieniawski - Scherzo-Tarantelle\, Op. 16\; Elgar - Sonata in E Minor\, Op. 82
UID:2888-921645@events.umich.edu
URL:https://events.umich.edu/event/2888
CLASS:PUBLIC
STATUS:CONFIRMED
CATEGORIES:music
LOCATION:Earl V. Moore Building - McIntosh Theatre
CONTACT:
END:VEVENT
BEGIN:VEVENT
DTSTAMP:20100220T030003
DTSTART;TZID=America/Detroit:20100220T200000
SUMMARY:Other:Specialist Degree Recital:  Edward Hanlon\, bass
DESCRIPTION:PROGRAM:  Mozart - Cosi dunque tradiscÃ¬ K. 432\; Schubert - Auf der Donau D. 553/Der AlpenjÃ¤ger D. 524/Fahrt zum Hades D. 526/Der Sieg D. 805\; Saint-SaÃ«ns - Violons dans le Soir/Danse Macabre\; Mussorgsky - Lullaby/Serenade/Trepak/The Field-Marshall\; Loesser - A Loesser Romance
UID:2345-919651@events.umich.edu
URL:https://events.umich.edu/event/2345
CLASS:PUBLIC
STATUS:CONFIRMED
CATEGORIES:music
LOCATION:Walgreen Drama Center - Stamps Auditorium
CONTACT:
END:VEVENT
BEGIN:VEVENT
DTSTAMP:20100220T030003
DTSTART;TZID=America/Detroit:20100220T200000
SUMMARY:Other:Student Composers Forum
DESCRIPTION:PROGRAM: Pertz - tDotW #9 pp\, part 2\; Matlock - Three Characters\; Amchin - 12 for 5\; Derycz - Trio for Violin\, Viola\, and Violoncello\; Ware - Claire de lune intellectuel
UID:2394-919007@events.umich.edu
URL:https://events.umich.edu/event/2394
CLASS:PUBLIC
STATUS:CONFIRMED
CATEGORIES:music
LOCATION:Earl V. Moore Building - Britton Recital Hall
CONTACT:
END:VEVENT
END:VCALENDAR