BEGIN:VCALENDAR
VERSION:2.0
PRODID:-//UM//UM*Events//EN
CALSCALE:GREGORIAN
BEGIN:VTIMEZONE
TZID:America/Detroit
TZURL:http://tzurl.org/zoneinfo/America/Detroit
X-LIC-LOCATION:America/Detroit
BEGIN:DAYLIGHT
TZOFFSETFROM:-0500
TZOFFSETTO:-0400
TZNAME:EDT
DTSTART:20070311T020000
RRULE:FREQ=YEARLY;BYMONTH=3;BYDAY=2SU
END:DAYLIGHT
BEGIN:STANDARD
TZOFFSETFROM:-0400
TZOFFSETTO:-0500
TZNAME:EST
DTSTART:20071104T020000
RRULE:FREQ=YEARLY;BYMONTH=11;BYDAY=1SU
END:STANDARD
END:VTIMEZONE
BEGIN:VEVENT
DTSTAMP:20101111T175629
DTSTART;TZID=America/Detroit:20100221T000000
SUMMARY:Exhibition:Exhibit of Recent Aquisitions
DESCRIPTION:This exhibit includes an extraordinarily wide variety of primary source material collected to support current and  future research.  Among the items on display are:  a watercolor “portrait” of a railroad bridge built in Prague in  1850\, original artwork by local artist Tom Pohrt for a children's book written by Justice Sandra Day O'Connor\, a  diary and photographs from a female UM student who hitchhiked from Ann Arbor to San Francisco in 1923\, a  Spanish text from 1693 for those studying to be soldiers\, and Dante's Divine Comedy with illustrations by  Salvador Dali.  \n\nNew archival collections with samples on display include the papers of film director Robert Altman and writers  Nicholas Delbanco and Richard Tillinghast\, as well as four separate women involved in radical causes such as  Clarence Darrow's 1907 defense of union leaders accused of murder and the ecological costs of technology.   This is the first opportunity for the public to see materials from the Altman Collection\, which is estimated to be  1\,000 linear feet in size and is now being sorted and processed for use.
UID:748-911437@events.umich.edu
URL:https://events.umich.edu/event/748
CLASS:PUBLIC
STATUS:CONFIRMED
CATEGORIES:visual arts
LOCATION:Hatcher Graduate Library - 7th Floor Special Collections Library
CONTACT:
END:VEVENT
BEGIN:VEVENT
DTSTAMP:20101111T175620
DTSTART;TZID=America/Detroit:20100221T000000
SUMMARY:Exhibition:Permanent Exhibits at the Exhibit Museum of Natural History
DESCRIPTION:The Hall of Evolution houses Michigan's largest display of prehistoric life. More than 600 million years of life on Earth are traced through fossils\, models and dioramas. The Michigan Wildlife Gallery has a large collection of native Great Lakes birds\, mammals\, reptiles\, and amphibians\, with taxidermy mounts\, habitat scenes\, and the largest mastodon trackway on display in the world. There are also displays about some of the environmental problems faced in this region today. The Anthropology Displays feature artifacts from human cultures around the world. The Geology Displays on the fourth floor offer a large selection of rocks\, minerals and gems. These displays are updated periodically. For more information go to www.lsa.umich.edu/exhibitmuseum/exhibits/permexhibits or call 734-764-0480.
UID:452-910598@events.umich.edu
URL:https://events.umich.edu/event/452
CLASS:PUBLIC
STATUS:CONFIRMED
CATEGORIES:
LOCATION:Ruthven Museums Building
CONTACT:
END:VEVENT
BEGIN:VEVENT
DTSTAMP:20100111T160124
DTSTART;TZID=America/Detroit:20100221T080000
SUMMARY:Exhibition:Their Journey: Vietnamese in Michigan
DESCRIPTION:Imagine chaotically and permanently leaving your homeland for another country  and a completely different life! This exhibit includes photos from Vietnam and  Grand Rapids\, MI\, along with political\, cultural\, and personal perspectives of the  journey of Vietnamese immigrants to Michigan following the Vietnam War. It  augments the Great Michigan Read\, the Michigan Humanities Council's statewide  reading program\, and provides additional historical context to its book  selection\, \"Stealing Buddha's Dinner.\"\n\n\"Stealing Buddha's Dinner\" is a memoir chronicling author Bich Minh Nguyen's  migration from Vietnam in 1975 and her coming of age in Grand Rapids in the  1980s. Along the way\, she struggles to construct her own cultural identity from a  menagerie of uniquely American influences.\n\nThe University Library is one of only six sites chosen to host this exhibit.\n\nAccessible during library hours\; see http://www.lib.umich.edu/hatcher-graduate- library
UID:2556-920178@events.umich.edu
URL:https://events.umich.edu/event/2556
CLASS:PUBLIC
STATUS:CONFIRMED
CATEGORIES:multicultural
LOCATION:Hatcher Graduate Library - Room 100/Gallery
CONTACT:
END:VEVENT
BEGIN:VEVENT
DTSTAMP:20100329T161307
DTSTART;TZID=America/Detroit:20100221T083000
DTEND;TZID=America/Detroit:20100221T190000
SUMMARY:Exhibition:A History of the Bible from Ancient Papyri to King James
DESCRIPTION:This exhibit\, from the Special Collections Library\, shows a path of documents that  led to the creation of the 1611 King James Version of the Bible – from ancient  Egyptian manuscripts on papyrus to Medieval manuscripts to the printed book.\n\nThe earliest documents on display are Egyptian papyri\, including examples of a  census record from the year 119 and the oldest known copy of part of the New  Testament. Medieval manuscripts document the preservation of the text until the  invention of movable type printing by Gutenberg around 1450. The early printed  Bibles include versions in Latin and Greek\, and several that show the struggles  among various political factions and church reformers to control the translating of  the Scriptures into the language of the people. See the King James Bible of 1611  that became the accepted standard.\n\nFor Audubon Room hours\, see https://www.lib.umich.edu/audubon-room
UID:2220-918628@events.umich.edu
URL:https://events.umich.edu/event/2220
CLASS:PUBLIC
STATUS:CONFIRMED
CATEGORIES:visual arts
LOCATION:Hatcher Graduate Library - Audubon Room/First Floor
CONTACT:
END:VEVENT
BEGIN:VEVENT
DTSTAMP:20101111T175822
DTSTART;TZID=America/Detroit:20100221T090000
DTEND;TZID=America/Detroit:20100221T170000
SUMMARY:Exhibition:Exhibit: Santu Mofokeng's Chasing Shadows
DESCRIPTION:Santu Mofokeng\, one of South Africa's most prominent photographers\, began his  work as a documentarian of the anti-Apartheid struggle. Eventually deciding to  leave the field of straightforward photojournalism\, he focused instead on isolating  the simple gestures of everyday life in South African townships.  His work explores  landscape imbued with memory\, loss\, and spirituality\, and forces us to examine  any preconceived notion we have regarding exact locations of faith\, identity\, or  community. The photographs serve to “reclaim landscape\,” examining themes of  ownership\, and the relationship between the land\, power\, and money.  In his  extraordinary series Chasing Shadows\, displaced people reclaim their spirituality  and sustenance even in the midst of relentless transition.  His most recent urban  landscapes go beyond social and political commentary\, meditating on the profound  absurdity of living.  Billboards cruelly highlight the impoverishment of the citizenry  they importune.\n\nMofokeng has been the recipient of numerous awards.  In 1991\, he won the Ernest  Cole Scholarship to study at the International Center of Photography in New York.   He was also awarded the first Mother Jones Award for Africa in 1992\, and more  recently the Kunstlerhaus Worpswede Fellowship and DAAD Fellowship\, both in  Germany\, and was the Prince Claus Laureate for Visual Arts in 2009.
UID:2510-919213@events.umich.edu
URL:https://events.umich.edu/event/2510
CLASS:PUBLIC
STATUS:CONFIRMED
CATEGORIES:visual arts,multicultural
LOCATION:202 S. Thayer - #1010
CONTACT:
END:VEVENT
BEGIN:VEVENT
DTSTAMP:20090722T143534
DTSTART;TZID=America/Detroit:20100221T090000
DTEND;TZID=America/Detroit:20100221T170000
SUMMARY:Exhibition:Ida: Darwinius masillae
DESCRIPTION:\"Ida\,\" a new exhibit in the Exhibit Museum's Rotunda\, displays a high-resolution cast of an extremely rare  fossil discovered in 1983 near Messel\, Germany\, but only recently made available for study. The fossil has  proven to be a “link” between the prosimian and simian (\"anthropoid\") primate lineages. It has \"advanced\"  front teeth (incisors and canines) and second toes like those of monkeys\, and is broadly representative of what  human primate ancestors may have looked like during the Eocene epoch 47 million years ago.     Ida (prounded \"eeda\") is named after after the daughter of Dr JÃ¸rn Hurum\, the Norwegian vertebrate  paleontologist who secured one section of the fossil from an anonymous owner\, and led the research. Ida was  about eight months old\, or the equivalent of a six-year-old human.     Publication of a paper on the discovery was accompanied by a book\, The Link: Uncovering Our Earliest  Ancestors by Colin Tudge\, and a documentary shown on the History Channel (US)\, BBC One (UK)\,and various  stations in Germany and Norway.     U-M paleontologist Philip Gingerich and U-M anthropologist B. Holly Smith were two members of the \"dream  team\" invited to study Ida. The exhibit will be on display through May 2010.
UID:2124-918233@events.umich.edu
URL:https://events.umich.edu/event/2124
CLASS:PUBLIC
STATUS:CONFIRMED
CATEGORIES:welcome week,visual arts,multicultural
LOCATION:
CONTACT:
END:VEVENT
BEGIN:VEVENT
DTSTAMP:20101111T175812
DTSTART;TZID=America/Detroit:20100221T130000
SUMMARY:Performance:Storytelling for Kids
DESCRIPTION:
UID:2270-918774@events.umich.edu
URL:https://events.umich.edu/event/2270
CLASS:PUBLIC
STATUS:CONFIRMED
CATEGORIES:music
LOCATION:
CONTACT:
END:VEVENT
BEGIN:VEVENT
DTSTAMP:20100221T030003
DTSTART;TZID=America/Detroit:20100221T140000
SUMMARY:Other:All s Well That Ends Well
DESCRIPTION:Dept. of Musical Theatre Studio Production. Directed by Malcolm Tulip.  By William Shakespeare.   League Ticket Office  734-764-2538.
UID:1519-915269@events.umich.edu
URL:https://events.umich.edu/event/1519
CLASS:PUBLIC
STATUS:CONFIRMED
CATEGORIES:theater,music
LOCATION:Walgreen Drama Center - Arthur Miller Theatre
CONTACT:
END:VEVENT
BEGIN:VEVENT
DTSTAMP:20100221T030003
DTSTART;TZID=America/Detroit:20100221T140000
SUMMARY:Other:Masters Recital: Jacqueline Wright\, flute
DESCRIPTION:PROGRAM:  Gaubert - Sonata in A Major\; Richards - Tomorrow in Australia\; Genzmer - Sonata No. 2 in E Minor\; C.P.E. Bach - Sonata in D Major\, Wq. 83\; Villa-Lobos - Bachianas Brasileiras No. 6\, for flute and bassoon\; Taffanel - Fantasie sur Le Freyschutz
UID:1552-916156@events.umich.edu
URL:https://events.umich.edu/event/1552
CLASS:PUBLIC
STATUS:CONFIRMED
CATEGORIES:music
LOCATION:Walgreen Drama Center - Stamps Auditorium
CONTACT:
END:VEVENT
BEGIN:VEVENT
DTSTAMP:20100221T030003
DTSTART;TZID=America/Detroit:20100221T140000
SUMMARY:Other:Our Town
DESCRIPTION:Dept. of Theatre & Drama  by Thorton Wilder. Directed by Jerry Schwiebert.  The timeless and quintessential American play on life\, love\, and death.   Tickets available at the League Ticket Office 734-764-2538.
UID:1169-914013@events.umich.edu
URL:https://events.umich.edu/event/1169
CLASS:PUBLIC
STATUS:CONFIRMED
CATEGORIES:music,theater
LOCATION:Lydia Mendelssohn Theatre -  
CONTACT:
END:VEVENT
BEGIN:VEVENT
DTSTAMP:20101111T175721
DTSTART;TZID=America/Detroit:20100221T140000
DTEND;TZID=America/Detroit:20100221T153000
SUMMARY:Lecture / Discussion:Sharing a Personal View of the Bible
DESCRIPTION:For two decades\, Curator Kathryn Beam has presented a Bible exhibit at the  University Library. This is a chance to hear her personal memories of how it came to  be and how enjoyable the process has been for her. Come help celebrate this gift  Kathy has given to so many people over such a period of time. In conjunction with  the exhibit: “A History of the Bible from Ancient Papyri to King James” in the  Audubon Room\, Hatcher Library\, through March 7.
UID:1366-915011@events.umich.edu
URL:https://events.umich.edu/event/1366
CLASS:PUBLIC
STATUS:CONFIRMED
CATEGORIES:
LOCATION:Hatcher Graduate Library - Room 100/Gallery
CONTACT:
END:VEVENT
BEGIN:VEVENT
DTSTAMP:20100221T030003
DTSTART;TZID=America/Detroit:20100221T170000
SUMMARY:Other:Beethoven Piano Concerti - Concert 2
DESCRIPTION:Students of Christopher Harding and Kenneth Kiesler. Beethoven: Concerto for Piano and Orchestra No. 3 in C Minor\, Op. 37 (Gjergji Gaqi\, piano\; Oriol Sans\, conductor). Triple Concerto for Piano\, Violin\, Cello and Orchestra in C Major\, Op. 56 (Aya Yamamoto\, piano\; Matthew Leslie\, violin\; James Jaffe\, cello\; Avlana Eisenberg\, conductor)
UID:84-909910@events.umich.edu
URL:https://events.umich.edu/event/84
CLASS:PUBLIC
STATUS:CONFIRMED
CATEGORIES:music
LOCATION:Earl V. Moore Building - Britton Recital Hall
CONTACT:
END:VEVENT
BEGIN:VEVENT
DTSTAMP:20100221T030003
DTSTART;TZID=America/Detroit:20100221T170000
SUMMARY:Other:Faculty Recital: Stephen Shipps\, violin and Paul Schoenfield\, piano
DESCRIPTION:A program of Czech music.
UID:2840-920610@events.umich.edu
URL:https://events.umich.edu/event/2840
CLASS:PUBLIC
STATUS:CONFIRMED
CATEGORIES:music
LOCATION:Walgreen Drama Center - Stamps Auditorium
CONTACT:
END:VEVENT
BEGIN:VEVENT
DTSTAMP:20100221T030003
DTSTART;TZID=America/Detroit:20100221T170000
SUMMARY:Other:Studio Recital:  The Beethoven Piano Concerti
DESCRIPTION:Students of Christopher Harding and Kenneth KeislerPROGRAM: Piano Concerto No. 3 in C Minor\, Op. 37\; Concerto in C Major for Piano\, Violin
UID:1878-916716@events.umich.edu
URL:https://events.umich.edu/event/1878
CLASS:PUBLIC
STATUS:CONFIRMED
CATEGORIES:music
LOCATION:Earl V. Moore Building - Britton Recital Hall
CONTACT:
END:VEVENT
BEGIN:VEVENT
DTSTAMP:20101111T175832
DTSTART;TZID=America/Detroit:20100221T190000
SUMMARY:Performance:Pangaea: One Land\, One People
DESCRIPTION:A multicultural performing arts show.
UID:2421-919807@events.umich.edu
URL:https://events.umich.edu/event/2421
CLASS:PUBLIC
STATUS:CONFIRMED
CATEGORIES:visual arts,dance,multicultural,music,theater
LOCATION:Power Center for the Performing Arts
CONTACT:
END:VEVENT
BEGIN:VEVENT
DTSTAMP:20100221T030003
DTSTART;TZID=America/Detroit:20100221T190000
SUMMARY:Other:STMD at UMMA:  Dance on Camera Festival
DESCRIPTION:\"The Dance on Camera Festival is one of those NY stealth events\, prized by its devotees...where the allusiveness of dance meets the intimacy of film to create a new kind of magic.\" (John Rockwell\, The New York Times) The festival comes to Ann Arbor directly from Dance Films Association's 38th Dance On Camera Festival at Lincoln Center's Walter Reade Theater\, NYC.
UID:1397-914343@events.umich.edu
URL:https://events.umich.edu/event/1397
CLASS:PUBLIC
STATUS:CONFIRMED
CATEGORIES:dance,film,music
LOCATION:Museum of Art - Helmut Stern Auditorium
CONTACT:
END:VEVENT
BEGIN:VEVENT
DTSTAMP:20101111T175834
DTSTART;TZID=America/Detroit:20100221T193000
SUMMARY:Performance:Blackthorn: American Cancer Society Cancer Action Network Fundraiser
DESCRIPTION:Blackthorn has been offering their uniquely rich tapestry of Celtic music around the  Great Lakes since 1984. Traditional songs of emigration\, sea shanties\, lively jigs  and reels\, and haunting ancient airs combine with some of Ireland's best  contemporary songs for a musical experience that evokes the beauty\, history\, and  legend of Ireland and its people. Each member of the band plays multiple  instruments\, including wooden flute\, accordion\, tin whistle\, five-string banjo\, cittern\,  bones and more. These instruments complement the lead vocal of Belfast native  Richard McMullan and the band's tight four-part harmonies. Based in Detroit\,  Blackthorn can usually be found at O'Mara's Pub and Restaurant in Berkley\, and  their appearances on WJR's St. Patrick's Day show are a Michigan Celtic tradition.  This evening they lend their talents in support of ACS CAN-- the American Cancer  Society Cancer Action Network. ACS CAN is the nonprofit\, nonpartisan advocacy  affiliate of the American Cancer Society that holds lawmakers accountable for their  words and their actions. ACS CAN asks that our leaders not only talk about fighting  cancer\, but take real steps toward decreasing the number of people suffering and  dying from cancer.
UID:2453-919972@events.umich.edu
URL:https://events.umich.edu/event/2453
CLASS:PUBLIC
STATUS:CONFIRMED
CATEGORIES:music
LOCATION:
CONTACT:
END:VEVENT
BEGIN:VEVENT
DTSTAMP:20100221T030003
DTSTART;TZID=America/Detroit:20100221T200000
SUMMARY:Other:Pre-candidate Recital:  MiHyun Kim
DESCRIPTION:PROGRAM:  Bach - Chaconne from Partita for solo violin\, No. 2 in D Minor BWV 1004\; Brahms - 7 Fantasies\, Op.116\; Sonata No.3 in B Minor\, Op.58
UID:2962-921854@events.umich.edu
URL:https://events.umich.edu/event/2962
CLASS:PUBLIC
STATUS:CONFIRMED
CATEGORIES:music
LOCATION:Walgreen Drama Center - Stamps Auditorium
CONTACT:
END:VEVENT
BEGIN:VEVENT
DTSTAMP:20100221T030003
DTSTART;TZID=America/Detroit:20100221T200000
SUMMARY:Other:Student String Quartet Recital
DESCRIPTION:
UID:2344-918945@events.umich.edu
URL:https://events.umich.edu/event/2344
CLASS:PUBLIC
STATUS:CONFIRMED
CATEGORIES:music
LOCATION:Earl V. Moore Building - Britton Recital Hall
CONTACT:
END:VEVENT
END:VCALENDAR