BEGIN:VCALENDAR
VERSION:2.0
PRODID:-//UM//UM*Events//EN
CALSCALE:GREGORIAN
BEGIN:VTIMEZONE
TZID:America/Detroit
TZURL:http://tzurl.org/zoneinfo/America/Detroit
X-LIC-LOCATION:America/Detroit
BEGIN:DAYLIGHT
TZOFFSETFROM:-0500
TZOFFSETTO:-0400
TZNAME:EDT
DTSTART:20070311T020000
RRULE:FREQ=YEARLY;BYMONTH=3;BYDAY=2SU
END:DAYLIGHT
BEGIN:STANDARD
TZOFFSETFROM:-0400
TZOFFSETTO:-0500
TZNAME:EST
DTSTART:20071104T020000
RRULE:FREQ=YEARLY;BYMONTH=11;BYDAY=1SU
END:STANDARD
END:VTIMEZONE
BEGIN:VEVENT
DTSTAMP:20101111T175629
DTSTART;TZID=America/Detroit:20100222T000000
SUMMARY:Exhibition:Exhibit of Recent Aquisitions
DESCRIPTION:This exhibit includes an extraordinarily wide variety of primary source material collected to support current and  future research.  Among the items on display are:  a watercolor “portrait” of a railroad bridge built in Prague in  1850\, original artwork by local artist Tom Pohrt for a children's book written by Justice Sandra Day O'Connor\, a  diary and photographs from a female UM student who hitchhiked from Ann Arbor to San Francisco in 1923\, a  Spanish text from 1693 for those studying to be soldiers\, and Dante's Divine Comedy with illustrations by  Salvador Dali.  \n\nNew archival collections with samples on display include the papers of film director Robert Altman and writers  Nicholas Delbanco and Richard Tillinghast\, as well as four separate women involved in radical causes such as  Clarence Darrow's 1907 defense of union leaders accused of murder and the ecological costs of technology.   This is the first opportunity for the public to see materials from the Altman Collection\, which is estimated to be  1\,000 linear feet in size and is now being sorted and processed for use.
UID:748-911438@events.umich.edu
URL:https://events.umich.edu/event/748
CLASS:PUBLIC
STATUS:CONFIRMED
CATEGORIES:visual arts
LOCATION:Hatcher Graduate Library - 7th Floor Special Collections Library
CONTACT:
END:VEVENT
BEGIN:VEVENT
DTSTAMP:20101111T175620
DTSTART;TZID=America/Detroit:20100222T000000
SUMMARY:Exhibition:Permanent Exhibits at the Exhibit Museum of Natural History
DESCRIPTION:The Hall of Evolution houses Michigan's largest display of prehistoric life. More than 600 million years of life on Earth are traced through fossils\, models and dioramas. The Michigan Wildlife Gallery has a large collection of native Great Lakes birds\, mammals\, reptiles\, and amphibians\, with taxidermy mounts\, habitat scenes\, and the largest mastodon trackway on display in the world. There are also displays about some of the environmental problems faced in this region today. The Anthropology Displays feature artifacts from human cultures around the world. The Geology Displays on the fourth floor offer a large selection of rocks\, minerals and gems. These displays are updated periodically. For more information go to www.lsa.umich.edu/exhibitmuseum/exhibits/permexhibits or call 734-764-0480.
UID:452-910599@events.umich.edu
URL:https://events.umich.edu/event/452
CLASS:PUBLIC
STATUS:CONFIRMED
CATEGORIES:
LOCATION:Ruthven Museums Building
CONTACT:
END:VEVENT
BEGIN:VEVENT
DTSTAMP:20101111T175759
DTSTART;TZID=America/Detroit:20100222T080000
DTEND;TZID=America/Detroit:20100222T170000
SUMMARY:Exhibition:History of Dentistry exhibits at the Sindecuse Museum of Dentistry
DESCRIPTION:Exhibits at the Sindecuse Museum of Dentistry include Dental Operatories of the 1860s to 1930s\, St. Apollonia-Patron Saint of Dentistry and more. Call 763-0767 or go to www.dent.umich.edu/museum for more information.
UID:3856-917706@events.umich.edu
URL:https://events.umich.edu/event/3856
CLASS:PUBLIC
STATUS:CONFIRMED
CATEGORIES:
LOCATION:Dental & W.K. Kellogg Institute
CONTACT:
END:VEVENT
BEGIN:VEVENT
DTSTAMP:20100111T160124
DTSTART;TZID=America/Detroit:20100222T080000
SUMMARY:Exhibition:Their Journey: Vietnamese in Michigan
DESCRIPTION:Imagine chaotically and permanently leaving your homeland for another country  and a completely different life! This exhibit includes photos from Vietnam and  Grand Rapids\, MI\, along with political\, cultural\, and personal perspectives of the  journey of Vietnamese immigrants to Michigan following the Vietnam War. It  augments the Great Michigan Read\, the Michigan Humanities Council's statewide  reading program\, and provides additional historical context to its book  selection\, \"Stealing Buddha's Dinner.\"\n\n\"Stealing Buddha's Dinner\" is a memoir chronicling author Bich Minh Nguyen's  migration from Vietnam in 1975 and her coming of age in Grand Rapids in the  1980s. Along the way\, she struggles to construct her own cultural identity from a  menagerie of uniquely American influences.\n\nThe University Library is one of only six sites chosen to host this exhibit.\n\nAccessible during library hours\; see http://www.lib.umich.edu/hatcher-graduate- library
UID:2556-920179@events.umich.edu
URL:https://events.umich.edu/event/2556
CLASS:PUBLIC
STATUS:CONFIRMED
CATEGORIES:multicultural
LOCATION:Hatcher Graduate Library - Room 100/Gallery
CONTACT:
END:VEVENT
BEGIN:VEVENT
DTSTAMP:20100329T161307
DTSTART;TZID=America/Detroit:20100222T083000
DTEND;TZID=America/Detroit:20100222T190000
SUMMARY:Exhibition:A History of the Bible from Ancient Papyri to King James
DESCRIPTION:This exhibit\, from the Special Collections Library\, shows a path of documents that  led to the creation of the 1611 King James Version of the Bible – from ancient  Egyptian manuscripts on papyrus to Medieval manuscripts to the printed book.\n\nThe earliest documents on display are Egyptian papyri\, including examples of a  census record from the year 119 and the oldest known copy of part of the New  Testament. Medieval manuscripts document the preservation of the text until the  invention of movable type printing by Gutenberg around 1450. The early printed  Bibles include versions in Latin and Greek\, and several that show the struggles  among various political factions and church reformers to control the translating of  the Scriptures into the language of the people. See the King James Bible of 1611  that became the accepted standard.\n\nFor Audubon Room hours\, see https://www.lib.umich.edu/audubon-room
UID:2220-918629@events.umich.edu
URL:https://events.umich.edu/event/2220
CLASS:PUBLIC
STATUS:CONFIRMED
CATEGORIES:visual arts
LOCATION:Hatcher Graduate Library - Audubon Room/First Floor
CONTACT:
END:VEVENT
BEGIN:VEVENT
DTSTAMP:20101111T175822
DTSTART;TZID=America/Detroit:20100222T090000
DTEND;TZID=America/Detroit:20100222T170000
SUMMARY:Exhibition:Exhibit: Santu Mofokeng's Chasing Shadows
DESCRIPTION:Santu Mofokeng\, one of South Africa's most prominent photographers\, began his  work as a documentarian of the anti-Apartheid struggle. Eventually deciding to  leave the field of straightforward photojournalism\, he focused instead on isolating  the simple gestures of everyday life in South African townships.  His work explores  landscape imbued with memory\, loss\, and spirituality\, and forces us to examine  any preconceived notion we have regarding exact locations of faith\, identity\, or  community. The photographs serve to “reclaim landscape\,” examining themes of  ownership\, and the relationship between the land\, power\, and money.  In his  extraordinary series Chasing Shadows\, displaced people reclaim their spirituality  and sustenance even in the midst of relentless transition.  His most recent urban  landscapes go beyond social and political commentary\, meditating on the profound  absurdity of living.  Billboards cruelly highlight the impoverishment of the citizenry  they importune.\n\nMofokeng has been the recipient of numerous awards.  In 1991\, he won the Ernest  Cole Scholarship to study at the International Center of Photography in New York.   He was also awarded the first Mother Jones Award for Africa in 1992\, and more  recently the Kunstlerhaus Worpswede Fellowship and DAAD Fellowship\, both in  Germany\, and was the Prince Claus Laureate for Visual Arts in 2009.
UID:2510-919214@events.umich.edu
URL:https://events.umich.edu/event/2510
CLASS:PUBLIC
STATUS:CONFIRMED
CATEGORIES:visual arts,multicultural
LOCATION:202 S. Thayer - #1010
CONTACT:
END:VEVENT
BEGIN:VEVENT
DTSTAMP:20090722T143534
DTSTART;TZID=America/Detroit:20100222T090000
DTEND;TZID=America/Detroit:20100222T170000
SUMMARY:Exhibition:Ida: Darwinius masillae
DESCRIPTION:\"Ida\,\" a new exhibit in the Exhibit Museum's Rotunda\, displays a high-resolution cast of an extremely rare  fossil discovered in 1983 near Messel\, Germany\, but only recently made available for study. The fossil has  proven to be a “link” between the prosimian and simian (\"anthropoid\") primate lineages. It has \"advanced\"  front teeth (incisors and canines) and second toes like those of monkeys\, and is broadly representative of what  human primate ancestors may have looked like during the Eocene epoch 47 million years ago.     Ida (prounded \"eeda\") is named after after the daughter of Dr JÃ¸rn Hurum\, the Norwegian vertebrate  paleontologist who secured one section of the fossil from an anonymous owner\, and led the research. Ida was  about eight months old\, or the equivalent of a six-year-old human.     Publication of a paper on the discovery was accompanied by a book\, The Link: Uncovering Our Earliest  Ancestors by Colin Tudge\, and a documentary shown on the History Channel (US)\, BBC One (UK)\,and various  stations in Germany and Norway.     U-M paleontologist Philip Gingerich and U-M anthropologist B. Holly Smith were two members of the \"dream  team\" invited to study Ida. The exhibit will be on display through May 2010.
UID:2124-918234@events.umich.edu
URL:https://events.umich.edu/event/2124
CLASS:PUBLIC
STATUS:CONFIRMED
CATEGORIES:welcome week,multicultural,visual arts
LOCATION:
CONTACT:
END:VEVENT
BEGIN:VEVENT
DTSTAMP:20101111T175600
DTSTART;TZID=America/Detroit:20100222T100000
DTEND;TZID=America/Detroit:20100222T170000
SUMMARY:Exhibition:Stearns Collection of Music
DESCRIPTION:The Stearns Collection at the School of Music\, Theatre & Dance is one of six major collections of musical instruments in North America. The 2\,500-piece collection is internationally known and is a resource for musical and cultural education.
UID:3790-909222@events.umich.edu
URL:https://events.umich.edu/event/3790
CLASS:PUBLIC
STATUS:CONFIRMED
CATEGORIES:
LOCATION:Earl V. Moore Building
CONTACT:
END:VEVENT
BEGIN:VEVENT
DTSTAMP:20101111T175611
DTSTART;TZID=America/Detroit:20100222T160000
DTEND;TZID=America/Detroit:20100222T171500
SUMMARY:Workshop / Seminar:\"International Intellectual Property Law: A View from the World Intellectual Property Organization (WIPO)\"
DESCRIPTION:Speaker:  Edward Kwakwa\, Legal Counsel\, World Intellectual Property Organization  (WIPO)\n\nThe International Law Workshop introduces today's most debated issues in  international and comparative law.  Speakers will talk for 25 minutes\, followed by  discussion and questions.
UID:108-909988@events.umich.edu
URL:https://events.umich.edu/event/108
CLASS:PUBLIC
STATUS:CONFIRMED
CATEGORIES:
LOCATION:Hutchins Hall - 116
CONTACT:
END:VEVENT
BEGIN:VEVENT
DTSTAMP:20100201T130608
DTSTART;TZID=America/Detroit:20100222T160000
DTEND;TZID=America/Detroit:20100222T173000
SUMMARY:Lecture / Discussion:\"The Emerging Revolution in Emissions Trading Policy\"
DESCRIPTION:Science\, Technology\, and Public Policy (STPP) Winter 2010 Lecture Series \"The Emerging Revolution in Emissions Trading Policy\"\n\nSpeaker: Leigh Raymond\, Associate Professor of Political Science\, Purdue University and Associate Director of the Purdue Climate Change Research Center\n\nCommentator: Dennis Assanis\, Jon R. and Beverly S. Holt Professor of Engineering\, Mechanical Engineering Department and Director of the Michigan Memorial Phoenix Energy Institute\n\nDate: Monday\, 22 February 4:00-5:30 pm \n\nLocation: 1110 Weill Hall (Betty Ford Classroom)\, 735 S. State St.\, Gerald R. Ford School of Public Policy\n\nSponsored by The Herbert H. and Grace A. Dow Foundation  Co-Sponsored by the University of Michigan Graham Environmental Sustainability Institute and the University of Michigan School of Natural Resources and Environment\n\nABSTRACT:  Emissions trading policies initially relied on “squatter's rights” principles granting emissions allowances to existing polluters for free. Recently\, however\, policy designers have largely abandoned this approach\, requiring polluters to buy allowances from the public through auctions. Given the high financial stakes\, this is a momentous shift. Given how skeptical experts and decision makers have been of the political viability of allowance auctions\, and the opposition of powerful economic interests\, it is also a remarkable political development. This presentation will document the surprising emergence of a new paradigm of public resource ownership\, as well as offering some thoughts on why this paradigm suddenly gained political traction. The main argument is that the linking of long-standing efficiency-based justifications for auctions to widely shared norms of public ownership and entitlement finally made auctions politically feasible\, and should make some form of public ownership more politically durable going forward. At the same time\, the presentation will also explore an ongoing tension between two competing visions of public ownership within this new allocation paradigm. Under one conception\, a more egalitarian norm of ownership mandates equal shares for all citizens. Under the alternative\, public ownership entails greater discretion for elected representatives\, who may use auction revenue for purposes they determine are in the best interests of the public. How this tension will be resolved remains a vital question for future emissions trading policies\, even within a new paradigm of public ownership. LEIGH RAYMOND is Associate Professor of Political Science at Purdue University and a founding member and Associate Director of the Purdue Climate Change Research Center. He received his M.S. and Ph.D. degrees in Environmental Science\, Policy\, and Management from U.C. Berkeley as well as a B.A. in Philosophy from Yale University. Dr. Raymond has published articles on environmental policy in more than a dozen scholarly journals\, as well as his 2003 book Private Rights in Public Resources (Resources for the Future Press). His most recent work on emissions trading is a chapter on “The Emerging Revolution in Emissions Trading” for a forthcoming (2010) book from Brookings Press: Greenhouse Governance: Addressing American Climate Change Policy.  Dr. Raymond has given invited talks on emissions trading before numerous audiences\, including the Indiana Center for Coal Technology Research\, the Harvard Electricity Policy Group\, the MIT Center for Energy and Environmental Policy Research\, and the Woodrow Wilson Center in Washington\, D.C.\n\nFor more information\, contact the Program in Science\, Technology\, and Public Policy through stpp.fordschool.umich.edu or email jbisanz@umich.edu
UID:678-912337@events.umich.edu
URL:https://events.umich.edu/event/678
CLASS:PUBLIC
STATUS:CONFIRMED
CATEGORIES:
LOCATION:Weill Hall (Ford School) - 1110
CONTACT:
END:VEVENT
BEGIN:VEVENT
DTSTAMP:20100122T115717
DTSTART;TZID=America/Detroit:20100222T173000
DTEND;TZID=America/Detroit:20100222T190000
SUMMARY:Lecture / Discussion:The Changing Environment of Northern Michigan: A Century of Science and Nature at the University of Michigan Biological Station
DESCRIPTION:The editors and writers of \"The Changing Environment of Northern Michigan\" will talk  about the way plants\, animals\, and the landscape in the state have changed since  the University of Michigan Biological Station\, affectionately known as “bug camp\,”  was founded 100 years ago (and even before then\, since colonial times). A book  signing and Q&A will follow.\n\nLike the station itself\, the book provides a solid background for better appreciating  the relationships among living and nonliving parts of northern Michigan\, for anyone  interested in exploring the region's forests\, fields\, and wetlands\; wading or paddling  down its rivers\; or swimming or floating across its lakes.
UID:2172-918533@events.umich.edu
URL:https://events.umich.edu/event/2172
CLASS:PUBLIC
STATUS:CONFIRMED
CATEGORIES:
LOCATION:Hatcher Graduate Library - Gallery in Room 100
CONTACT:
END:VEVENT
BEGIN:VEVENT
DTSTAMP:20101111T175621
DTSTART;TZID=America/Detroit:20100222T180000
DTEND;TZID=America/Detroit:20100222T200000
SUMMARY:Other:Free and Anonymous HIV Testing
DESCRIPTION:Free and Anonymous HIV Testing every other Monday\, 6:00p-8:00p Spectrum  Center\, 3rd Floor Michigan Union sponsored by HARC\, the HIV/AIDS Resource  Center. Free and Anonymous\, needle-free\, results in 7-10 days.
UID:464-910893@events.umich.edu
URL:https://events.umich.edu/event/464
CLASS:PUBLIC
STATUS:CONFIRMED
CATEGORIES:
LOCATION:Michigan Union - 3200
CONTACT:
END:VEVENT
BEGIN:VEVENT
DTSTAMP:20101111T175634
DTSTART;TZID=America/Detroit:20100222T200000
SUMMARY:Performance:Buckwheat Zydeco
DESCRIPTION:
UID:519-911733@events.umich.edu
URL:https://events.umich.edu/event/519
CLASS:PUBLIC
STATUS:CONFIRMED
CATEGORIES:music
LOCATION:
CONTACT:
END:VEVENT
BEGIN:VEVENT
DTSTAMP:20100929T110405
DTSTART;TZID=America/Detroit:20100222T200000
DTEND;TZID=America/Detroit:20100222T220000
SUMMARY:Meeting:Gender Explorers
DESCRIPTION:A social and support group for transgender\, transsexual\, genderqueer\, TG-questioning people and those who transgress gender binaries.\n\nThis safe\, open\, and affirming space includes discussion\, fellowship\, and significant others.\n\nThe group meets on the 2nd and 4th Monday of each month in the Spectrum Center.  To participate and to learn more\, email PJ at pajeho@umich.edu
UID:2680-920392@events.umich.edu
URL:https://events.umich.edu/event/2680
CLASS:PUBLIC
STATUS:CONFIRMED
CATEGORIES:multicultural,social justice,spectrumcenter
LOCATION:Michigan Union - 3200
CONTACT:
END:VEVENT
BEGIN:VEVENT
DTSTAMP:20101111T175613
DTSTART;TZID=America/Detroit:20100222T200000
DTEND;TZID=America/Detroit:20100222T213000
SUMMARY:Lecture / Discussion:SCANDALOUS: Airport Security--How Far is Too Far?
DESCRIPTION:Racial profiling\, full body scanners\, terrorist watch lists: in airport security\, how far is too far? The undergraduate chapter of the ACLU is sponsoring a panel discussion on the new airport security measures implemented after the attempted Christmas Day attack. Come join us to learn about how airport security impacts your individual rights.\n\nPanelists: * Ihsan Alkhatib\, attorney\, American Arab Anti-Discrimination Committee * Don Blumenthal\, attorney & consultant\, Global Cyber Risk\, LLC\, Washington\, D.C.\, & lecturer\, University of Michigan School of Information * Art Kosatka\, security specialist and founder\, TranSecure\, Washington\, D.C. (via Skype) * Jessie Rossman\, staff attorney\, ACLU of Michigan
UID:198-910123@events.umich.edu
URL:https://events.umich.edu/event/198
CLASS:PUBLIC
STATUS:CONFIRMED
CATEGORIES:
LOCATION:Michigan Union - Anderson A
CONTACT:
END:VEVENT
BEGIN:VEVENT
DTSTAMP:20100222T030003
DTSTART;TZID=America/Detroit:20100222T200000
SUMMARY:Other:Senior Recital:  Andrew Kotarba\, clarinet
DESCRIPTION:PROGRAM:  Krommer - Concerto in E-flat\; Ran - Three Scenes for Clarinet\; Kotarba -  Three Solos\; Ben-Amots - \"I\, Jerusalem...\"\; Various Composers- Dixieland Suite
UID:1721-916529@events.umich.edu
URL:https://events.umich.edu/event/1721
CLASS:PUBLIC
STATUS:CONFIRMED
CATEGORIES:music
LOCATION:Stearns Building - Cady Room
CONTACT:
END:VEVENT
END:VCALENDAR