BEGIN:VCALENDAR
VERSION:2.0
PRODID:-//UM//UM*Events//EN
CALSCALE:GREGORIAN
BEGIN:VTIMEZONE
TZID:America/Detroit
TZURL:http://tzurl.org/zoneinfo/America/Detroit
X-LIC-LOCATION:America/Detroit
BEGIN:DAYLIGHT
TZOFFSETFROM:-0500
TZOFFSETTO:-0400
TZNAME:EDT
DTSTART:20070311T020000
RRULE:FREQ=YEARLY;BYMONTH=3;BYDAY=2SU
END:DAYLIGHT
BEGIN:STANDARD
TZOFFSETFROM:-0400
TZOFFSETTO:-0500
TZNAME:EST
DTSTART:20071104T020000
RRULE:FREQ=YEARLY;BYMONTH=11;BYDAY=1SU
END:STANDARD
END:VTIMEZONE
BEGIN:VEVENT
DTSTAMP:20101111T175629
DTSTART;TZID=America/Detroit:20100225T000000
SUMMARY:Exhibition:Exhibit of Recent Aquisitions
DESCRIPTION:This exhibit includes an extraordinarily wide variety of primary source material collected to support current and  future research.  Among the items on display are:  a watercolor “portrait” of a railroad bridge built in Prague in  1850\, original artwork by local artist Tom Pohrt for a children's book written by Justice Sandra Day O'Connor\, a  diary and photographs from a female UM student who hitchhiked from Ann Arbor to San Francisco in 1923\, a  Spanish text from 1693 for those studying to be soldiers\, and Dante's Divine Comedy with illustrations by  Salvador Dali.  \n\nNew archival collections with samples on display include the papers of film director Robert Altman and writers  Nicholas Delbanco and Richard Tillinghast\, as well as four separate women involved in radical causes such as  Clarence Darrow's 1907 defense of union leaders accused of murder and the ecological costs of technology.   This is the first opportunity for the public to see materials from the Altman Collection\, which is estimated to be  1\,000 linear feet in size and is now being sorted and processed for use.
UID:748-911441@events.umich.edu
URL:https://events.umich.edu/event/748
CLASS:PUBLIC
STATUS:CONFIRMED
CATEGORIES:visual arts
LOCATION:Hatcher Graduate Library - 7th Floor Special Collections Library
CONTACT:
END:VEVENT
BEGIN:VEVENT
DTSTAMP:20101111T175620
DTSTART;TZID=America/Detroit:20100225T000000
SUMMARY:Exhibition:Permanent Exhibits at the Exhibit Museum of Natural History
DESCRIPTION:The Hall of Evolution houses Michigan's largest display of prehistoric life. More than 600 million years of life on Earth are traced through fossils\, models and dioramas. The Michigan Wildlife Gallery has a large collection of native Great Lakes birds\, mammals\, reptiles\, and amphibians\, with taxidermy mounts\, habitat scenes\, and the largest mastodon trackway on display in the world. There are also displays about some of the environmental problems faced in this region today. The Anthropology Displays feature artifacts from human cultures around the world. The Geology Displays on the fourth floor offer a large selection of rocks\, minerals and gems. These displays are updated periodically. For more information go to www.lsa.umich.edu/exhibitmuseum/exhibits/permexhibits or call 734-764-0480.
UID:452-910602@events.umich.edu
URL:https://events.umich.edu/event/452
CLASS:PUBLIC
STATUS:CONFIRMED
CATEGORIES:
LOCATION:Ruthven Museums Building
CONTACT:
END:VEVENT
BEGIN:VEVENT
DTSTAMP:20101111T175759
DTSTART;TZID=America/Detroit:20100225T080000
DTEND;TZID=America/Detroit:20100225T170000
SUMMARY:Exhibition:History of Dentistry exhibits at the Sindecuse Museum of Dentistry
DESCRIPTION:Exhibits at the Sindecuse Museum of Dentistry include Dental Operatories of the 1860s to 1930s\, St. Apollonia-Patron Saint of Dentistry and more. Call 763-0767 or go to www.dent.umich.edu/museum for more information.
UID:3856-917709@events.umich.edu
URL:https://events.umich.edu/event/3856
CLASS:PUBLIC
STATUS:CONFIRMED
CATEGORIES:
LOCATION:Dental & W.K. Kellogg Institute
CONTACT:
END:VEVENT
BEGIN:VEVENT
DTSTAMP:20100329T161307
DTSTART;TZID=America/Detroit:20100225T083000
DTEND;TZID=America/Detroit:20100225T190000
SUMMARY:Exhibition:A History of the Bible from Ancient Papyri to King James
DESCRIPTION:This exhibit\, from the Special Collections Library\, shows a path of documents that  led to the creation of the 1611 King James Version of the Bible – from ancient  Egyptian manuscripts on papyrus to Medieval manuscripts to the printed book.\n\nThe earliest documents on display are Egyptian papyri\, including examples of a  census record from the year 119 and the oldest known copy of part of the New  Testament. Medieval manuscripts document the preservation of the text until the  invention of movable type printing by Gutenberg around 1450. The early printed  Bibles include versions in Latin and Greek\, and several that show the struggles  among various political factions and church reformers to control the translating of  the Scriptures into the language of the people. See the King James Bible of 1611  that became the accepted standard.\n\nFor Audubon Room hours\, see https://www.lib.umich.edu/audubon-room
UID:2220-918632@events.umich.edu
URL:https://events.umich.edu/event/2220
CLASS:PUBLIC
STATUS:CONFIRMED
CATEGORIES:visual arts
LOCATION:Hatcher Graduate Library - Audubon Room/First Floor
CONTACT:
END:VEVENT
BEGIN:VEVENT
DTSTAMP:20101111T175822
DTSTART;TZID=America/Detroit:20100225T090000
DTEND;TZID=America/Detroit:20100225T170000
SUMMARY:Exhibition:Exhibit: Santu Mofokeng's Chasing Shadows
DESCRIPTION:Santu Mofokeng\, one of South Africa's most prominent photographers\, began his  work as a documentarian of the anti-Apartheid struggle. Eventually deciding to  leave the field of straightforward photojournalism\, he focused instead on isolating  the simple gestures of everyday life in South African townships.  His work explores  landscape imbued with memory\, loss\, and spirituality\, and forces us to examine  any preconceived notion we have regarding exact locations of faith\, identity\, or  community. The photographs serve to “reclaim landscape\,” examining themes of  ownership\, and the relationship between the land\, power\, and money.  In his  extraordinary series Chasing Shadows\, displaced people reclaim their spirituality  and sustenance even in the midst of relentless transition.  His most recent urban  landscapes go beyond social and political commentary\, meditating on the profound  absurdity of living.  Billboards cruelly highlight the impoverishment of the citizenry  they importune.\n\nMofokeng has been the recipient of numerous awards.  In 1991\, he won the Ernest  Cole Scholarship to study at the International Center of Photography in New York.   He was also awarded the first Mother Jones Award for Africa in 1992\, and more  recently the Kunstlerhaus Worpswede Fellowship and DAAD Fellowship\, both in  Germany\, and was the Prince Claus Laureate for Visual Arts in 2009.
UID:2510-919217@events.umich.edu
URL:https://events.umich.edu/event/2510
CLASS:PUBLIC
STATUS:CONFIRMED
CATEGORIES:visual arts,multicultural
LOCATION:202 S. Thayer - #1010
CONTACT:
END:VEVENT
BEGIN:VEVENT
DTSTAMP:20090722T143534
DTSTART;TZID=America/Detroit:20100225T090000
DTEND;TZID=America/Detroit:20100225T170000
SUMMARY:Exhibition:Ida: Darwinius masillae
DESCRIPTION:\"Ida\,\" a new exhibit in the Exhibit Museum's Rotunda\, displays a high-resolution cast of an extremely rare  fossil discovered in 1983 near Messel\, Germany\, but only recently made available for study. The fossil has  proven to be a “link” between the prosimian and simian (\"anthropoid\") primate lineages. It has \"advanced\"  front teeth (incisors and canines) and second toes like those of monkeys\, and is broadly representative of what  human primate ancestors may have looked like during the Eocene epoch 47 million years ago.     Ida (prounded \"eeda\") is named after after the daughter of Dr JÃ¸rn Hurum\, the Norwegian vertebrate  paleontologist who secured one section of the fossil from an anonymous owner\, and led the research. Ida was  about eight months old\, or the equivalent of a six-year-old human.     Publication of a paper on the discovery was accompanied by a book\, The Link: Uncovering Our Earliest  Ancestors by Colin Tudge\, and a documentary shown on the History Channel (US)\, BBC One (UK)\,and various  stations in Germany and Norway.     U-M paleontologist Philip Gingerich and U-M anthropologist B. Holly Smith were two members of the \"dream  team\" invited to study Ida. The exhibit will be on display through May 2010.
UID:2124-918237@events.umich.edu
URL:https://events.umich.edu/event/2124
CLASS:PUBLIC
STATUS:CONFIRMED
CATEGORIES:welcome week,visual arts,multicultural
LOCATION:
CONTACT:
END:VEVENT
BEGIN:VEVENT
DTSTAMP:20101111T175600
DTSTART;TZID=America/Detroit:20100225T100000
DTEND;TZID=America/Detroit:20100225T170000
SUMMARY:Exhibition:Stearns Collection of Music
DESCRIPTION:The Stearns Collection at the School of Music\, Theatre & Dance is one of six major collections of musical instruments in North America. The 2\,500-piece collection is internationally known and is a resource for musical and cultural education.
UID:3790-909225@events.umich.edu
URL:https://events.umich.edu/event/3790
CLASS:PUBLIC
STATUS:CONFIRMED
CATEGORIES:
LOCATION:Earl V. Moore Building
CONTACT:
END:VEVENT
BEGIN:VEVENT
DTSTAMP:20101111T175749
DTSTART;TZID=America/Detroit:20100225T100000
DTEND;TZID=America/Detroit:20100225T163000
SUMMARY:Other:The Healing Garden - Savor Nature's Restorative Powers
DESCRIPTION:This exhibit and display in the conservatory at Matthaei Botanical Gardens focuses  on the rejuvenating qualities of nature's scents\, colors\, and forms and on the  benefits of exercise and meditation. Interactive activities during the exhibit include  guided meditation\, aromatherapy station\, color and mood interpretation display\,  and meditative hikes. Also\, displays of bulbs and fresh-air plants. Cost inlcudes  admission to conservatory and above activities. Open Wednesday until 8 pm\; free  admission Wednesdays noon-8pm. Closed Mondays.
UID:1938-916768@events.umich.edu
URL:https://events.umich.edu/event/1938
CLASS:PUBLIC
STATUS:CONFIRMED
CATEGORIES:
LOCATION:
CONTACT:
END:VEVENT
BEGIN:VEVENT
DTSTAMP:20101111T175820
DTSTART;TZID=America/Detroit:20100225T110000
DTEND;TZID=America/Detroit:20100225T130000
SUMMARY:Performance:Beats N' Eats
DESCRIPTION:Enjoy the relaxing sounds of talented U-M student performers over lunch! Beats N' Eats takes place every Thursday from 11a-1p in either the Union MUG or League Underground. Interested in performance opportunities? Contact University Unions Arts & Programs at uuap@umich.edu or 734-763-3202.
UID:2470-919144@events.umich.edu
URL:https://events.umich.edu/event/2470
CLASS:PUBLIC
STATUS:CONFIRMED
CATEGORIES:music
LOCATION:Michigan Union - MUG
CONTACT:
END:VEVENT
BEGIN:VEVENT
DTSTAMP:20101111T175852
DTSTART;TZID=America/Detroit:20100225T120000
DTEND;TZID=America/Detroit:20100225T130000
SUMMARY:Lecture / Discussion:Playing War:
DESCRIPTION:Sabine Fruhstuck\, Professor\, East Asian Languages & Cultural Studies\, The  University of California\, Santa Barbara
UID:2673-920959@events.umich.edu
URL:https://events.umich.edu/event/2673
CLASS:PUBLIC
STATUS:CONFIRMED
CATEGORIES:multicultural
LOCATION:School of Social Work Building - 1636
CONTACT:
END:VEVENT
BEGIN:VEVENT
DTSTAMP:20101111T175749
DTSTART;TZID=America/Detroit:20100225T120000
SUMMARY:Lecture / Discussion:Torah for the Masses\, Books for Sale: Yiddish Bibles in Amsterdam
DESCRIPTION:The lecture tells the story of two Yiddish integral Bible translations\, both of which  were published in Amsterdam in 1678/9 and 1679. Initially working on one  translation project\, the two collaborating publishers quarreled and one of  them?Joseph Athias?decided to launch his own project. The ensuing competition  between the two led them to produce a book in a way that would justify their own  project while attempting to outdo the other. A book historical analysis of a series of  texts which were added to each of the editions exposes the particular background of  these Yiddish Bibles\, as well as the position of Yiddish within Ashkenazi culture in  the early modern period.  \n\nShlomo Berger is a professor of Yiddish culture at the University of Amsterdam. He  recently completed a book titled Producing Redemption in Amsterdam: Early  Modern Yiddish Books in Paratextual Perspective\, which is slated for publication  within the year.
UID:1949-916808@events.umich.edu
URL:https://events.umich.edu/event/1949
CLASS:PUBLIC
STATUS:CONFIRMED
CATEGORIES:
LOCATION:202 S. Thayer - 2022
CONTACT:
END:VEVENT
BEGIN:VEVENT
DTSTAMP:20091102T150050
DTSTART;TZID=America/Detroit:20100225T153000
DTEND;TZID=America/Detroit:20100225T173000
SUMMARY:Lecture / Discussion:Department of Astronomy Colloquia Series
DESCRIPTION:A weekly lecture series with Astronomy or Astrophysics related topics. Please see  department website for featured speaker and lecture topic. There will be a brief  reception with light refreshments preceding the lecture in room 845 Dennison from  3:30-4:00 pm.
UID:1689-915673@events.umich.edu
URL:https://events.umich.edu/event/1689
CLASS:PUBLIC
STATUS:CONFIRMED
CATEGORIES:
LOCATION:Weiser Hall - 807
CONTACT:
END:VEVENT
BEGIN:VEVENT
DTSTAMP:20101111T175802
DTSTART;TZID=America/Detroit:20100225T160000
DTEND;TZID=America/Detroit:20100225T173000
SUMMARY:Workshop / Seminar:Metropolitan Segregation and the Cycle of Unequal Opportunity
DESCRIPTION:Gary Orfield\, Ph.D.\, Professor of Education\, Law\, Political Science and Urban Planning and Co-director\, Civil Rights Project/Proyecto Derechos Civiles\, University of  California – Los Angeles will be presenting \"Metropolitan Segregation and the Cycle  of Unequal Opportunity\".
UID:1962-917949@events.umich.edu
URL:https://events.umich.edu/event/1962
CLASS:PUBLIC
STATUS:CONFIRMED
CATEGORIES:
LOCATION:School of Public Health Bldg I and Crossroads and Tower - 1655
CONTACT:
END:VEVENT
BEGIN:VEVENT
DTSTAMP:20100218T134922
DTSTART;TZID=America/Detroit:20100225T170000
DTEND;TZID=America/Detroit:20100225T183000
SUMMARY:Meeting:Spectrum Center for LGBTQ and Friends Staff/Faculty Social Hour
DESCRIPTION:All U-M staff and faculty are invited to join the staff of the Spectrum Center for Lesbian\, Gay\, Bisexual\, Transgender\, Queer and Friends Staff/Faculty Social Hour. The group meets at various restaurants on the third Thursday of each month from 5:15-6:30 p.m. for food\, drinks and socializing. This is a great way to meet and hang out with colleagues. For more information and to get on the group e-mail list\, contact Ariana Bostian-Kentes at abostian@umich.edu or 763- 4186.
UID:330-910377@events.umich.edu
URL:https://events.umich.edu/event/330
CLASS:PUBLIC
STATUS:CONFIRMED
CATEGORIES:
LOCATION:
CONTACT:
END:VEVENT
BEGIN:VEVENT
DTSTAMP:20101111T175643
DTSTART;TZID=America/Detroit:20100225T190000
DTEND;TZID=America/Detroit:20100225T210000
SUMMARY:Meeting:MGender Discussion Group
DESCRIPTION:MGender is a six-week dialogue/discussion group offered during the fall and winter  terms about the multiple realities and possibilities surrounding gender identity and  gender expression. Through the use of conversation\, experiential learning\, and  other forms of expression\, we will share\, explore and challenge notions of gender.  It is our goal to create a climate of support and understanding for all participants in  order to engage in a deeper exploration and understanding of gender identity and  gender expression. This dialogue intends to provide a space for the celebration and  recognition of various forms of gender identity and gender expression. The  dialogues will include exercises\, various opportunities for personal expression\, and  interactive discussions in order to explore the construct of gender. The maximum  number of participants is limited to twelve. Participants must pre-register for the  dialogues and are expected to attend all sessions. The dialogues will be closed to  only the participants who attend the first dialogue. Participation is open to students\,  staff\, faculty\, and community members. Participation will be free of cost and  voluntary. Ground rules and expectations to guide our interactions will be created at  the beginning of the first session.\n\nIf you are interested in participating in this program please contact Timothy  Corvidae at corvidae@umich.edu.
UID:820-912576@events.umich.edu
URL:https://events.umich.edu/event/820
CLASS:PUBLIC
STATUS:CONFIRMED
CATEGORIES:
LOCATION:Michigan Union - 3200
CONTACT:
END:VEVENT
BEGIN:VEVENT
DTSTAMP:20100225T030003
DTSTART;TZID=America/Detroit:20100225T200000
SUMMARY:Other:Faculty Recital:  Adam Unsworth\, horn
DESCRIPTION:with Yehonatan Berick (violin)\, John Ellis (piano)\, Anna-Maria Otamendi Sanchez (piano).  Music of David Sampson\, David Ballou\, Kirk Noruck and Gyorgy Ligeti.
UID:918-912697@events.umich.edu
URL:https://events.umich.edu/event/918
CLASS:PUBLIC
STATUS:CONFIRMED
CATEGORIES:music
LOCATION:Earl V. Moore Building - Britton Recital Hall
CONTACT:
END:VEVENT
BEGIN:VEVENT
DTSTAMP:20101111T175721
DTSTART;TZID=America/Detroit:20100225T200000
SUMMARY:Performance:The Guggenheim Grotto
DESCRIPTION:
UID:1364-915010@events.umich.edu
URL:https://events.umich.edu/event/1364
CLASS:PUBLIC
STATUS:CONFIRMED
CATEGORIES:music
LOCATION:
CONTACT:
END:VEVENT
BEGIN:VEVENT
DTSTAMP:20100225T030003
DTSTART;TZID=America/Detroit:20100225T200000
SUMMARY:Other:University Symphony Orchestra
DESCRIPTION:Pre-concert lecture at 7:15 p.m.  Conducted by students of Kenneth Kiesler.  Compositions by student composers. PROGRAM: Lin - In Praise of Life\; Thatcher - Shades of Turmoil\; Raman - Sati\; Pertz - noisrevni\; Zare - Time Lapse\; Ware - Refuge
UID:1731-915750@events.umich.edu
URL:https://events.umich.edu/event/1731
CLASS:PUBLIC
STATUS:CONFIRMED
CATEGORIES:music
LOCATION:Hill Auditorium -  
CONTACT:
END:VEVENT
BEGIN:VEVENT
DTSTAMP:20101111T175754
DTSTART;TZID=America/Detroit:20100225T203000
DTEND;TZID=America/Detroit:20100225T223000
SUMMARY:Performance:Jazz Jam
DESCRIPTION:Ever wish you could study to the soothing sounds of a live jazz quartet? Now you can! Come grab a seat\, a FREE cup of coffee\, and enjoy the jammin' sounds of student musicians from the Department of Jazz and Contemporary Improvisation. Play an instrument or sing? This is also an open jam session! Bring your instrument(s) of choice and sign up to get your turn playing alongside the house band--you call the tunes!
UID:2128-917188@events.umich.edu
URL:https://events.umich.edu/event/2128
CLASS:PUBLIC
STATUS:CONFIRMED
CATEGORIES:music
LOCATION:Pierpont Commons - Leonardo&#039;s (across from Quizno&#039;s)
CONTACT:
END:VEVENT
END:VCALENDAR