BEGIN:VCALENDAR
VERSION:2.0
PRODID:-//UM//UM*Events//EN
CALSCALE:GREGORIAN
BEGIN:VTIMEZONE
TZID:America/Detroit
TZURL:http://tzurl.org/zoneinfo/America/Detroit
X-LIC-LOCATION:America/Detroit
BEGIN:DAYLIGHT
TZOFFSETFROM:-0500
TZOFFSETTO:-0400
TZNAME:EDT
DTSTART:20070311T020000
RRULE:FREQ=YEARLY;BYMONTH=3;BYDAY=2SU
END:DAYLIGHT
BEGIN:STANDARD
TZOFFSETFROM:-0400
TZOFFSETTO:-0500
TZNAME:EST
DTSTART:20071104T020000
RRULE:FREQ=YEARLY;BYMONTH=11;BYDAY=1SU
END:STANDARD
END:VTIMEZONE
BEGIN:VEVENT
DTSTAMP:20101111T175629
DTSTART;TZID=America/Detroit:20100305T000000
SUMMARY:Exhibition:Exhibit of Recent Aquisitions
DESCRIPTION:This exhibit includes an extraordinarily wide variety of primary source material collected to support current and  future research.  Among the items on display are:  a watercolor “portrait” of a railroad bridge built in Prague in  1850\, original artwork by local artist Tom Pohrt for a children's book written by Justice Sandra Day O'Connor\, a  diary and photographs from a female UM student who hitchhiked from Ann Arbor to San Francisco in 1923\, a  Spanish text from 1693 for those studying to be soldiers\, and Dante's Divine Comedy with illustrations by  Salvador Dali.  \n\nNew archival collections with samples on display include the papers of film director Robert Altman and writers  Nicholas Delbanco and Richard Tillinghast\, as well as four separate women involved in radical causes such as  Clarence Darrow's 1907 defense of union leaders accused of murder and the ecological costs of technology.   This is the first opportunity for the public to see materials from the Altman Collection\, which is estimated to be  1\,000 linear feet in size and is now being sorted and processed for use.
UID:748-911449@events.umich.edu
URL:https://events.umich.edu/event/748
CLASS:PUBLIC
STATUS:CONFIRMED
CATEGORIES:visual arts
LOCATION:Hatcher Graduate Library - 7th Floor Special Collections Library
CONTACT:
END:VEVENT
BEGIN:VEVENT
DTSTAMP:20101111T175620
DTSTART;TZID=America/Detroit:20100305T000000
SUMMARY:Exhibition:Permanent Exhibits at the Exhibit Museum of Natural History
DESCRIPTION:The Hall of Evolution houses Michigan's largest display of prehistoric life. More than 600 million years of life on Earth are traced through fossils\, models and dioramas. The Michigan Wildlife Gallery has a large collection of native Great Lakes birds\, mammals\, reptiles\, and amphibians\, with taxidermy mounts\, habitat scenes\, and the largest mastodon trackway on display in the world. There are also displays about some of the environmental problems faced in this region today. The Anthropology Displays feature artifacts from human cultures around the world. The Geology Displays on the fourth floor offer a large selection of rocks\, minerals and gems. These displays are updated periodically. For more information go to www.lsa.umich.edu/exhibitmuseum/exhibits/permexhibits or call 734-764-0480.
UID:452-910610@events.umich.edu
URL:https://events.umich.edu/event/452
CLASS:PUBLIC
STATUS:CONFIRMED
CATEGORIES:
LOCATION:Ruthven Museums Building
CONTACT:
END:VEVENT
BEGIN:VEVENT
DTSTAMP:20101111T175743
DTSTART;TZID=America/Detroit:20100305T000000
SUMMARY:Other:Sping Break Costa Rica Backpacking trip
DESCRIPTION:Attend our Spring Break mass meeting at the Outdoor Adventures rental center on October 26th at 7 pm for more  information on all Spring Break trips.  Call 734-764-3967 to ask questions or register for a trip today!
UID:1727-916549@events.umich.edu
URL:https://events.umich.edu/event/1727
CLASS:PUBLIC
STATUS:CONFIRMED
CATEGORIES:
LOCATION:
CONTACT:
END:VEVENT
BEGIN:VEVENT
DTSTAMP:20101111T175903
DTSTART;TZID=America/Detroit:20100305T000000
SUMMARY:Other:Spring Break Everglades Sea Kayaking trip
DESCRIPTION:Attend our Spring Break mass meeting at the Outdoor Adventures rental center on October 26th at 7 pm for more  information on all Spring Break trips.  Call 734-764-3967 to ask questions or register for a trip today!
UID:2900-921662@events.umich.edu
URL:https://events.umich.edu/event/2900
CLASS:PUBLIC
STATUS:CONFIRMED
CATEGORIES:
LOCATION:
CONTACT:
END:VEVENT
BEGIN:VEVENT
DTSTAMP:20101111T175635
DTSTART;TZID=America/Detroit:20100305T000000
SUMMARY:Other:Spring Break Grand Canyon Backpacking trip
DESCRIPTION:Attend our Spring Break mass meeting at the Outdoor Adventures rental center on October 26th at 7 pm for more  information on all Spring Break trips.  Call 734-764-3967 to ask questions or register for a trip today!
UID:553-911799@events.umich.edu
URL:https://events.umich.edu/event/553
CLASS:PUBLIC
STATUS:CONFIRMED
CATEGORIES:
LOCATION:
CONTACT:
END:VEVENT
BEGIN:VEVENT
DTSTAMP:20101111T175640
DTSTART;TZID=America/Detroit:20100305T000000
SUMMARY:Other:Spring Break Joshua Tree Climbing trip
DESCRIPTION:Attend our Spring Break mass meeting at the Outdoor Adventures rental center on October 26th at 7 pm for more  information on all Spring Break trips.  Call 734-764-3967 to ask questions or register for a trip today!
UID:691-912371@events.umich.edu
URL:https://events.umich.edu/event/691
CLASS:PUBLIC
STATUS:CONFIRMED
CATEGORIES:
LOCATION:
CONTACT:
END:VEVENT
BEGIN:VEVENT
DTSTAMP:20101111T175747
DTSTART;TZID=America/Detroit:20100305T000000
SUMMARY:Other:Spring Break Winter Celebration trip
DESCRIPTION:Attend our Spring Break mass meeting at the Outdoor Adventures rental center on October 26th at 7 pm for more  information on all Spring Break trips.  Call 734-764-3967 to ask questions or register for a trip today!
UID:1861-916693@events.umich.edu
URL:https://events.umich.edu/event/1861
CLASS:PUBLIC
STATUS:CONFIRMED
CATEGORIES:
LOCATION:
CONTACT:
END:VEVENT
BEGIN:VEVENT
DTSTAMP:20100318T170051
DTSTART;TZID=America/Detroit:20100305T080000
SUMMARY:Exhibition:Exhibit: The Ghost Army
DESCRIPTION:This exhibit tells the story of the Ghost Army from WWII. In June of 1944\, an  exceptional U.S. Army unit went into action in Normandy. Its weapons included  hundreds of inflatable tanks and a one-of-a-kind collection of sound effects  records\, and it carried out its battlefield mission without firing a shot. The unit was  officially called the 23rd Headquarters Special Troops\, but it was known to its men  as The Ghost Army.\n\nMembers of The Ghost Army adhered to a decades-long gag order\; many never  told their families about their extraordinary military service. Sixty-five years after  this top-secret group went into action\, the University of Michigan's Hatcher Library  will unveil the first public exhibit of this captivating group of materials documenting  The Ghost Army. \n\nThis exhibit is available during library hours. See http://www.lib.umich.edu/hatcher- graduate-library.
UID:1124-913910@events.umich.edu
URL:https://events.umich.edu/event/1124
CLASS:PUBLIC
STATUS:CONFIRMED
CATEGORIES:visual arts
LOCATION:Hatcher Graduate Library - Gallery in Room 100
CONTACT:
END:VEVENT
BEGIN:VEVENT
DTSTAMP:20101111T175759
DTSTART;TZID=America/Detroit:20100305T080000
DTEND;TZID=America/Detroit:20100305T170000
SUMMARY:Exhibition:History of Dentistry exhibits at the Sindecuse Museum of Dentistry
DESCRIPTION:Exhibits at the Sindecuse Museum of Dentistry include Dental Operatories of the 1860s to 1930s\, St. Apollonia-Patron Saint of Dentistry and more. Call 763-0767 or go to www.dent.umich.edu/museum for more information.
UID:3856-917715@events.umich.edu
URL:https://events.umich.edu/event/3856
CLASS:PUBLIC
STATUS:CONFIRMED
CATEGORIES:
LOCATION:Dental & W.K. Kellogg Institute
CONTACT:
END:VEVENT
BEGIN:VEVENT
DTSTAMP:20100329T161307
DTSTART;TZID=America/Detroit:20100305T083000
DTEND;TZID=America/Detroit:20100305T190000
SUMMARY:Exhibition:A History of the Bible from Ancient Papyri to King James
DESCRIPTION:This exhibit\, from the Special Collections Library\, shows a path of documents that  led to the creation of the 1611 King James Version of the Bible – from ancient  Egyptian manuscripts on papyrus to Medieval manuscripts to the printed book.\n\nThe earliest documents on display are Egyptian papyri\, including examples of a  census record from the year 119 and the oldest known copy of part of the New  Testament. Medieval manuscripts document the preservation of the text until the  invention of movable type printing by Gutenberg around 1450. The early printed  Bibles include versions in Latin and Greek\, and several that show the struggles  among various political factions and church reformers to control the translating of  the Scriptures into the language of the people. See the King James Bible of 1611  that became the accepted standard.\n\nFor Audubon Room hours\, see https://www.lib.umich.edu/audubon-room
UID:2220-918640@events.umich.edu
URL:https://events.umich.edu/event/2220
CLASS:PUBLIC
STATUS:CONFIRMED
CATEGORIES:visual arts
LOCATION:Hatcher Graduate Library - Audubon Room/First Floor
CONTACT:
END:VEVENT
BEGIN:VEVENT
DTSTAMP:20090722T143534
DTSTART;TZID=America/Detroit:20100305T090000
DTEND;TZID=America/Detroit:20100305T170000
SUMMARY:Exhibition:Ida: Darwinius masillae
DESCRIPTION:\"Ida\,\" a new exhibit in the Exhibit Museum's Rotunda\, displays a high-resolution cast of an extremely rare  fossil discovered in 1983 near Messel\, Germany\, but only recently made available for study. The fossil has  proven to be a “link” between the prosimian and simian (\"anthropoid\") primate lineages. It has \"advanced\"  front teeth (incisors and canines) and second toes like those of monkeys\, and is broadly representative of what  human primate ancestors may have looked like during the Eocene epoch 47 million years ago.     Ida (prounded \"eeda\") is named after after the daughter of Dr JÃ¸rn Hurum\, the Norwegian vertebrate  paleontologist who secured one section of the fossil from an anonymous owner\, and led the research. Ida was  about eight months old\, or the equivalent of a six-year-old human.     Publication of a paper on the discovery was accompanied by a book\, The Link: Uncovering Our Earliest  Ancestors by Colin Tudge\, and a documentary shown on the History Channel (US)\, BBC One (UK)\,and various  stations in Germany and Norway.     U-M paleontologist Philip Gingerich and U-M anthropologist B. Holly Smith were two members of the \"dream  team\" invited to study Ida. The exhibit will be on display through May 2010.
UID:2124-918245@events.umich.edu
URL:https://events.umich.edu/event/2124
CLASS:PUBLIC
STATUS:CONFIRMED
CATEGORIES:multicultural,visual arts,welcome week
LOCATION:
CONTACT:
END:VEVENT
BEGIN:VEVENT
DTSTAMP:20101111T175600
DTSTART;TZID=America/Detroit:20100305T100000
DTEND;TZID=America/Detroit:20100305T170000
SUMMARY:Exhibition:Stearns Collection of Music
DESCRIPTION:The Stearns Collection at the School of Music\, Theatre & Dance is one of six major collections of musical instruments in North America. The 2\,500-piece collection is internationally known and is a resource for musical and cultural education.
UID:3790-909231@events.umich.edu
URL:https://events.umich.edu/event/3790
CLASS:PUBLIC
STATUS:CONFIRMED
CATEGORIES:
LOCATION:Earl V. Moore Building
CONTACT:
END:VEVENT
BEGIN:VEVENT
DTSTAMP:20101111T175749
DTSTART;TZID=America/Detroit:20100305T100000
DTEND;TZID=America/Detroit:20100305T163000
SUMMARY:Other:The Healing Garden - Savor Nature's Restorative Powers
DESCRIPTION:This exhibit and display in the conservatory at Matthaei Botanical Gardens focuses  on the rejuvenating qualities of nature's scents\, colors\, and forms and on the  benefits of exercise and meditation. Interactive activities during the exhibit include  guided meditation\, aromatherapy station\, color and mood interpretation display\,  and meditative hikes. Also\, displays of bulbs and fresh-air plants. Cost inlcudes  admission to conservatory and above activities. Open Wednesday until 8 pm\; free  admission Wednesdays noon-8pm. Closed Mondays.
UID:1938-916775@events.umich.edu
URL:https://events.umich.edu/event/1938
CLASS:PUBLIC
STATUS:CONFIRMED
CATEGORIES:
LOCATION:
CONTACT:
END:VEVENT
BEGIN:VEVENT
DTSTAMP:20101111T175843
DTSTART;TZID=America/Detroit:20100305T121500
DTEND;TZID=America/Detroit:20100305T130000
SUMMARY:Other:Relaxation Workshop Series
DESCRIPTION:Learn stress reduction techniques including deep muscle relaxation\, mental imagery\, mindfulness\, deep breathing and supportive \"self-talk\".
UID:2769-920484@events.umich.edu
URL:https://events.umich.edu/event/2769
CLASS:PUBLIC
STATUS:CONFIRMED
CATEGORIES:
LOCATION:Michigan Union - CAPS Library, Room 3100
CONTACT:
END:VEVENT
BEGIN:VEVENT
DTSTAMP:20101111T175724
DTSTART;TZID=America/Detroit:20100305T200000
SUMMARY:Performance:Howie Day
DESCRIPTION:
UID:1472-915173@events.umich.edu
URL:https://events.umich.edu/event/1472
CLASS:PUBLIC
STATUS:CONFIRMED
CATEGORIES:music
LOCATION:
CONTACT:
END:VEVENT
END:VCALENDAR