BEGIN:VCALENDAR
VERSION:2.0
PRODID:-//UM//UM*Events//EN
CALSCALE:GREGORIAN
BEGIN:VTIMEZONE
TZID:America/Detroit
TZURL:http://tzurl.org/zoneinfo/America/Detroit
X-LIC-LOCATION:America/Detroit
BEGIN:DAYLIGHT
TZOFFSETFROM:-0500
TZOFFSETTO:-0400
TZNAME:EDT
DTSTART:20070311T020000
RRULE:FREQ=YEARLY;BYMONTH=3;BYDAY=2SU
END:DAYLIGHT
BEGIN:STANDARD
TZOFFSETFROM:-0400
TZOFFSETTO:-0500
TZNAME:EST
DTSTART:20071104T020000
RRULE:FREQ=YEARLY;BYMONTH=11;BYDAY=1SU
END:STANDARD
END:VTIMEZONE
BEGIN:VEVENT
DTSTAMP:20101111T175629
DTSTART;TZID=America/Detroit:20100308T000000
SUMMARY:Exhibition:Exhibit of Recent Aquisitions
DESCRIPTION:This exhibit includes an extraordinarily wide variety of primary source material collected to support current and  future research.  Among the items on display are:  a watercolor “portrait” of a railroad bridge built in Prague in  1850\, original artwork by local artist Tom Pohrt for a children's book written by Justice Sandra Day O'Connor\, a  diary and photographs from a female UM student who hitchhiked from Ann Arbor to San Francisco in 1923\, a  Spanish text from 1693 for those studying to be soldiers\, and Dante's Divine Comedy with illustrations by  Salvador Dali.  \n\nNew archival collections with samples on display include the papers of film director Robert Altman and writers  Nicholas Delbanco and Richard Tillinghast\, as well as four separate women involved in radical causes such as  Clarence Darrow's 1907 defense of union leaders accused of murder and the ecological costs of technology.   This is the first opportunity for the public to see materials from the Altman Collection\, which is estimated to be  1\,000 linear feet in size and is now being sorted and processed for use.
UID:748-911452@events.umich.edu
URL:https://events.umich.edu/event/748
CLASS:PUBLIC
STATUS:CONFIRMED
CATEGORIES:visual arts
LOCATION:Hatcher Graduate Library - 7th Floor Special Collections Library
CONTACT:
END:VEVENT
BEGIN:VEVENT
DTSTAMP:20101111T175620
DTSTART;TZID=America/Detroit:20100308T000000
SUMMARY:Exhibition:Permanent Exhibits at the Exhibit Museum of Natural History
DESCRIPTION:The Hall of Evolution houses Michigan's largest display of prehistoric life. More than 600 million years of life on Earth are traced through fossils\, models and dioramas. The Michigan Wildlife Gallery has a large collection of native Great Lakes birds\, mammals\, reptiles\, and amphibians\, with taxidermy mounts\, habitat scenes\, and the largest mastodon trackway on display in the world. There are also displays about some of the environmental problems faced in this region today. The Anthropology Displays feature artifacts from human cultures around the world. The Geology Displays on the fourth floor offer a large selection of rocks\, minerals and gems. These displays are updated periodically. For more information go to www.lsa.umich.edu/exhibitmuseum/exhibits/permexhibits or call 734-764-0480.
UID:452-910613@events.umich.edu
URL:https://events.umich.edu/event/452
CLASS:PUBLIC
STATUS:CONFIRMED
CATEGORIES:
LOCATION:Ruthven Museums Building
CONTACT:
END:VEVENT
BEGIN:VEVENT
DTSTAMP:20100318T170051
DTSTART;TZID=America/Detroit:20100308T080000
SUMMARY:Exhibition:Exhibit: The Ghost Army
DESCRIPTION:This exhibit tells the story of the Ghost Army from WWII. In June of 1944\, an  exceptional U.S. Army unit went into action in Normandy. Its weapons included  hundreds of inflatable tanks and a one-of-a-kind collection of sound effects  records\, and it carried out its battlefield mission without firing a shot. The unit was  officially called the 23rd Headquarters Special Troops\, but it was known to its men  as The Ghost Army.\n\nMembers of The Ghost Army adhered to a decades-long gag order\; many never  told their families about their extraordinary military service. Sixty-five years after  this top-secret group went into action\, the University of Michigan's Hatcher Library  will unveil the first public exhibit of this captivating group of materials documenting  The Ghost Army. \n\nThis exhibit is available during library hours. See http://www.lib.umich.edu/hatcher- graduate-library.
UID:1124-913913@events.umich.edu
URL:https://events.umich.edu/event/1124
CLASS:PUBLIC
STATUS:CONFIRMED
CATEGORIES:visual arts
LOCATION:Hatcher Graduate Library - Gallery in Room 100
CONTACT:
END:VEVENT
BEGIN:VEVENT
DTSTAMP:20101111T175759
DTSTART;TZID=America/Detroit:20100308T080000
DTEND;TZID=America/Detroit:20100308T170000
SUMMARY:Exhibition:History of Dentistry exhibits at the Sindecuse Museum of Dentistry
DESCRIPTION:Exhibits at the Sindecuse Museum of Dentistry include Dental Operatories of the 1860s to 1930s\, St. Apollonia-Patron Saint of Dentistry and more. Call 763-0767 or go to www.dent.umich.edu/museum for more information.
UID:3856-917716@events.umich.edu
URL:https://events.umich.edu/event/3856
CLASS:PUBLIC
STATUS:CONFIRMED
CATEGORIES:
LOCATION:Dental & W.K. Kellogg Institute
CONTACT:
END:VEVENT
BEGIN:VEVENT
DTSTAMP:20100329T161307
DTSTART;TZID=America/Detroit:20100308T083000
DTEND;TZID=America/Detroit:20100308T190000
SUMMARY:Exhibition:A History of the Bible from Ancient Papyri to King James
DESCRIPTION:This exhibit\, from the Special Collections Library\, shows a path of documents that  led to the creation of the 1611 King James Version of the Bible – from ancient  Egyptian manuscripts on papyrus to Medieval manuscripts to the printed book.\n\nThe earliest documents on display are Egyptian papyri\, including examples of a  census record from the year 119 and the oldest known copy of part of the New  Testament. Medieval manuscripts document the preservation of the text until the  invention of movable type printing by Gutenberg around 1450. The early printed  Bibles include versions in Latin and Greek\, and several that show the struggles  among various political factions and church reformers to control the translating of  the Scriptures into the language of the people. See the King James Bible of 1611  that became the accepted standard.\n\nFor Audubon Room hours\, see https://www.lib.umich.edu/audubon-room
UID:2220-918643@events.umich.edu
URL:https://events.umich.edu/event/2220
CLASS:PUBLIC
STATUS:CONFIRMED
CATEGORIES:visual arts
LOCATION:Hatcher Graduate Library - Audubon Room/First Floor
CONTACT:
END:VEVENT
BEGIN:VEVENT
DTSTAMP:20090722T143534
DTSTART;TZID=America/Detroit:20100308T090000
DTEND;TZID=America/Detroit:20100308T170000
SUMMARY:Exhibition:Ida: Darwinius masillae
DESCRIPTION:\"Ida\,\" a new exhibit in the Exhibit Museum's Rotunda\, displays a high-resolution cast of an extremely rare  fossil discovered in 1983 near Messel\, Germany\, but only recently made available for study. The fossil has  proven to be a “link” between the prosimian and simian (\"anthropoid\") primate lineages. It has \"advanced\"  front teeth (incisors and canines) and second toes like those of monkeys\, and is broadly representative of what  human primate ancestors may have looked like during the Eocene epoch 47 million years ago.     Ida (prounded \"eeda\") is named after after the daughter of Dr JÃ¸rn Hurum\, the Norwegian vertebrate  paleontologist who secured one section of the fossil from an anonymous owner\, and led the research. Ida was  about eight months old\, or the equivalent of a six-year-old human.     Publication of a paper on the discovery was accompanied by a book\, The Link: Uncovering Our Earliest  Ancestors by Colin Tudge\, and a documentary shown on the History Channel (US)\, BBC One (UK)\,and various  stations in Germany and Norway.     U-M paleontologist Philip Gingerich and U-M anthropologist B. Holly Smith were two members of the \"dream  team\" invited to study Ida. The exhibit will be on display through May 2010.
UID:2124-918248@events.umich.edu
URL:https://events.umich.edu/event/2124
CLASS:PUBLIC
STATUS:CONFIRMED
CATEGORIES:multicultural,visual arts,welcome week
LOCATION:
CONTACT:
END:VEVENT
BEGIN:VEVENT
DTSTAMP:20101111T175734
DTSTART;TZID=America/Detroit:20100308T090000
DTEND;TZID=America/Detroit:20100308T170000
SUMMARY:Exhibition:Scott Hocking Installation
DESCRIPTION:Scott Hocking explores the abandoned buildings and sites of Detroit like a  newfangled scientist. He gathers raw data in his excavations\, and records his  findings using a wholly unique and modern process and method that he intuitively  formulates as he goes along. In his ongoing study of a city so rooted in a dense  past\, and the emotional attachments that accompany it\, Hocking is  uncompromising and unflinching\, and refuses to buy into the hype. His visual  essays chronicling urban markings of modern day ruin are not the stuff of tragedy  or fodder for magazine centerfolds\, but proof of a renaissance in real time.  Hocking's work is fully alive\, and honors the world going past and us moving forward  along with it\, exhilarated by industrial parks returning to fallow land\, and strawberry  bushes growing in the cracked concrete.
UID:1793-915903@events.umich.edu
URL:https://events.umich.edu/event/1793
CLASS:PUBLIC
STATUS:CONFIRMED
CATEGORIES:visual arts
LOCATION:202 S. Thayer - 1010
CONTACT:
END:VEVENT
BEGIN:VEVENT
DTSTAMP:20101111T175600
DTSTART;TZID=America/Detroit:20100308T100000
DTEND;TZID=America/Detroit:20100308T170000
SUMMARY:Exhibition:Stearns Collection of Music
DESCRIPTION:The Stearns Collection at the School of Music\, Theatre & Dance is one of six major collections of musical instruments in North America. The 2\,500-piece collection is internationally known and is a resource for musical and cultural education.
UID:3790-909232@events.umich.edu
URL:https://events.umich.edu/event/3790
CLASS:PUBLIC
STATUS:CONFIRMED
CATEGORIES:
LOCATION:Earl V. Moore Building
CONTACT:
END:VEVENT
BEGIN:VEVENT
DTSTAMP:20101111T175654
DTSTART;TZID=America/Detroit:20100308T160000
DTEND;TZID=America/Detroit:20100308T171500
SUMMARY:Workshop / Seminar:\"The Healing Power of International Justice\"
DESCRIPTION:Speaker:  Jane Olson\, Chair\, International Board of Human Rights Watch\n\nThe International Law Workshop introduces today's most debated issues in  international and comparative law.  Speakers will talk for 25 minutes\, followed by  discussion and questions.
UID:807-913173@events.umich.edu
URL:https://events.umich.edu/event/807
CLASS:PUBLIC
STATUS:CONFIRMED
CATEGORIES:
LOCATION:Hutchins Hall - 116
CONTACT:
END:VEVENT
BEGIN:VEVENT
DTSTAMP:20101111T175621
DTSTART;TZID=America/Detroit:20100308T180000
DTEND;TZID=America/Detroit:20100308T200000
SUMMARY:Other:Free and Anonymous HIV Testing
DESCRIPTION:Free and Anonymous HIV Testing every other Monday\, 6:00p-8:00p Spectrum  Center\, 3rd Floor Michigan Union sponsored by HARC\, the HIV/AIDS Resource  Center. Free and Anonymous\, needle-free\, results in 7-10 days.
UID:464-910894@events.umich.edu
URL:https://events.umich.edu/event/464
CLASS:PUBLIC
STATUS:CONFIRMED
CATEGORIES:
LOCATION:Michigan Union - 3200
CONTACT:
END:VEVENT
BEGIN:VEVENT
DTSTAMP:20100223T030003
DTSTART;TZID=America/Detroit:20100308T200000
SUMMARY:Other:Faculty Recital: Marilyn Mason\, University Organist and Malcolm Tulip\, narrator - CANCELLED
DESCRIPTION:
UID:672-912333@events.umich.edu
URL:https://events.umich.edu/event/672
CLASS:PUBLIC
STATUS:CONFIRMED
CATEGORIES:music
LOCATION:Hill Auditorium -  
CONTACT:
END:VEVENT
BEGIN:VEVENT
DTSTAMP:20100308T151831
DTSTART;TZID=America/Detroit:20100308T200000
SUMMARY:Other:First Dissertation Recital:  Yeonjin Kim\, cello
DESCRIPTION:PROGRAM:  Schoenfield - British Folk Songs for Cello and Piano\; Cassado - Suite for Cello Solo\; Schumann - 5 StÃ¼cke im Volkston\, Op. 102\; Ginastera -  Pampeana No. 2: Rhapsody for Cello and Piano\, Op. 21
UID:876-912668@events.umich.edu
URL:https://events.umich.edu/event/876
CLASS:PUBLIC
STATUS:CONFIRMED
CATEGORIES:music
LOCATION:Earl V. Moore Building - Britton Recital Hall
CONTACT:
END:VEVENT
BEGIN:VEVENT
DTSTAMP:20100929T110405
DTSTART;TZID=America/Detroit:20100308T200000
DTEND;TZID=America/Detroit:20100308T220000
SUMMARY:Meeting:Gender Explorers
DESCRIPTION:A social and support group for transgender\, transsexual\, genderqueer\, TG-questioning people and those who transgress gender binaries.\n\nThis safe\, open\, and affirming space includes discussion\, fellowship\, and significant others.\n\nThe group meets on the 2nd and 4th Monday of each month in the Spectrum Center.  To participate and to learn more\, email PJ at pajeho@umich.edu
UID:2680-920393@events.umich.edu
URL:https://events.umich.edu/event/2680
CLASS:PUBLIC
STATUS:CONFIRMED
CATEGORIES:spectrumcenter,social justice,multicultural
LOCATION:Michigan Union - 3200
CONTACT:
END:VEVENT
BEGIN:VEVENT
DTSTAMP:20101111T175834
DTSTART;TZID=America/Detroit:20100308T200000
SUMMARY:Class / Instruction:Refractions
DESCRIPTION:Geri Allen\, UM School of Music\, Theatre\, and Dance jazz piano professor\, presents her new work Refractions\, the creative outgrowth of her 2008–09 Guggenheim Fellowship. Her performance is accompanied by an original short film by renowned artist Carrie Mae Weems. \"Refractions: Flying Toward The Sound\" will be released internationally with an enhanced CD by Motema Music to the general public March 9\, and will be made available to the UMMA audience during Ms. Allen's performance on March 8 and will remain in the UMMA Museum Store thereafter. Back to Top
UID:2480-920078@events.umich.edu
URL:https://events.umich.edu/event/2480
CLASS:PUBLIC
STATUS:CONFIRMED
CATEGORIES:dance
LOCATION:Museum of Art - Apse
CONTACT:
END:VEVENT
BEGIN:VEVENT
DTSTAMP:20100106T202502
DTSTART;TZID=America/Detroit:20100308T200000
SUMMARY:Performance:Scythian
DESCRIPTION:
UID:111-909992@events.umich.edu
URL:https://events.umich.edu/event/111
CLASS:PUBLIC
STATUS:CONFIRMED
CATEGORIES:music
LOCATION:
CONTACT:
END:VEVENT
END:VCALENDAR