BEGIN:VCALENDAR
VERSION:2.0
PRODID:-//UM//UM*Events//EN
CALSCALE:GREGORIAN
BEGIN:VTIMEZONE
TZID:America/Detroit
TZURL:http://tzurl.org/zoneinfo/America/Detroit
X-LIC-LOCATION:America/Detroit
BEGIN:DAYLIGHT
TZOFFSETFROM:-0500
TZOFFSETTO:-0400
TZNAME:EDT
DTSTART:20070311T020000
RRULE:FREQ=YEARLY;BYMONTH=3;BYDAY=2SU
END:DAYLIGHT
BEGIN:STANDARD
TZOFFSETFROM:-0400
TZOFFSETTO:-0500
TZNAME:EST
DTSTART:20071104T020000
RRULE:FREQ=YEARLY;BYMONTH=11;BYDAY=1SU
END:STANDARD
END:VTIMEZONE
BEGIN:VEVENT
DTSTAMP:20101111T175829
DTSTART;TZID=America/Detroit:20100312T000000
SUMMARY:Other:A2Fiber ”˜Call to Action’ to the University Community
DESCRIPTION:The University of Michigan and the city of Ann Arbor have teamed up to convince  Google to pick Ann Arbor for Google's Fiber for Communities trial. One of the key  components of Google's selection process is applicants must demonstrate strong  community support and participation. You can play an important supporting role!\n\nBy March 26\, please show your support by taking one or more of the following steps:\n\n-- Become an A2 Fiber Facebook fan: www.facebook.com/a2fiber -- Sign up to receive A2 Fiber e-mail notifications: www.a2gov.org/services/Pages/E-  mailAlertSubscription.aspx -- Submit a community group and resident nomination form:  www.google.com/appserve/fiberrfi/public/options -- Create your own video on YouTube: www.youtube.com/a2fiber.  -- Follow A2 Fiber on Twitter: www.twitter.com/a2fiber.  --Spread the word! \n\nLearn more at www.a2fiber.com
UID:2321-919618@events.umich.edu
URL:https://events.umich.edu/event/2321
CLASS:PUBLIC
STATUS:CONFIRMED
CATEGORIES:
LOCATION:
CONTACT:
END:VEVENT
BEGIN:VEVENT
DTSTAMP:20101111T175629
DTSTART;TZID=America/Detroit:20100312T000000
SUMMARY:Exhibition:Exhibit of Recent Aquisitions
DESCRIPTION:This exhibit includes an extraordinarily wide variety of primary source material collected to support current and  future research.  Among the items on display are:  a watercolor “portrait” of a railroad bridge built in Prague in  1850\, original artwork by local artist Tom Pohrt for a children's book written by Justice Sandra Day O'Connor\, a  diary and photographs from a female UM student who hitchhiked from Ann Arbor to San Francisco in 1923\, a  Spanish text from 1693 for those studying to be soldiers\, and Dante's Divine Comedy with illustrations by  Salvador Dali.  \n\nNew archival collections with samples on display include the papers of film director Robert Altman and writers  Nicholas Delbanco and Richard Tillinghast\, as well as four separate women involved in radical causes such as  Clarence Darrow's 1907 defense of union leaders accused of murder and the ecological costs of technology.   This is the first opportunity for the public to see materials from the Altman Collection\, which is estimated to be  1\,000 linear feet in size and is now being sorted and processed for use.
UID:748-911456@events.umich.edu
URL:https://events.umich.edu/event/748
CLASS:PUBLIC
STATUS:CONFIRMED
CATEGORIES:visual arts
LOCATION:Hatcher Graduate Library - 7th Floor Special Collections Library
CONTACT:
END:VEVENT
BEGIN:VEVENT
DTSTAMP:20101111T175620
DTSTART;TZID=America/Detroit:20100312T000000
SUMMARY:Exhibition:Permanent Exhibits at the Exhibit Museum of Natural History
DESCRIPTION:The Hall of Evolution houses Michigan's largest display of prehistoric life. More than 600 million years of life on Earth are traced through fossils\, models and dioramas. The Michigan Wildlife Gallery has a large collection of native Great Lakes birds\, mammals\, reptiles\, and amphibians\, with taxidermy mounts\, habitat scenes\, and the largest mastodon trackway on display in the world. There are also displays about some of the environmental problems faced in this region today. The Anthropology Displays feature artifacts from human cultures around the world. The Geology Displays on the fourth floor offer a large selection of rocks\, minerals and gems. These displays are updated periodically. For more information go to www.lsa.umich.edu/exhibitmuseum/exhibits/permexhibits or call 734-764-0480.
UID:452-910617@events.umich.edu
URL:https://events.umich.edu/event/452
CLASS:PUBLIC
STATUS:CONFIRMED
CATEGORIES:
LOCATION:Ruthven Museums Building
CONTACT:
END:VEVENT
BEGIN:VEVENT
DTSTAMP:20100318T170051
DTSTART;TZID=America/Detroit:20100312T080000
SUMMARY:Exhibition:Exhibit: The Ghost Army
DESCRIPTION:This exhibit tells the story of the Ghost Army from WWII. In June of 1944\, an  exceptional U.S. Army unit went into action in Normandy. Its weapons included  hundreds of inflatable tanks and a one-of-a-kind collection of sound effects  records\, and it carried out its battlefield mission without firing a shot. The unit was  officially called the 23rd Headquarters Special Troops\, but it was known to its men  as The Ghost Army.\n\nMembers of The Ghost Army adhered to a decades-long gag order\; many never  told their families about their extraordinary military service. Sixty-five years after  this top-secret group went into action\, the University of Michigan's Hatcher Library  will unveil the first public exhibit of this captivating group of materials documenting  The Ghost Army. \n\nThis exhibit is available during library hours. See http://www.lib.umich.edu/hatcher- graduate-library.
UID:1124-913917@events.umich.edu
URL:https://events.umich.edu/event/1124
CLASS:PUBLIC
STATUS:CONFIRMED
CATEGORIES:visual arts
LOCATION:Hatcher Graduate Library - Gallery in Room 100
CONTACT:
END:VEVENT
BEGIN:VEVENT
DTSTAMP:20101111T175759
DTSTART;TZID=America/Detroit:20100312T080000
DTEND;TZID=America/Detroit:20100312T170000
SUMMARY:Exhibition:History of Dentistry exhibits at the Sindecuse Museum of Dentistry
DESCRIPTION:Exhibits at the Sindecuse Museum of Dentistry include Dental Operatories of the 1860s to 1930s\, St. Apollonia-Patron Saint of Dentistry and more. Call 763-0767 or go to www.dent.umich.edu/museum for more information.
UID:3856-917504@events.umich.edu
URL:https://events.umich.edu/event/3856
CLASS:PUBLIC
STATUS:CONFIRMED
CATEGORIES:
LOCATION:Dental & W.K. Kellogg Institute
CONTACT:
END:VEVENT
BEGIN:VEVENT
DTSTAMP:20100329T161307
DTSTART;TZID=America/Detroit:20100312T083000
DTEND;TZID=America/Detroit:20100312T190000
SUMMARY:Exhibition:A History of the Bible from Ancient Papyri to King James
DESCRIPTION:This exhibit\, from the Special Collections Library\, shows a path of documents that  led to the creation of the 1611 King James Version of the Bible – from ancient  Egyptian manuscripts on papyrus to Medieval manuscripts to the printed book.\n\nThe earliest documents on display are Egyptian papyri\, including examples of a  census record from the year 119 and the oldest known copy of part of the New  Testament. Medieval manuscripts document the preservation of the text until the  invention of movable type printing by Gutenberg around 1450. The early printed  Bibles include versions in Latin and Greek\, and several that show the struggles  among various political factions and church reformers to control the translating of  the Scriptures into the language of the people. See the King James Bible of 1611  that became the accepted standard.\n\nFor Audubon Room hours\, see https://www.lib.umich.edu/audubon-room
UID:2220-918647@events.umich.edu
URL:https://events.umich.edu/event/2220
CLASS:PUBLIC
STATUS:CONFIRMED
CATEGORIES:visual arts
LOCATION:Hatcher Graduate Library - Audubon Room/First Floor
CONTACT:
END:VEVENT
BEGIN:VEVENT
DTSTAMP:20101111T175626
DTSTART;TZID=America/Detroit:20100312T090000
DTEND;TZID=America/Detroit:20100312T103000
SUMMARY:Lecture / Discussion:Arts of Citizenship Friday Breakfast
DESCRIPTION:Alsultany is the guest curator for an exhibit at the Arab American National Museum\, “DisORIENTation: Arabs and Arab Americans in the U.S. Popular Imagination\,” scheduled for 2011. She will discuss the process of conceptualizing the exhibit – from the original idea\, to receiving feedback from focus groups\, and then revising the original idea. She will address some of the challenges she has faced as scholar attempting to be involved in public scholarship\, particularly the challenges in exhibiting a history of racism and translating scholarly concepts for a wide audience.\n\nPlease RSVP to Joanna Frye at jrfrye@umich.edu or email any questions.  If you would like to learn more about our program\, please visit www.artsofcitizenship.org
UID:638-911292@events.umich.edu
URL:https://events.umich.edu/event/638
CLASS:PUBLIC
STATUS:CONFIRMED
CATEGORIES:visual arts
LOCATION:Haven Hall - 3512
CONTACT:
END:VEVENT
BEGIN:VEVENT
DTSTAMP:20090722T143534
DTSTART;TZID=America/Detroit:20100312T090000
DTEND;TZID=America/Detroit:20100312T170000
SUMMARY:Exhibition:Ida: Darwinius masillae
DESCRIPTION:\"Ida\,\" a new exhibit in the Exhibit Museum's Rotunda\, displays a high-resolution cast of an extremely rare  fossil discovered in 1983 near Messel\, Germany\, but only recently made available for study. The fossil has  proven to be a “link” between the prosimian and simian (\"anthropoid\") primate lineages. It has \"advanced\"  front teeth (incisors and canines) and second toes like those of monkeys\, and is broadly representative of what  human primate ancestors may have looked like during the Eocene epoch 47 million years ago.     Ida (prounded \"eeda\") is named after after the daughter of Dr JÃ¸rn Hurum\, the Norwegian vertebrate  paleontologist who secured one section of the fossil from an anonymous owner\, and led the research. Ida was  about eight months old\, or the equivalent of a six-year-old human.     Publication of a paper on the discovery was accompanied by a book\, The Link: Uncovering Our Earliest  Ancestors by Colin Tudge\, and a documentary shown on the History Channel (US)\, BBC One (UK)\,and various  stations in Germany and Norway.     U-M paleontologist Philip Gingerich and U-M anthropologist B. Holly Smith were two members of the \"dream  team\" invited to study Ida. The exhibit will be on display through May 2010.
UID:2124-918252@events.umich.edu
URL:https://events.umich.edu/event/2124
CLASS:PUBLIC
STATUS:CONFIRMED
CATEGORIES:welcome week,visual arts,multicultural
LOCATION:
CONTACT:
END:VEVENT
BEGIN:VEVENT
DTSTAMP:20101111T175734
DTSTART;TZID=America/Detroit:20100312T090000
DTEND;TZID=America/Detroit:20100312T170000
SUMMARY:Exhibition:Scott Hocking Installation
DESCRIPTION:Scott Hocking explores the abandoned buildings and sites of Detroit like a  newfangled scientist. He gathers raw data in his excavations\, and records his  findings using a wholly unique and modern process and method that he intuitively  formulates as he goes along. In his ongoing study of a city so rooted in a dense  past\, and the emotional attachments that accompany it\, Hocking is  uncompromising and unflinching\, and refuses to buy into the hype. His visual  essays chronicling urban markings of modern day ruin are not the stuff of tragedy  or fodder for magazine centerfolds\, but proof of a renaissance in real time.  Hocking's work is fully alive\, and honors the world going past and us moving forward  along with it\, exhilarated by industrial parks returning to fallow land\, and strawberry  bushes growing in the cracked concrete.
UID:1793-915907@events.umich.edu
URL:https://events.umich.edu/event/1793
CLASS:PUBLIC
STATUS:CONFIRMED
CATEGORIES:visual arts
LOCATION:202 S. Thayer - 1010
CONTACT:
END:VEVENT
BEGIN:VEVENT
DTSTAMP:20101111T175741
DTSTART;TZID=America/Detroit:20100312T090000
DTEND;TZID=America/Detroit:20100312T180000
SUMMARY:Other:Support Dance Marathon by Shopping U-M Computer Showcase
DESCRIPTION:When you purchase any featured Apple product at the Computer Showcase from  March 1-26\, we'll donate a percentage of the sale to support Dance Marathon at the  University of Michigan!\n\nPlus! Get a FREE printer when you purchase any MacBook\, MacBook Pro\, or iMac.\n\nLearn more here: http://showcase.itcs.umich.edu/news/dance-marathon.php
UID:1663-916340@events.umich.edu
URL:https://events.umich.edu/event/1663
CLASS:PUBLIC
STATUS:CONFIRMED
CATEGORIES:
LOCATION:Michigan Union
CONTACT:
END:VEVENT
BEGIN:VEVENT
DTSTAMP:20101111T175600
DTSTART;TZID=America/Detroit:20100312T100000
DTEND;TZID=America/Detroit:20100312T170000
SUMMARY:Exhibition:Stearns Collection of Music
DESCRIPTION:The Stearns Collection at the School of Music\, Theatre & Dance is one of six major collections of musical instruments in North America. The 2\,500-piece collection is internationally known and is a resource for musical and cultural education.
UID:3790-909236@events.umich.edu
URL:https://events.umich.edu/event/3790
CLASS:PUBLIC
STATUS:CONFIRMED
CATEGORIES:
LOCATION:Earl V. Moore Building
CONTACT:
END:VEVENT
BEGIN:VEVENT
DTSTAMP:20101111T175749
DTSTART;TZID=America/Detroit:20100312T100000
DTEND;TZID=America/Detroit:20100312T163000
SUMMARY:Other:The Healing Garden - Savor Nature's Restorative Powers
DESCRIPTION:This exhibit and display in the conservatory at Matthaei Botanical Gardens focuses  on the rejuvenating qualities of nature's scents\, colors\, and forms and on the  benefits of exercise and meditation. Interactive activities during the exhibit include  guided meditation\, aromatherapy station\, color and mood interpretation display\,  and meditative hikes. Also\, displays of bulbs and fresh-air plants. Cost inlcudes  admission to conservatory and above activities. Open Wednesday until 8 pm\; free  admission Wednesdays noon-8pm. Closed Mondays.
UID:1938-916781@events.umich.edu
URL:https://events.umich.edu/event/1938
CLASS:PUBLIC
STATUS:CONFIRMED
CATEGORIES:
LOCATION:
CONTACT:
END:VEVENT
BEGIN:VEVENT
DTSTAMP:20101111T175809
DTSTART;TZID=America/Detroit:20100312T120000
DTEND;TZID=America/Detroit:20100312T130000
SUMMARY:Workshop / Seminar:Travel Workshop: Latin America and Africa
DESCRIPTION:Event description: Advice from a UHS medical specialist in travel health regarding inoculations and medications to get before you go and ways to stay healthy on-site. Peer advisors who have traveled abroad extensively will pass along tips from their first-hand experiences. An expert travel agent from STA Travel (in the Michigan Union\, 734.769.2555 or umi_agents@statravel.com) will provide information on student airfares and budget accommodations.\n\nTopics to be covered include:\n\n    Important information to know before you go\, such as passports\, visas\, student ID cards\, insurance\, travel advisories\, and what embassies can and cannot do for you abroad.     Cheapest and best airfares     Travel budget and how to save money overseas.     Transportation\, accommodations\, food.     Last-minute options for working and volunteering abroad.     Adjusting to life overseas\, such a language barriers\, women traveling alone\, general safety and avoiding theft and other potential dangers abroad.\n\nProgram Sponsors: International Center\, University Health Service\, and STA Travel\n\nQuestions: For more information contact the International Center Education Abroad Office at ic-abroad@umich.edu
UID:2204-918576@events.umich.edu
URL:https://events.umich.edu/event/2204
CLASS:PUBLIC
STATUS:CONFIRMED
CATEGORIES:
LOCATION:International Center - G-9 Conference room
CONTACT:
END:VEVENT
BEGIN:VEVENT
DTSTAMP:20100226T131537
DTSTART;TZID=America/Detroit:20100312T120000
DTEND;TZID=America/Detroit:20100312T160000
SUMMARY:Other:UM3D Lab Open House
DESCRIPTION:Come to the UM3D Lab to see what you can do with motion capture\, virtual reality\,  rapid prototyping\, and 3d scanning. Experience the CAVE\, an immersive virtual  reality environment! Peter Beier will give a talk at 12:00 p.m. on \"3D-Technologies  for Education and Research at the UM3D Lab\". Contact the UM3D Lab in advance if  you are interested in being \"captured\" by the motion capture system (2 hour block  of time required).
UID:881-913334@events.umich.edu
URL:https://events.umich.edu/event/881
CLASS:PUBLIC
STATUS:CONFIRMED
CATEGORIES:
LOCATION:Duderstadt Center - 1365
CONTACT:
END:VEVENT
BEGIN:VEVENT
DTSTAMP:20101111T175843
DTSTART;TZID=America/Detroit:20100312T121500
DTEND;TZID=America/Detroit:20100312T130000
SUMMARY:Other:Relaxation Workshop Series
DESCRIPTION:Learn stress reduction techniques including deep muscle relaxation\, mental imagery\, mindfulness\, deep breathing and supportive \"self-talk\".
UID:2769-920485@events.umich.edu
URL:https://events.umich.edu/event/2769
CLASS:PUBLIC
STATUS:CONFIRMED
CATEGORIES:
LOCATION:Michigan Union - CAPS Library, Room 3100
CONTACT:
END:VEVENT
BEGIN:VEVENT
DTSTAMP:20100309T152829
DTSTART;TZID=America/Detroit:20100312T170000
DTEND;TZID=America/Detroit:20100312T190000
SUMMARY:Meeting:Asexuality Support Group
DESCRIPTION:Asexuality Support Group 5p-7p\, Spectrum Center\n\nAsexuality is defined as the lack of sexual attraction. An asexual is an individual  who is not sexually attracted to anyone. The Asexual Support Group's main focus is  to provide a safe space for asexuals to come together and talk about issues they  face with others who they identify with. By bringing a group of asexuals and allies  together\, the Asexual Support Group also aims to increase the visibility and  widespread knowledge of asexuality on campus. The group meets every Friday at  the Spectrum Center from 5 to 7 pm\, everyone is welcome- from out asexuals\, to  allies\, to those who are questioning\, and everyone in between.
UID:2685-921011@events.umich.edu
URL:https://events.umich.edu/event/2685
CLASS:PUBLIC
STATUS:CONFIRMED
CATEGORIES:
LOCATION:Michigan Union - 3200
CONTACT:
END:VEVENT
BEGIN:VEVENT
DTSTAMP:20100312T030002
DTSTART;TZID=America/Detroit:20100312T170000
SUMMARY:Other:Musicology Lecture:  Appreciating Arlen - Walter Frisch (Columbia)
DESCRIPTION:Among the great composers of American popular song in the “golden era” from 1920 to 1960\, Harold Arlen (1905-86) is perhaps the least familiar by name. Although his classic songs like Over the Rainbow and Stormy Weather are widely known and admired\, his compositional craft has been too little analyzed.  Among the features to be discussed in this paper are Arlen’s creative and frequent transgression of the standard 32-bar\, AABA song form\, in long and lopsided structures that he referred to as tapeworms\; the complex harmonic progressions and unusual inversions that keep tonality suspended and sometimes bring songs to end in keys different from where they began\; and Arlen’s uncanny ability to create coherent melodic phrases that are often dissonant with the underlying harmonies.
UID:1232-914065@events.umich.edu
URL:https://events.umich.edu/event/1232
CLASS:PUBLIC
STATUS:CONFIRMED
CATEGORIES:music
LOCATION:
CONTACT:
END:VEVENT
BEGIN:VEVENT
DTSTAMP:20101111T175756
DTSTART;TZID=America/Detroit:20100312T180000
SUMMARY:Class / Instruction:Cancer Awareness Week Dance Competition
DESCRIPTION:Local Dance groups compete and raise money for charities.
UID:2157-917378@events.umich.edu
URL:https://events.umich.edu/event/2157
CLASS:PUBLIC
STATUS:CONFIRMED
CATEGORIES:
LOCATION:Michigan Union - Pendleton Room
CONTACT:
END:VEVENT
BEGIN:VEVENT
DTSTAMP:20101111T175651
DTSTART;TZID=America/Detroit:20100312T190000
SUMMARY:Performance:Impact Dance Annual Production
DESCRIPTION:Impact Dance Spring Show -- an exciting compilation of jazz and contemporary dance choreographed entirely by students!!!
UID:1096-913051@events.umich.edu
URL:https://events.umich.edu/event/1096
CLASS:PUBLIC
STATUS:CONFIRMED
CATEGORIES:dance
LOCATION:Lydia Mendelssohn Theatre
CONTACT:
END:VEVENT
BEGIN:VEVENT
DTSTAMP:20101111T175617
DTSTART;TZID=America/Detroit:20100312T200000
SUMMARY:Performance:Joe Henry
DESCRIPTION:
UID:343-910387@events.umich.edu
URL:https://events.umich.edu/event/343
CLASS:PUBLIC
STATUS:CONFIRMED
CATEGORIES:music
LOCATION:
CONTACT:
END:VEVENT
BEGIN:VEVENT
DTSTAMP:20100312T030002
DTSTART;TZID=America/Detroit:20100312T200000
SUMMARY:Other:Masters Recital:  Jennifer Herman\, viola
DESCRIPTION:PROGAM:  Bach - Suite No. 4 BWV 1010\; Loeffler - Two Rhapsodies for oboe\, viola\, and piano\; Bowen - Sonata No. 1 in C Minor for Viola and Piano\, Op. 18\; Ellington - In a Sentimental Mood\; Rollins - St. Thomas
UID:352-910394@events.umich.edu
URL:https://events.umich.edu/event/352
CLASS:PUBLIC
STATUS:CONFIRMED
CATEGORIES:music
LOCATION:Walgreen Drama Center - Stamps Auditorium
CONTACT:
END:VEVENT
BEGIN:VEVENT
DTSTAMP:20100312T030002
DTSTART;TZID=America/Detroit:20100312T200000
SUMMARY:Other:Symphony Band
DESCRIPTION:Michael Haithcock\, conductor. Repertoire of wide-ranging styles and compositional approaches blend familiar names with the eclectic voices of emerging composers.  Pre-concert discussion at 7:15 featuring composer-pianist\, and UM graduate\, Carter Pann. PROGRAM:  Turina - La Procession du Rocio\; Strauss - Serenade. Op. 7\; Maslanka - Traveler\; Pann - Concerto Logic\; Grainger - Duke of Marlborough Fanfare\, Mock Morris\, Irish Tune from Country Derry\, Molly on the Shore\, Gum Sucker’s March.
UID:505-911720@events.umich.edu
URL:https://events.umich.edu/event/505
CLASS:PUBLIC
STATUS:CONFIRMED
CATEGORIES:music
LOCATION:Hill Auditorium -  
CONTACT:
END:VEVENT
BEGIN:VEVENT
DTSTAMP:20100301T134658
DTSTART;TZID=America/Detroit:20100312T213000
SUMMARY:Film Screening:Film: Herb and Dorothy
DESCRIPTION:Herb and Dorothy tells the extraordinary story of Herbert Vogel\, a postal clerk\, and Dorothy Vogel\, a librarian\, who managed to build one of the most important contemporary art collections in history with very modest means. They collected artworks guided by two rules: the piece had to be affordable\, and it had to be small enough to fit in their one-bedroom Manhattan apartment. Most of those they supported and befriended in this process went on to become world-renowned artists\, including Sol LeWitt\, Christo and Jeanne-Claude\, Richard Tuttle\, and Chuck Close. Directed by Megumi Sasaki.
UID:2716-921048@events.umich.edu
URL:https://events.umich.edu/event/2716
CLASS:PUBLIC
STATUS:CONFIRMED
CATEGORIES:
LOCATION:Museum of Art - Helmut Stern Auditorium
CONTACT:
END:VEVENT
BEGIN:VEVENT
DTSTAMP:20101111T175743
DTSTART;TZID=America/Detroit:20100312T220000
DTEND;TZID=America/Detroit:20100312T020000
SUMMARY:Other:March 12th-UMix Latenight
DESCRIPTION:Tonight there will be a performance by ComCo starting at 10 followed by a showing  of “New Moon.” Also\, we will have make- your- own St. Patrick's Day cookie and  Student Performance Showcases (TBA). There will also be Make-Your-Own Music  Video along with karaoke all night with a free loaded baked potato buffet coming  out at midnight.  See you Friday at the Union!
UID:1733-916560@events.umich.edu
URL:https://events.umich.edu/event/1733
CLASS:PUBLIC
STATUS:CONFIRMED
CATEGORIES:
LOCATION:Michigan Union
CONTACT:
END:VEVENT
BEGIN:VEVENT
DTSTAMP:20100308T101220
DTSTART;TZID=America/Detroit:20100312T220000
DTEND;TZID=America/Detroit:20100312T020000
SUMMARY:Other:March 19th-UMix Latenight
DESCRIPTION:This week we've moved things up to North Campus at Pierpont Commons. Tonight  you can try out a mechanical surfboard and watch a Student Performance showcase  (TBA). Also\, we will be showing “The Blind Side” in addition to karaoke and a free  BBQ buffet with vegetarian options coming out at midnight. See you all up on North  Campus!
UID:1123-913973@events.umich.edu
URL:https://events.umich.edu/event/1123
CLASS:PUBLIC
STATUS:CONFIRMED
CATEGORIES:
LOCATION:Pierpont Commons
CONTACT:
END:VEVENT
END:VCALENDAR