BEGIN:VCALENDAR
VERSION:2.0
PRODID:-//UM//UM*Events//EN
CALSCALE:GREGORIAN
BEGIN:VTIMEZONE
TZID:America/Detroit
TZURL:http://tzurl.org/zoneinfo/America/Detroit
X-LIC-LOCATION:America/Detroit
BEGIN:DAYLIGHT
TZOFFSETFROM:-0500
TZOFFSETTO:-0400
TZNAME:EDT
DTSTART:20070311T020000
RRULE:FREQ=YEARLY;BYMONTH=3;BYDAY=2SU
END:DAYLIGHT
BEGIN:STANDARD
TZOFFSETFROM:-0400
TZOFFSETTO:-0500
TZNAME:EST
DTSTART:20071104T020000
RRULE:FREQ=YEARLY;BYMONTH=11;BYDAY=1SU
END:STANDARD
END:VTIMEZONE
BEGIN:VEVENT
DTSTAMP:20101111T175829
DTSTART;TZID=America/Detroit:20100313T000000
SUMMARY:Other:A2Fiber ”˜Call to Action’ to the University Community
DESCRIPTION:The University of Michigan and the city of Ann Arbor have teamed up to convince  Google to pick Ann Arbor for Google's Fiber for Communities trial. One of the key  components of Google's selection process is applicants must demonstrate strong  community support and participation. You can play an important supporting role!\n\nBy March 26\, please show your support by taking one or more of the following steps:\n\n-- Become an A2 Fiber Facebook fan: www.facebook.com/a2fiber -- Sign up to receive A2 Fiber e-mail notifications: www.a2gov.org/services/Pages/E-  mailAlertSubscription.aspx -- Submit a community group and resident nomination form:  www.google.com/appserve/fiberrfi/public/options -- Create your own video on YouTube: www.youtube.com/a2fiber.  -- Follow A2 Fiber on Twitter: www.twitter.com/a2fiber.  --Spread the word! \n\nLearn more at www.a2fiber.com
UID:2321-919619@events.umich.edu
URL:https://events.umich.edu/event/2321
CLASS:PUBLIC
STATUS:CONFIRMED
CATEGORIES:
LOCATION:
CONTACT:
END:VEVENT
BEGIN:VEVENT
DTSTAMP:20101111T175629
DTSTART;TZID=America/Detroit:20100313T000000
SUMMARY:Exhibition:Exhibit of Recent Aquisitions
DESCRIPTION:This exhibit includes an extraordinarily wide variety of primary source material collected to support current and  future research.  Among the items on display are:  a watercolor “portrait” of a railroad bridge built in Prague in  1850\, original artwork by local artist Tom Pohrt for a children's book written by Justice Sandra Day O'Connor\, a  diary and photographs from a female UM student who hitchhiked from Ann Arbor to San Francisco in 1923\, a  Spanish text from 1693 for those studying to be soldiers\, and Dante's Divine Comedy with illustrations by  Salvador Dali.  \n\nNew archival collections with samples on display include the papers of film director Robert Altman and writers  Nicholas Delbanco and Richard Tillinghast\, as well as four separate women involved in radical causes such as  Clarence Darrow's 1907 defense of union leaders accused of murder and the ecological costs of technology.   This is the first opportunity for the public to see materials from the Altman Collection\, which is estimated to be  1\,000 linear feet in size and is now being sorted and processed for use.
UID:748-911457@events.umich.edu
URL:https://events.umich.edu/event/748
CLASS:PUBLIC
STATUS:CONFIRMED
CATEGORIES:visual arts
LOCATION:Hatcher Graduate Library - 7th Floor Special Collections Library
CONTACT:
END:VEVENT
BEGIN:VEVENT
DTSTAMP:20101111T175620
DTSTART;TZID=America/Detroit:20100313T000000
SUMMARY:Exhibition:Permanent Exhibits at the Exhibit Museum of Natural History
DESCRIPTION:The Hall of Evolution houses Michigan's largest display of prehistoric life. More than 600 million years of life on Earth are traced through fossils\, models and dioramas. The Michigan Wildlife Gallery has a large collection of native Great Lakes birds\, mammals\, reptiles\, and amphibians\, with taxidermy mounts\, habitat scenes\, and the largest mastodon trackway on display in the world. There are also displays about some of the environmental problems faced in this region today. The Anthropology Displays feature artifacts from human cultures around the world. The Geology Displays on the fourth floor offer a large selection of rocks\, minerals and gems. These displays are updated periodically. For more information go to www.lsa.umich.edu/exhibitmuseum/exhibits/permexhibits or call 734-764-0480.
UID:452-910618@events.umich.edu
URL:https://events.umich.edu/event/452
CLASS:PUBLIC
STATUS:CONFIRMED
CATEGORIES:
LOCATION:Ruthven Museums Building
CONTACT:
END:VEVENT
BEGIN:VEVENT
DTSTAMP:20100318T170051
DTSTART;TZID=America/Detroit:20100313T080000
SUMMARY:Exhibition:Exhibit: The Ghost Army
DESCRIPTION:This exhibit tells the story of the Ghost Army from WWII. In June of 1944\, an  exceptional U.S. Army unit went into action in Normandy. Its weapons included  hundreds of inflatable tanks and a one-of-a-kind collection of sound effects  records\, and it carried out its battlefield mission without firing a shot. The unit was  officially called the 23rd Headquarters Special Troops\, but it was known to its men  as The Ghost Army.\n\nMembers of The Ghost Army adhered to a decades-long gag order\; many never  told their families about their extraordinary military service. Sixty-five years after  this top-secret group went into action\, the University of Michigan's Hatcher Library  will unveil the first public exhibit of this captivating group of materials documenting  The Ghost Army. \n\nThis exhibit is available during library hours. See http://www.lib.umich.edu/hatcher- graduate-library.
UID:1124-913918@events.umich.edu
URL:https://events.umich.edu/event/1124
CLASS:PUBLIC
STATUS:CONFIRMED
CATEGORIES:visual arts
LOCATION:Hatcher Graduate Library - Gallery in Room 100
CONTACT:
END:VEVENT
BEGIN:VEVENT
DTSTAMP:20100329T161307
DTSTART;TZID=America/Detroit:20100313T083000
DTEND;TZID=America/Detroit:20100313T190000
SUMMARY:Exhibition:A History of the Bible from Ancient Papyri to King James
DESCRIPTION:This exhibit\, from the Special Collections Library\, shows a path of documents that  led to the creation of the 1611 King James Version of the Bible – from ancient  Egyptian manuscripts on papyrus to Medieval manuscripts to the printed book.\n\nThe earliest documents on display are Egyptian papyri\, including examples of a  census record from the year 119 and the oldest known copy of part of the New  Testament. Medieval manuscripts document the preservation of the text until the  invention of movable type printing by Gutenberg around 1450. The early printed  Bibles include versions in Latin and Greek\, and several that show the struggles  among various political factions and church reformers to control the translating of  the Scriptures into the language of the people. See the King James Bible of 1611  that became the accepted standard.\n\nFor Audubon Room hours\, see https://www.lib.umich.edu/audubon-room
UID:2220-918648@events.umich.edu
URL:https://events.umich.edu/event/2220
CLASS:PUBLIC
STATUS:CONFIRMED
CATEGORIES:visual arts
LOCATION:Hatcher Graduate Library - Audubon Room/First Floor
CONTACT:
END:VEVENT
BEGIN:VEVENT
DTSTAMP:20101111T175709
DTSTART;TZID=America/Detroit:20100313T090000
DTEND;TZID=America/Detroit:20100313T120000
SUMMARY:Community Service:Eco-Restoration Workday at the Arb: Earth Day Related Event
DESCRIPTION:Enjoy and help preserve and protect the beautiful natural areas at Nichols  Arboretum while contributing to natural-areas stewardship and restoration efforts by  removing invasive shrubs and trees\, which are easier to spot in the winter. Groups  are welcome to join a public workday with advance notice or schedule a special  service event. 9am to noon.
UID:1341-914208@events.umich.edu
URL:https://events.umich.edu/event/1341
CLASS:PUBLIC
STATUS:CONFIRMED
CATEGORIES:
LOCATION:Nichols Arboretum
CONTACT:
END:VEVENT
BEGIN:VEVENT
DTSTAMP:20090722T143534
DTSTART;TZID=America/Detroit:20100313T090000
DTEND;TZID=America/Detroit:20100313T170000
SUMMARY:Exhibition:Ida: Darwinius masillae
DESCRIPTION:\"Ida\,\" a new exhibit in the Exhibit Museum's Rotunda\, displays a high-resolution cast of an extremely rare  fossil discovered in 1983 near Messel\, Germany\, but only recently made available for study. The fossil has  proven to be a “link” between the prosimian and simian (\"anthropoid\") primate lineages. It has \"advanced\"  front teeth (incisors and canines) and second toes like those of monkeys\, and is broadly representative of what  human primate ancestors may have looked like during the Eocene epoch 47 million years ago.     Ida (prounded \"eeda\") is named after after the daughter of Dr JÃ¸rn Hurum\, the Norwegian vertebrate  paleontologist who secured one section of the fossil from an anonymous owner\, and led the research. Ida was  about eight months old\, or the equivalent of a six-year-old human.     Publication of a paper on the discovery was accompanied by a book\, The Link: Uncovering Our Earliest  Ancestors by Colin Tudge\, and a documentary shown on the History Channel (US)\, BBC One (UK)\,and various  stations in Germany and Norway.     U-M paleontologist Philip Gingerich and U-M anthropologist B. Holly Smith were two members of the \"dream  team\" invited to study Ida. The exhibit will be on display through May 2010.
UID:2124-918253@events.umich.edu
URL:https://events.umich.edu/event/2124
CLASS:PUBLIC
STATUS:CONFIRMED
CATEGORIES:multicultural,visual arts,welcome week
LOCATION:
CONTACT:
END:VEVENT
BEGIN:VEVENT
DTSTAMP:20101111T175741
DTSTART;TZID=America/Detroit:20100313T090000
DTEND;TZID=America/Detroit:20100313T180000
SUMMARY:Other:Support Dance Marathon by Shopping U-M Computer Showcase
DESCRIPTION:When you purchase any featured Apple product at the Computer Showcase from  March 1-26\, we'll donate a percentage of the sale to support Dance Marathon at the  University of Michigan!\n\nPlus! Get a FREE printer when you purchase any MacBook\, MacBook Pro\, or iMac.\n\nLearn more here: http://showcase.itcs.umich.edu/news/dance-marathon.php
UID:1663-916341@events.umich.edu
URL:https://events.umich.edu/event/1663
CLASS:PUBLIC
STATUS:CONFIRMED
CATEGORIES:
LOCATION:Michigan Union
CONTACT:
END:VEVENT
BEGIN:VEVENT
DTSTAMP:20101111T175749
DTSTART;TZID=America/Detroit:20100313T100000
DTEND;TZID=America/Detroit:20100313T163000
SUMMARY:Other:The Healing Garden - Savor Nature's Restorative Powers
DESCRIPTION:This exhibit and display in the conservatory at Matthaei Botanical Gardens focuses  on the rejuvenating qualities of nature's scents\, colors\, and forms and on the  benefits of exercise and meditation. Interactive activities during the exhibit include  guided meditation\, aromatherapy station\, color and mood interpretation display\,  and meditative hikes. Also\, displays of bulbs and fresh-air plants. Cost inlcudes  admission to conservatory and above activities. Open Wednesday until 8 pm\; free  admission Wednesdays noon-8pm. Closed Mondays.
UID:1938-916782@events.umich.edu
URL:https://events.umich.edu/event/1938
CLASS:PUBLIC
STATUS:CONFIRMED
CATEGORIES:
LOCATION:
CONTACT:
END:VEVENT
BEGIN:VEVENT
DTSTAMP:20100313T030003
DTSTART;TZID=America/Detroit:20100313T140000
SUMMARY:Other:Masters Recital:  McLain Pray\, tuba
DESCRIPTION:PROGRAM:  Stevens - Journey\; Vivaldi -  Bassoon Concerto in E Minor\, RV 484\; Van Duuren - Dissociative Identity\; Wilder - Suite No. 1 for Horn\, Tuba\, and Piano
UID:1394-914339@events.umich.edu
URL:https://events.umich.edu/event/1394
CLASS:PUBLIC
STATUS:CONFIRMED
CATEGORIES:music
LOCATION:Walgreen Drama Center - Stamps Auditorium
CONTACT:
END:VEVENT
BEGIN:VEVENT
DTSTAMP:20100313T030003
DTSTART;TZID=America/Detroit:20100313T140000
SUMMARY:Other:Masters Recital:  Sipkje Pesnichak\, oboe
DESCRIPTION:PROGRAM:  Fesch - Sonata III\; Badings - Canzona per Oboe ed Organo\; Manneke - Dialogen voor Trompet (of Hobo) en Orgel\; Veldhuis - The Garden of Love for oboe and ghetto blaster\; Koetsier - Partita: corno inglese\, organo manualiter\; Badings - Trio No. 4a voor twee hobo's en althobo
UID:835-913212@events.umich.edu
URL:https://events.umich.edu/event/835
CLASS:PUBLIC
STATUS:CONFIRMED
CATEGORIES:music
LOCATION:
CONTACT:
END:VEVENT
BEGIN:VEVENT
DTSTAMP:20100227T212149
DTSTART;TZID=America/Detroit:20100313T170000
DTEND;TZID=America/Detroit:20100313T200000
SUMMARY:Other:42 B.C.: 42 Hour Business Challenge
DESCRIPTION:42 B.C. is a 42 hour business challenge open to U-M students of ALL MAJORS with an interest in entrepreneurship. At the beginning of the competition\, a team can choose problem statements from three categories and will develop a business plan within the next 42 hours:\n\nGreen Energy High-Tech Health Care\n\nContestants may work in teams of up to 6 people. At the end of the 42 hours\, contestants present their innovation & business plan to a panel of specialists judges. 42 B.C. does not require extensive prior business knowledge or experience. The 42 B.C. committee would provide checkpoint sessions and real time advising throughout the challenge.\n\nWinners of each category win $500 cash prize\; winners are also invited to a private dinner with CEOs and executives from venture capital firms.\n\nThe competition kicks off on Fri\, March 12 from 5-8PM\; it concludes with team presentations (in front of a professional panel of judges) from 2-5 PM.\n\nThe registration fee is $5\, which covers dinner and the kickoff and award ceremony events.\n\nRegister and find more information at our website: 42BC.com
UID:2513-919221@events.umich.edu
URL:https://events.umich.edu/event/2513
CLASS:PUBLIC
STATUS:CONFIRMED
CATEGORIES:
LOCATION:Taubman Biomedical Science Research Building - Kahn Auditorium
CONTACT:
END:VEVENT
BEGIN:VEVENT
DTSTAMP:20100313T030003
DTSTART;TZID=America/Detroit:20100313T170000
SUMMARY:Other:Senior Recital:  Matthew Santana\, violin
DESCRIPTION:PROGRAM:  Bach - Partita No. 2 in D Minor\, BWV 1004\; Béla BartÃ³k - Violin Concerto No. 2\, Sz 112
UID:1368-915013@events.umich.edu
URL:https://events.umich.edu/event/1368
CLASS:PUBLIC
STATUS:CONFIRMED
CATEGORIES:music
LOCATION:Earl V. Moore Building - Britton Recital hall
CONTACT:
END:VEVENT
BEGIN:VEVENT
DTSTAMP:20100223T184312
DTSTART;TZID=America/Detroit:20100313T180000
DTEND;TZID=America/Detroit:20100313T213000
SUMMARY:Exhibition:Malaysia Cultural Night - CITRAWARNA MALAYSIA
DESCRIPTION:Come join us for a night filled with colors and music of Malaysia. There will be FREE traditional delicacies to be sampled\, and also cultural as well as modern performances brought to you by the Malaysian students at the University of Michigan. In addition to that\, there will also be FREE gifts and games. Most importantly\, admission is FREE for all! So come on and bring your friends and family members to our meaningful event\, and also to learn more about the traditions as well as the modern aspects of Malaysia.\n\nOr visit our website at: www.mcn.umimsa.com\n\nIf you have further inquiries\, please do not hesitate to contact us at slyviasze@gmail.com (slyvia) or youning@umich.edu (youning).
UID:643-912202@events.umich.edu
URL:https://events.umich.edu/event/643
CLASS:PUBLIC
STATUS:CONFIRMED
CATEGORIES:visual arts,theater,music,multicultural,dance
LOCATION:Angell Hall - Angel Hall Auditorium B
CONTACT:
END:VEVENT
BEGIN:VEVENT
DTSTAMP:20101111T175616
DTSTART;TZID=America/Detroit:20100313T190000
SUMMARY:Reception / Open House:Cirque de L'etoiles
DESCRIPTION:
UID:329-910370@events.umich.edu
URL:https://events.umich.edu/event/329
CLASS:PUBLIC
STATUS:CONFIRMED
CATEGORIES:
LOCATION:Michigan Union - Ballroom
CONTACT:
END:VEVENT
BEGIN:VEVENT
DTSTAMP:20101111T175651
DTSTART;TZID=America/Detroit:20100313T190000
SUMMARY:Performance:Impact Dance Annual Production
DESCRIPTION:Impact Dance Spring Show -- an exciting compilation of jazz and contemporary dance choreographed entirely by students!!!
UID:1096-913052@events.umich.edu
URL:https://events.umich.edu/event/1096
CLASS:PUBLIC
STATUS:CONFIRMED
CATEGORIES:dance
LOCATION:Lydia Mendelssohn Theatre
CONTACT:
END:VEVENT
BEGIN:VEVENT
DTSTAMP:20101111T175617
DTSTART;TZID=America/Detroit:20100313T200000
SUMMARY:Performance:Band of Heathens
DESCRIPTION:
UID:355-910396@events.umich.edu
URL:https://events.umich.edu/event/355
CLASS:PUBLIC
STATUS:CONFIRMED
CATEGORIES:music
LOCATION:
CONTACT:
END:VEVENT
BEGIN:VEVENT
DTSTAMP:20101111T175658
DTSTART;TZID=America/Detroit:20100313T200000
DTEND;TZID=America/Detroit:20100313T230000
SUMMARY:Performance:Drag King Rebellion & Riot Youth's Gayrilla Theater
DESCRIPTION:Drag King Rebellion & Riot Youth's Gayrilla Theater  8p-11p\, Rackham Auditorium Sponsored by: U-M School of Social Work's Rainbow Network\n\nThrough performing the results of a survey\, Riot Youth's Gayrilla Theater Troupe  aims to shed light on what it's like to be queer in Washtenaw community high  schools. Drag King Rebellion is a local gender performance troupe whose goal is to  entertain while educating audiences with socio-politically conscious performances  about gender.\n\nRiot Youth and DKR are performing as part of a larger\, weekend conference on  activism called \"Bring it Back\, Take it Forward\,\" celebrating 50 years of activism in  Ann Arbor.  Please join us for what is sure to be a memorable performance by Riot  Youth and DKR!\n\n*This event is a part of the Bring it Back\, Take it Forward\" FREE weekend conference  celebrating 50 years of activism in Ann Arbor!\n\nContact: Sarah Carlson\, saca@umich.edu
UID:948-913506@events.umich.edu
URL:https://events.umich.edu/event/948
CLASS:PUBLIC
STATUS:CONFIRMED
CATEGORIES:theater,dance
LOCATION:Rackham Graduate School (Horace H.) - Auditorium
CONTACT:
END:VEVENT
BEGIN:VEVENT
DTSTAMP:20100313T030003
DTSTART;TZID=America/Detroit:20100313T200000
SUMMARY:Other:First Dissertation Recital:  Paul Dwyer\, cello
DESCRIPTION:PROGRAM:  GÃ¼l - Two Colors for Solo Cello\; Brown - Elemental for Solo Cello\; Shin - Three Pieces for Solo Cello\; Premo - Echo Lake for Solo Cello\; LeMay -  Somewhere in Germany\, 1945\; Ware - If I Have No Witness for Solo Cello and Electronics\; Dooley - Gradus for Solo Cello
UID:2045-917072@events.umich.edu
URL:https://events.umich.edu/event/2045
CLASS:PUBLIC
STATUS:CONFIRMED
CATEGORIES:music
LOCATION:Earl V. Moore Building - McIntosh Theatre
CONTACT:
END:VEVENT
BEGIN:VEVENT
DTSTAMP:20100313T030003
DTSTART;TZID=America/Detroit:20100313T200000
SUMMARY:Other:Masters Recital:  Stijn De Cock\, piano
DESCRIPTION:PROGRAM:  Bach - Prelude & Fugue in G Major\, BWV 860 from the Well-Tempered Clavier\; Schubert - Piano Sonata in C Minor\, D. 958\; Copland - El Salon Mexico\; Scriabin - Fantasy in B Minor\, Op. 28\; Liszt - Totentanz\, Transcription for Piano Solo\, S. 525
UID:1941-917909@events.umich.edu
URL:https://events.umich.edu/event/1941
CLASS:PUBLIC
STATUS:CONFIRMED
CATEGORIES:music
LOCATION:Walgreen Drama Center - Stamps Auditorium
CONTACT:
END:VEVENT
BEGIN:VEVENT
DTSTAMP:20100313T030002
DTSTART;TZID=America/Detroit:20100313T200000
SUMMARY:Other:Mens Glee Club and Harvard Mens Glee Club
DESCRIPTION:The culmination of three major celebrations in two years – the 150th anniversaries of the Harvard (2009) and University of Michigan (2010) Glee Clubs\, and HGC conductor Jameson Marvin’s 32nd and final year as Director of Choral Activities at Harvard University – this memorable concert will feature music from many different time periods and styles\, including Renaissance\, American contemporary\, and folk songs from around the world.Tickets required: Please visit www.umich.edu/~ummgc for information.
UID:2566-920192@events.umich.edu
URL:https://events.umich.edu/event/2566
CLASS:PUBLIC
STATUS:CONFIRMED
CATEGORIES:music
LOCATION:
CONTACT:
END:VEVENT
BEGIN:VEVENT
DTSTAMP:20100313T030003
DTSTART;TZID=America/Detroit:20100313T200000
SUMMARY:Other:Second Dissertation Recital:  Jeffrey Barudin\, percussion
DESCRIPTION:PROGRAM:  Arrangements in Percussion Ensemble Settings:   Chabrier - EspaÃ±a\; Alvarez - Metro Chabacano\; Bolcom - Graceful Ghost Rag - Concert Variation\; Stravinsky - 'Dance' movements from Histoire du Soldat\;  Grusin - Memphis Stomp\; Mozart - Prelude and Fugue (after J.S. Bach) in F Major\, K. 404a/3\; Joplin - Stoptime Rag\; Rimsky-Korsakov - Flight of the Bumblebee
UID:2071-917110@events.umich.edu
URL:https://events.umich.edu/event/2071
CLASS:PUBLIC
STATUS:CONFIRMED
CATEGORIES:music
LOCATION:Earl V. Moore Building - Rehearsal Hall
CONTACT:
END:VEVENT
BEGIN:VEVENT
DTSTAMP:20100313T030003
DTSTART;TZID=America/Detroit:20100313T200000
SUMMARY:Other:Senior Recital\, John Beresford\, organ
DESCRIPTION:PROGRAM:  Bach - Prelude and Fugue in G Major\, BWV 541\; Bach - Trio Sonata IV in E Minor\, BWV\; Widor - Finale from Symphonie VI\; Eben - Two Invocations for Trombone and Organ\; Franck - Chorale No. 1 in E Major
UID:1070-912914@events.umich.edu
URL:https://events.umich.edu/event/1070
CLASS:PUBLIC
STATUS:CONFIRMED
CATEGORIES:music
LOCATION:Hill Auditorium -  
CONTACT:
END:VEVENT
BEGIN:VEVENT
DTSTAMP:20100313T030002
DTSTART;TZID=America/Detroit:20100313T200000
SUMMARY:Other:Student Woodwind Ensembles Recital
DESCRIPTION:A recital featuring a variety of small woodwind ensembles.
UID:1685-916475@events.umich.edu
URL:https://events.umich.edu/event/1685
CLASS:PUBLIC
STATUS:CONFIRMED
CATEGORIES:music
LOCATION:Earl V. Moore Building - Britton Recital Hall
CONTACT:
END:VEVENT
END:VCALENDAR