BEGIN:VCALENDAR
VERSION:2.0
PRODID:-//UM//UM*Events//EN
CALSCALE:GREGORIAN
BEGIN:VTIMEZONE
TZID:America/Detroit
TZURL:http://tzurl.org/zoneinfo/America/Detroit
X-LIC-LOCATION:America/Detroit
BEGIN:DAYLIGHT
TZOFFSETFROM:-0500
TZOFFSETTO:-0400
TZNAME:EDT
DTSTART:20070311T020000
RRULE:FREQ=YEARLY;BYMONTH=3;BYDAY=2SU
END:DAYLIGHT
BEGIN:STANDARD
TZOFFSETFROM:-0400
TZOFFSETTO:-0500
TZNAME:EST
DTSTART:20071104T020000
RRULE:FREQ=YEARLY;BYMONTH=11;BYDAY=1SU
END:STANDARD
END:VTIMEZONE
BEGIN:VEVENT
DTSTAMP:20101111T175829
DTSTART;TZID=America/Detroit:20100315T000000
SUMMARY:Other:A2Fiber ”˜Call to Action’ to the University Community
DESCRIPTION:The University of Michigan and the city of Ann Arbor have teamed up to convince  Google to pick Ann Arbor for Google's Fiber for Communities trial. One of the key  components of Google's selection process is applicants must demonstrate strong  community support and participation. You can play an important supporting role!\n\nBy March 26\, please show your support by taking one or more of the following steps:\n\n-- Become an A2 Fiber Facebook fan: www.facebook.com/a2fiber -- Sign up to receive A2 Fiber e-mail notifications: www.a2gov.org/services/Pages/E-  mailAlertSubscription.aspx -- Submit a community group and resident nomination form:  www.google.com/appserve/fiberrfi/public/options -- Create your own video on YouTube: www.youtube.com/a2fiber.  -- Follow A2 Fiber on Twitter: www.twitter.com/a2fiber.  --Spread the word! \n\nLearn more at www.a2fiber.com
UID:2321-919621@events.umich.edu
URL:https://events.umich.edu/event/2321
CLASS:PUBLIC
STATUS:CONFIRMED
CATEGORIES:
LOCATION:
CONTACT:
END:VEVENT
BEGIN:VEVENT
DTSTAMP:20101111T175629
DTSTART;TZID=America/Detroit:20100315T000000
SUMMARY:Exhibition:Exhibit of Recent Aquisitions
DESCRIPTION:This exhibit includes an extraordinarily wide variety of primary source material collected to support current and  future research.  Among the items on display are:  a watercolor “portrait” of a railroad bridge built in Prague in  1850\, original artwork by local artist Tom Pohrt for a children's book written by Justice Sandra Day O'Connor\, a  diary and photographs from a female UM student who hitchhiked from Ann Arbor to San Francisco in 1923\, a  Spanish text from 1693 for those studying to be soldiers\, and Dante's Divine Comedy with illustrations by  Salvador Dali.  \n\nNew archival collections with samples on display include the papers of film director Robert Altman and writers  Nicholas Delbanco and Richard Tillinghast\, as well as four separate women involved in radical causes such as  Clarence Darrow's 1907 defense of union leaders accused of murder and the ecological costs of technology.   This is the first opportunity for the public to see materials from the Altman Collection\, which is estimated to be  1\,000 linear feet in size and is now being sorted and processed for use.
UID:748-911459@events.umich.edu
URL:https://events.umich.edu/event/748
CLASS:PUBLIC
STATUS:CONFIRMED
CATEGORIES:visual arts
LOCATION:Hatcher Graduate Library - 7th Floor Special Collections Library
CONTACT:
END:VEVENT
BEGIN:VEVENT
DTSTAMP:20101111T175620
DTSTART;TZID=America/Detroit:20100315T000000
SUMMARY:Exhibition:Permanent Exhibits at the Exhibit Museum of Natural History
DESCRIPTION:The Hall of Evolution houses Michigan's largest display of prehistoric life. More than 600 million years of life on Earth are traced through fossils\, models and dioramas. The Michigan Wildlife Gallery has a large collection of native Great Lakes birds\, mammals\, reptiles\, and amphibians\, with taxidermy mounts\, habitat scenes\, and the largest mastodon trackway on display in the world. There are also displays about some of the environmental problems faced in this region today. The Anthropology Displays feature artifacts from human cultures around the world. The Geology Displays on the fourth floor offer a large selection of rocks\, minerals and gems. These displays are updated periodically. For more information go to www.lsa.umich.edu/exhibitmuseum/exhibits/permexhibits or call 734-764-0480.
UID:452-910620@events.umich.edu
URL:https://events.umich.edu/event/452
CLASS:PUBLIC
STATUS:CONFIRMED
CATEGORIES:
LOCATION:Ruthven Museums Building
CONTACT:
END:VEVENT
BEGIN:VEVENT
DTSTAMP:20100318T170051
DTSTART;TZID=America/Detroit:20100315T080000
SUMMARY:Exhibition:Exhibit: The Ghost Army
DESCRIPTION:This exhibit tells the story of the Ghost Army from WWII. In June of 1944\, an  exceptional U.S. Army unit went into action in Normandy. Its weapons included  hundreds of inflatable tanks and a one-of-a-kind collection of sound effects  records\, and it carried out its battlefield mission without firing a shot. The unit was  officially called the 23rd Headquarters Special Troops\, but it was known to its men  as The Ghost Army.\n\nMembers of The Ghost Army adhered to a decades-long gag order\; many never  told their families about their extraordinary military service. Sixty-five years after  this top-secret group went into action\, the University of Michigan's Hatcher Library  will unveil the first public exhibit of this captivating group of materials documenting  The Ghost Army. \n\nThis exhibit is available during library hours. See http://www.lib.umich.edu/hatcher- graduate-library.
UID:1124-913920@events.umich.edu
URL:https://events.umich.edu/event/1124
CLASS:PUBLIC
STATUS:CONFIRMED
CATEGORIES:visual arts
LOCATION:Hatcher Graduate Library - Gallery in Room 100
CONTACT:
END:VEVENT
BEGIN:VEVENT
DTSTAMP:20101111T175759
DTSTART;TZID=America/Detroit:20100315T080000
DTEND;TZID=America/Detroit:20100315T170000
SUMMARY:Exhibition:History of Dentistry exhibits at the Sindecuse Museum of Dentistry
DESCRIPTION:Exhibits at the Sindecuse Museum of Dentistry include Dental Operatories of the 1860s to 1930s\, St. Apollonia-Patron Saint of Dentistry and more. Call 763-0767 or go to www.dent.umich.edu/museum for more information.
UID:3856-917505@events.umich.edu
URL:https://events.umich.edu/event/3856
CLASS:PUBLIC
STATUS:CONFIRMED
CATEGORIES:
LOCATION:Dental & W.K. Kellogg Institute
CONTACT:
END:VEVENT
BEGIN:VEVENT
DTSTAMP:20100329T161307
DTSTART;TZID=America/Detroit:20100315T083000
DTEND;TZID=America/Detroit:20100315T190000
SUMMARY:Exhibition:A History of the Bible from Ancient Papyri to King James
DESCRIPTION:This exhibit\, from the Special Collections Library\, shows a path of documents that  led to the creation of the 1611 King James Version of the Bible – from ancient  Egyptian manuscripts on papyrus to Medieval manuscripts to the printed book.\n\nThe earliest documents on display are Egyptian papyri\, including examples of a  census record from the year 119 and the oldest known copy of part of the New  Testament. Medieval manuscripts document the preservation of the text until the  invention of movable type printing by Gutenberg around 1450. The early printed  Bibles include versions in Latin and Greek\, and several that show the struggles  among various political factions and church reformers to control the translating of  the Scriptures into the language of the people. See the King James Bible of 1611  that became the accepted standard.\n\nFor Audubon Room hours\, see https://www.lib.umich.edu/audubon-room
UID:2220-918650@events.umich.edu
URL:https://events.umich.edu/event/2220
CLASS:PUBLIC
STATUS:CONFIRMED
CATEGORIES:visual arts
LOCATION:Hatcher Graduate Library - Audubon Room/First Floor
CONTACT:
END:VEVENT
BEGIN:VEVENT
DTSTAMP:20090722T143534
DTSTART;TZID=America/Detroit:20100315T090000
DTEND;TZID=America/Detroit:20100315T170000
SUMMARY:Exhibition:Ida: Darwinius masillae
DESCRIPTION:\"Ida\,\" a new exhibit in the Exhibit Museum's Rotunda\, displays a high-resolution cast of an extremely rare  fossil discovered in 1983 near Messel\, Germany\, but only recently made available for study. The fossil has  proven to be a “link” between the prosimian and simian (\"anthropoid\") primate lineages. It has \"advanced\"  front teeth (incisors and canines) and second toes like those of monkeys\, and is broadly representative of what  human primate ancestors may have looked like during the Eocene epoch 47 million years ago.     Ida (prounded \"eeda\") is named after after the daughter of Dr JÃ¸rn Hurum\, the Norwegian vertebrate  paleontologist who secured one section of the fossil from an anonymous owner\, and led the research. Ida was  about eight months old\, or the equivalent of a six-year-old human.     Publication of a paper on the discovery was accompanied by a book\, The Link: Uncovering Our Earliest  Ancestors by Colin Tudge\, and a documentary shown on the History Channel (US)\, BBC One (UK)\,and various  stations in Germany and Norway.     U-M paleontologist Philip Gingerich and U-M anthropologist B. Holly Smith were two members of the \"dream  team\" invited to study Ida. The exhibit will be on display through May 2010.
UID:2124-918255@events.umich.edu
URL:https://events.umich.edu/event/2124
CLASS:PUBLIC
STATUS:CONFIRMED
CATEGORIES:welcome week,visual arts,multicultural
LOCATION:
CONTACT:
END:VEVENT
BEGIN:VEVENT
DTSTAMP:20101111T175734
DTSTART;TZID=America/Detroit:20100315T090000
DTEND;TZID=America/Detroit:20100315T170000
SUMMARY:Exhibition:Scott Hocking Installation
DESCRIPTION:Scott Hocking explores the abandoned buildings and sites of Detroit like a  newfangled scientist. He gathers raw data in his excavations\, and records his  findings using a wholly unique and modern process and method that he intuitively  formulates as he goes along. In his ongoing study of a city so rooted in a dense  past\, and the emotional attachments that accompany it\, Hocking is  uncompromising and unflinching\, and refuses to buy into the hype. His visual  essays chronicling urban markings of modern day ruin are not the stuff of tragedy  or fodder for magazine centerfolds\, but proof of a renaissance in real time.  Hocking's work is fully alive\, and honors the world going past and us moving forward  along with it\, exhilarated by industrial parks returning to fallow land\, and strawberry  bushes growing in the cracked concrete.
UID:1793-915908@events.umich.edu
URL:https://events.umich.edu/event/1793
CLASS:PUBLIC
STATUS:CONFIRMED
CATEGORIES:visual arts
LOCATION:202 S. Thayer - 1010
CONTACT:
END:VEVENT
BEGIN:VEVENT
DTSTAMP:20101111T175741
DTSTART;TZID=America/Detroit:20100315T090000
DTEND;TZID=America/Detroit:20100315T180000
SUMMARY:Other:Support Dance Marathon by Shopping U-M Computer Showcase
DESCRIPTION:When you purchase any featured Apple product at the Computer Showcase from  March 1-26\, we'll donate a percentage of the sale to support Dance Marathon at the  University of Michigan!\n\nPlus! Get a FREE printer when you purchase any MacBook\, MacBook Pro\, or iMac.\n\nLearn more here: http://showcase.itcs.umich.edu/news/dance-marathon.php
UID:1663-916343@events.umich.edu
URL:https://events.umich.edu/event/1663
CLASS:PUBLIC
STATUS:CONFIRMED
CATEGORIES:
LOCATION:Michigan Union
CONTACT:
END:VEVENT
BEGIN:VEVENT
DTSTAMP:20101111T175600
DTSTART;TZID=America/Detroit:20100315T100000
DTEND;TZID=America/Detroit:20100315T170000
SUMMARY:Exhibition:Stearns Collection of Music
DESCRIPTION:The Stearns Collection at the School of Music\, Theatre & Dance is one of six major collections of musical instruments in North America. The 2\,500-piece collection is internationally known and is a resource for musical and cultural education.
UID:3790-909237@events.umich.edu
URL:https://events.umich.edu/event/3790
CLASS:PUBLIC
STATUS:CONFIRMED
CATEGORIES:
LOCATION:Earl V. Moore Building
CONTACT:
END:VEVENT
BEGIN:VEVENT
DTSTAMP:20101111T175648
DTSTART;TZID=America/Detroit:20100315T120000
DTEND;TZID=America/Detroit:20100315T130000
SUMMARY:Rally / Mass Meeting:Spring Pride Rally
DESCRIPTION:Spring Pride Rally 12p-1p\, Central Campus Diag Sponsored by: LGBT Commission of MSA\n\nCome and celebrate Spring Pride Week with LGBT Commission!\n\nContact: Kaelen Medeiros\, kaelenmedeiros@gmail.com
UID:981-912790@events.umich.edu
URL:https://events.umich.edu/event/981
CLASS:PUBLIC
STATUS:CONFIRMED
CATEGORIES:
LOCATION:
CONTACT:
END:VEVENT
BEGIN:VEVENT
DTSTAMP:20101111T175800
DTSTART;TZID=America/Detroit:20100315T150000
DTEND;TZID=America/Detroit:20100315T170000
SUMMARY:Lecture / Discussion:Gay Shame: Publication Party and Book Signing
DESCRIPTION:Gay Shame: Publication Party and Book Signing 3p-5p\, Lane Hall Gallery Sponsored by: Institute for Research on Women and Gender\n\nThis event features the Editors of the book Gay Shame: David Halperin\, of the  English Women's Studies and Comparative Literature Departments and Valerie  Traub\, of the English and Women's Studies Departments. \n\nEver since the 1969 Stonewall Riots\, gay pride has been the rallying cry of the gay  rights movement and the political force behind the emergence of the field of  lesbian and gay studies. But has something been lost\, forgotten\, or buried beneath  the drive to transform homosexuality from a perversion to a proud social identity?  Have the political requirements of gay pride repressed discussion of the more  uncomfortable or undignified aspects of homosexuality?\n\nStemming from the international Gay Shame Conference in 2003\, Gay Shame  seeks to lift this unofficial ban on the investigation of homosexuality and shame by  presenting critical work from the most vibrant frontier in contemporary queer  studies. Contributors tackle a range of issues questions of emotion\, disreputable  sexual histories\, dissident gender identities\, and embarrassing figures and  moments in gay history as they explore the possibility of reclaiming shame as a  new\, even productive\, way to examine lesbian and gay culture. Common Language  will be on hand selling books and both editors will be available to sign them. This  event is free and open to the public. 	 Contact: irwg@umich.edu
UID:2267-917717@events.umich.edu
URL:https://events.umich.edu/event/2267
CLASS:PUBLIC
STATUS:CONFIRMED
CATEGORIES:
LOCATION:Lane Hall - Lane Hall Gallery
CONTACT:
END:VEVENT
BEGIN:VEVENT
DTSTAMP:20101111T175702
DTSTART;TZID=America/Detroit:20100315T160000
DTEND;TZID=America/Detroit:20100315T173000
SUMMARY:Lecture / Discussion:STPP Winter Lecture Series
DESCRIPTION:New Orleans' Holy Cross/Lower Ninth Ward (HC9) neighborhood became an unlikely and unplanned laboratory following its massive flooding and partial erasure after Hurricane Katrina in 2005. This area of the city\, magnified by the media\, epitomized both the immense destruction of the storm and the racial inequalities embedded within urban structures. Over the last few years many “green” NGOs have focused their efforts on HC9 and it is now an evolving showplace for sustainable building practices. Given that these groups\, their volunteers\, material donations\, and funding\, form one of the main resource streams into the community\, the “greening” has been welcomed by many. Indeed\, according to its website\, Holy Cross hopes to become the nation's first sustainable\, carbon neutral neighborhood.\n\nBARBARA L. ALLEN is the director of the graduate program in Science\, Technology and Society (STS) at Virginia Tech's Washington DC area campus where she also teaches the sociology of risk\, sociology of knowledge\, and public participation in science and technology. She is the author of Uneasy Alchemy: Citizens and Experts in Louisiana's Chemical Corridor Disputes (2003) and co-editor of several books including\, Dynamics of Disaster\, and Lessons on Risk\, Response and Recovery (forthcoming\, 2011). She is currently writing a book comparing citizen participation in policy-relevant science within environmental struggles in Europe and the U.S. Before receiving her Ph.D. in STS from RPI in 1999\, Allen was a professor of architecture at Tulane University and at the University of Louisiana at Lafayette. For more information\, contact the Program in Science\, Technology\, and Public Policy through stpp.fordschool.umich.edu  or email jbisanz@umich.edu
UID:1099-913776@events.umich.edu
URL:https://events.umich.edu/event/1099
CLASS:PUBLIC
STATUS:CONFIRMED
CATEGORIES:
LOCATION:Weill Hall (Ford School) - 1110 (Betty Ford Classroom)
CONTACT:
END:VEVENT
BEGIN:VEVENT
DTSTAMP:20101111T175902
DTSTART;TZID=America/Detroit:20100315T180000
DTEND;TZID=America/Detroit:20100315T210000
SUMMARY:Workshop / Seminar:Hillel LGBTQ Ally Training
DESCRIPTION:Hillel will be holding Ally Training for all interested leaders and students. This is a two-part training that explores identity and strengthens your ability to serve as an ally to the lesbian\, gay\, bisexual\, transgender\, and queer/questioning (LGBTQ) community at U-M.\n\nThis training is divided into two parts: March 11 and March 15 from 6:00 - 9:00pm. Both parts must be completed in succession.\n\nPlease contact Ryan Garber (rygarber@umich.edu) for more information and to reserve a spot in the training.
UID:2883-921643@events.umich.edu
URL:https://events.umich.edu/event/2883
CLASS:PUBLIC
STATUS:CONFIRMED
CATEGORIES:
LOCATION:Hillel (Mandell L Berman Center)
CONTACT:
END:VEVENT
BEGIN:VEVENT
DTSTAMP:20100315T030003
DTSTART;TZID=America/Detroit:20100315T190000
SUMMARY:Other:Michigan Youth Ensembles
DESCRIPTION:Michigan Youth Women’s Chorale - Julie Skadsem\; Michigan Youth Chamber Singers - Paul Rardin\, Director\; Michigan Youth Orchestra - Anthony Elliott\, Conductor\; Michigan Youth Band - Rodney Dorsey\, Conductor
UID:837-913275@events.umich.edu
URL:https://events.umich.edu/event/837
CLASS:PUBLIC
STATUS:CONFIRMED
CATEGORIES:music
LOCATION:Hill Auditorium -  
CONTACT:
END:VEVENT
BEGIN:VEVENT
DTSTAMP:20100315T030003
DTSTART;TZID=America/Detroit:20100315T190000
SUMMARY:Other:Playfest 10: LIVING DEAD
DESCRIPTION:Staged reading. By Matt Bouse: A high-strung couple’s dinner party plans get disrupted when a stack of mysterious pizzas show up at their front door. Accusations of responsibility bring the couple to an escalating argument about honesty\, infidelity and their crumbling marital image. Things get violent as they attempt to save face through murder.
UID:942-913499@events.umich.edu
URL:https://events.umich.edu/event/942
CLASS:PUBLIC
STATUS:CONFIRMED
CATEGORIES:theater,music
LOCATION:Walgreen Drama Center - Studio One
CONTACT:
END:VEVENT
BEGIN:VEVENT
DTSTAMP:20101111T175624
DTSTART;TZID=America/Detroit:20100315T190000
DTEND;TZID=America/Detroit:20100315T203000
SUMMARY:Other:Roundtable Discussion: \"The  Pros and Cons of Buying Local\"
DESCRIPTION:What:   Roundtable Discussion: \"The  Pros and Cons of Buying Local\" When:  Mon Mar 15\, 7 pm - 8:30 pm Where: Sophia Jones Room\, Michigan Union\n\n Co-organized by:  1) Inter-Cooperative Council (ICC) at UM (a.k.a.\"the student co-ops\")                           2) UM College Socialists                           3) Students Organizing for Labor Equality (SOLE) at UM\n\n Featuring:   Karl Pohrt (former owner of Shaman Drum Book Store\, Ann Arbor)                  Grace Potts (organization development consultant in Ann Arbor                                      associated with \"buying local\" initiatives)                  Lydia McMullen-Laird  (UM student)                  Joseph Varilone (UM student)                  AND any and all interested members of the community
UID:560-911083@events.umich.edu
URL:https://events.umich.edu/event/560
CLASS:PUBLIC
STATUS:CONFIRMED
CATEGORIES:social justice
LOCATION:
CONTACT:
END:VEVENT
BEGIN:VEVENT
DTSTAMP:20100315T030003
DTSTART;TZID=America/Detroit:20100315T200000
SUMMARY:Other:Faculty and Guest Recital:  Trio Solari
DESCRIPTION:Chad Burrow (clarinet)\, Sean Wang (violin\, University of Houston)\, Amy I-Lin Cheng (piano).  PROGRAM:  Milhaud - Suite for Clarinet\, Violin and Piano\; Khachaturian - Trio for Clarinet\, Violin and Piano\; Bartok - Contrasts for Clarinet\, Violin and Piano\; Stravinsky - L’histoire du Soldat
UID:2579-919281@events.umich.edu
URL:https://events.umich.edu/event/2579
CLASS:PUBLIC
STATUS:CONFIRMED
CATEGORIES:music
LOCATION:Walgreen Drama Center - Stamps Auditorium
CONTACT:
END:VEVENT
BEGIN:VEVENT
DTSTAMP:20100315T030003
DTSTART;TZID=America/Detroit:20100315T200000
SUMMARY:Other:Harp Studio Recital
DESCRIPTION:PROGRAM:   Salzedo - Chansons dans la Nuit\; Andres - La Gimblette\; Faure -  Impromptu\; Grandjany - Freres Jacques\, Fantaisie pour Harpe\; Debussy - Petite Suite\; Flagello - Berceuse\; Pescetti - Sonata in C Minor\; English Folksong - How Sweet the Winds Doth Blow
UID:227-910185@events.umich.edu
URL:https://events.umich.edu/event/227
CLASS:PUBLIC
STATUS:CONFIRMED
CATEGORIES:music
LOCATION:Earl V. Moore Building - Blanche Anderson Moore Hall
CONTACT:
END:VEVENT
BEGIN:VEVENT
DTSTAMP:20100315T030003
DTSTART;TZID=America/Detroit:20100315T200000
SUMMARY:Other:Masters Recital:  Willis Bote\, tenor
DESCRIPTION:PROGRAM:  Set 1: Beethoven - Adelaide No. 3\, Op. 12\; Wonne der Wehmut No. 1\, Op. 83\;Der KuÃŸ Op. 128\; Set 2: Ravel - Chanson de la mariée\; LÃ -bas\, vers l'église\; Quel gallant m'est comparable\; Chanson des cueilleuses de lentisques\; Tout gai!\; Set 3: Mozart - Misero! O sogno\, o son desto? KV 431\; Set 4: Rachmaninov - >:0\;87 No. 14\, Op. 34\; C>= No. 5\, Op. 8\; 5 ?>9\, :@0A028F0 No. 4\, Op. 4\; 45AL E>@>H> No. 7\, Op. 21\; Set 5: Botti - Jabberwocky
UID:154-910072@events.umich.edu
URL:https://events.umich.edu/event/154
CLASS:PUBLIC
STATUS:CONFIRMED
CATEGORIES:music
LOCATION:Earl V. Moore Building - Britton Recital Hall
CONTACT:
END:VEVENT
END:VCALENDAR