BEGIN:VCALENDAR
VERSION:2.0
PRODID:-//UM//UM*Events//EN
CALSCALE:GREGORIAN
BEGIN:VTIMEZONE
TZID:America/Detroit
TZURL:http://tzurl.org/zoneinfo/America/Detroit
X-LIC-LOCATION:America/Detroit
BEGIN:DAYLIGHT
TZOFFSETFROM:-0500
TZOFFSETTO:-0400
TZNAME:EDT
DTSTART:20070311T020000
RRULE:FREQ=YEARLY;BYMONTH=3;BYDAY=2SU
END:DAYLIGHT
BEGIN:STANDARD
TZOFFSETFROM:-0400
TZOFFSETTO:-0500
TZNAME:EST
DTSTART:20071104T020000
RRULE:FREQ=YEARLY;BYMONTH=11;BYDAY=1SU
END:STANDARD
END:VTIMEZONE
BEGIN:VEVENT
DTSTAMP:20101111T175829
DTSTART;TZID=America/Detroit:20100316T000000
SUMMARY:Other:A2Fiber ”˜Call to Action’ to the University Community
DESCRIPTION:The University of Michigan and the city of Ann Arbor have teamed up to convince  Google to pick Ann Arbor for Google's Fiber for Communities trial. One of the key  components of Google's selection process is applicants must demonstrate strong  community support and participation. You can play an important supporting role!\n\nBy March 26\, please show your support by taking one or more of the following steps:\n\n-- Become an A2 Fiber Facebook fan: www.facebook.com/a2fiber -- Sign up to receive A2 Fiber e-mail notifications: www.a2gov.org/services/Pages/E-  mailAlertSubscription.aspx -- Submit a community group and resident nomination form:  www.google.com/appserve/fiberrfi/public/options -- Create your own video on YouTube: www.youtube.com/a2fiber.  -- Follow A2 Fiber on Twitter: www.twitter.com/a2fiber.  --Spread the word! \n\nLearn more at www.a2fiber.com
UID:2321-919622@events.umich.edu
URL:https://events.umich.edu/event/2321
CLASS:PUBLIC
STATUS:CONFIRMED
CATEGORIES:
LOCATION:
CONTACT:
END:VEVENT
BEGIN:VEVENT
DTSTAMP:20101111T175629
DTSTART;TZID=America/Detroit:20100316T000000
SUMMARY:Exhibition:Exhibit of Recent Aquisitions
DESCRIPTION:This exhibit includes an extraordinarily wide variety of primary source material collected to support current and  future research.  Among the items on display are:  a watercolor “portrait” of a railroad bridge built in Prague in  1850\, original artwork by local artist Tom Pohrt for a children's book written by Justice Sandra Day O'Connor\, a  diary and photographs from a female UM student who hitchhiked from Ann Arbor to San Francisco in 1923\, a  Spanish text from 1693 for those studying to be soldiers\, and Dante's Divine Comedy with illustrations by  Salvador Dali.  \n\nNew archival collections with samples on display include the papers of film director Robert Altman and writers  Nicholas Delbanco and Richard Tillinghast\, as well as four separate women involved in radical causes such as  Clarence Darrow's 1907 defense of union leaders accused of murder and the ecological costs of technology.   This is the first opportunity for the public to see materials from the Altman Collection\, which is estimated to be  1\,000 linear feet in size and is now being sorted and processed for use.
UID:748-911460@events.umich.edu
URL:https://events.umich.edu/event/748
CLASS:PUBLIC
STATUS:CONFIRMED
CATEGORIES:visual arts
LOCATION:Hatcher Graduate Library - 7th Floor Special Collections Library
CONTACT:
END:VEVENT
BEGIN:VEVENT
DTSTAMP:20101111T175620
DTSTART;TZID=America/Detroit:20100316T000000
SUMMARY:Exhibition:Permanent Exhibits at the Exhibit Museum of Natural History
DESCRIPTION:The Hall of Evolution houses Michigan's largest display of prehistoric life. More than 600 million years of life on Earth are traced through fossils\, models and dioramas. The Michigan Wildlife Gallery has a large collection of native Great Lakes birds\, mammals\, reptiles\, and amphibians\, with taxidermy mounts\, habitat scenes\, and the largest mastodon trackway on display in the world. There are also displays about some of the environmental problems faced in this region today. The Anthropology Displays feature artifacts from human cultures around the world. The Geology Displays on the fourth floor offer a large selection of rocks\, minerals and gems. These displays are updated periodically. For more information go to www.lsa.umich.edu/exhibitmuseum/exhibits/permexhibits or call 734-764-0480.
UID:452-910621@events.umich.edu
URL:https://events.umich.edu/event/452
CLASS:PUBLIC
STATUS:CONFIRMED
CATEGORIES:
LOCATION:Ruthven Museums Building
CONTACT:
END:VEVENT
BEGIN:VEVENT
DTSTAMP:20100318T170051
DTSTART;TZID=America/Detroit:20100316T080000
SUMMARY:Exhibition:Exhibit: The Ghost Army
DESCRIPTION:This exhibit tells the story of the Ghost Army from WWII. In June of 1944\, an  exceptional U.S. Army unit went into action in Normandy. Its weapons included  hundreds of inflatable tanks and a one-of-a-kind collection of sound effects  records\, and it carried out its battlefield mission without firing a shot. The unit was  officially called the 23rd Headquarters Special Troops\, but it was known to its men  as The Ghost Army.\n\nMembers of The Ghost Army adhered to a decades-long gag order\; many never  told their families about their extraordinary military service. Sixty-five years after  this top-secret group went into action\, the University of Michigan's Hatcher Library  will unveil the first public exhibit of this captivating group of materials documenting  The Ghost Army. \n\nThis exhibit is available during library hours. See http://www.lib.umich.edu/hatcher- graduate-library.
UID:1124-913921@events.umich.edu
URL:https://events.umich.edu/event/1124
CLASS:PUBLIC
STATUS:CONFIRMED
CATEGORIES:visual arts
LOCATION:Hatcher Graduate Library - Gallery in Room 100
CONTACT:
END:VEVENT
BEGIN:VEVENT
DTSTAMP:20101111T175759
DTSTART;TZID=America/Detroit:20100316T080000
DTEND;TZID=America/Detroit:20100316T170000
SUMMARY:Exhibition:History of Dentistry exhibits at the Sindecuse Museum of Dentistry
DESCRIPTION:Exhibits at the Sindecuse Museum of Dentistry include Dental Operatories of the 1860s to 1930s\, St. Apollonia-Patron Saint of Dentistry and more. Call 763-0767 or go to www.dent.umich.edu/museum for more information.
UID:3856-917506@events.umich.edu
URL:https://events.umich.edu/event/3856
CLASS:PUBLIC
STATUS:CONFIRMED
CATEGORIES:
LOCATION:Dental & W.K. Kellogg Institute
CONTACT:
END:VEVENT
BEGIN:VEVENT
DTSTAMP:20101111T175623
DTSTART;TZID=America/Detroit:20100316T080000
SUMMARY:Other:UM Golf League Signup
DESCRIPTION:The Wednesday UM Faculty/Staff golf league at the UM Golf Course is having an open signup week March 15-19.  Tee times are 4-5pm\, April-Sept. For more information visit our web site at: http://www-personal.umich.edu/~ccompton/
UID:525-911040@events.umich.edu
URL:https://events.umich.edu/event/525
CLASS:PUBLIC
STATUS:CONFIRMED
CATEGORIES:
LOCATION:UM Golf Course
CONTACT:
END:VEVENT
BEGIN:VEVENT
DTSTAMP:20100329T161307
DTSTART;TZID=America/Detroit:20100316T083000
DTEND;TZID=America/Detroit:20100316T190000
SUMMARY:Exhibition:A History of the Bible from Ancient Papyri to King James
DESCRIPTION:This exhibit\, from the Special Collections Library\, shows a path of documents that  led to the creation of the 1611 King James Version of the Bible – from ancient  Egyptian manuscripts on papyrus to Medieval manuscripts to the printed book.\n\nThe earliest documents on display are Egyptian papyri\, including examples of a  census record from the year 119 and the oldest known copy of part of the New  Testament. Medieval manuscripts document the preservation of the text until the  invention of movable type printing by Gutenberg around 1450. The early printed  Bibles include versions in Latin and Greek\, and several that show the struggles  among various political factions and church reformers to control the translating of  the Scriptures into the language of the people. See the King James Bible of 1611  that became the accepted standard.\n\nFor Audubon Room hours\, see https://www.lib.umich.edu/audubon-room
UID:2220-918651@events.umich.edu
URL:https://events.umich.edu/event/2220
CLASS:PUBLIC
STATUS:CONFIRMED
CATEGORIES:visual arts
LOCATION:Hatcher Graduate Library - Audubon Room/First Floor
CONTACT:
END:VEVENT
BEGIN:VEVENT
DTSTAMP:20090722T143534
DTSTART;TZID=America/Detroit:20100316T090000
DTEND;TZID=America/Detroit:20100316T170000
SUMMARY:Exhibition:Ida: Darwinius masillae
DESCRIPTION:\"Ida\,\" a new exhibit in the Exhibit Museum's Rotunda\, displays a high-resolution cast of an extremely rare  fossil discovered in 1983 near Messel\, Germany\, but only recently made available for study. The fossil has  proven to be a “link” between the prosimian and simian (\"anthropoid\") primate lineages. It has \"advanced\"  front teeth (incisors and canines) and second toes like those of monkeys\, and is broadly representative of what  human primate ancestors may have looked like during the Eocene epoch 47 million years ago.     Ida (prounded \"eeda\") is named after after the daughter of Dr JÃ¸rn Hurum\, the Norwegian vertebrate  paleontologist who secured one section of the fossil from an anonymous owner\, and led the research. Ida was  about eight months old\, or the equivalent of a six-year-old human.     Publication of a paper on the discovery was accompanied by a book\, The Link: Uncovering Our Earliest  Ancestors by Colin Tudge\, and a documentary shown on the History Channel (US)\, BBC One (UK)\,and various  stations in Germany and Norway.     U-M paleontologist Philip Gingerich and U-M anthropologist B. Holly Smith were two members of the \"dream  team\" invited to study Ida. The exhibit will be on display through May 2010.
UID:2124-918256@events.umich.edu
URL:https://events.umich.edu/event/2124
CLASS:PUBLIC
STATUS:CONFIRMED
CATEGORIES:multicultural,visual arts,welcome week
LOCATION:
CONTACT:
END:VEVENT
BEGIN:VEVENT
DTSTAMP:20101111T175734
DTSTART;TZID=America/Detroit:20100316T090000
DTEND;TZID=America/Detroit:20100316T170000
SUMMARY:Exhibition:Scott Hocking Installation
DESCRIPTION:Scott Hocking explores the abandoned buildings and sites of Detroit like a  newfangled scientist. He gathers raw data in his excavations\, and records his  findings using a wholly unique and modern process and method that he intuitively  formulates as he goes along. In his ongoing study of a city so rooted in a dense  past\, and the emotional attachments that accompany it\, Hocking is  uncompromising and unflinching\, and refuses to buy into the hype. His visual  essays chronicling urban markings of modern day ruin are not the stuff of tragedy  or fodder for magazine centerfolds\, but proof of a renaissance in real time.  Hocking's work is fully alive\, and honors the world going past and us moving forward  along with it\, exhilarated by industrial parks returning to fallow land\, and strawberry  bushes growing in the cracked concrete.
UID:1793-915909@events.umich.edu
URL:https://events.umich.edu/event/1793
CLASS:PUBLIC
STATUS:CONFIRMED
CATEGORIES:visual arts
LOCATION:202 S. Thayer - 1010
CONTACT:
END:VEVENT
BEGIN:VEVENT
DTSTAMP:20101111T175741
DTSTART;TZID=America/Detroit:20100316T090000
DTEND;TZID=America/Detroit:20100316T180000
SUMMARY:Other:Support Dance Marathon by Shopping U-M Computer Showcase
DESCRIPTION:When you purchase any featured Apple product at the Computer Showcase from  March 1-26\, we'll donate a percentage of the sale to support Dance Marathon at the  University of Michigan!\n\nPlus! Get a FREE printer when you purchase any MacBook\, MacBook Pro\, or iMac.\n\nLearn more here: http://showcase.itcs.umich.edu/news/dance-marathon.php
UID:1663-916344@events.umich.edu
URL:https://events.umich.edu/event/1663
CLASS:PUBLIC
STATUS:CONFIRMED
CATEGORIES:
LOCATION:Michigan Union
CONTACT:
END:VEVENT
BEGIN:VEVENT
DTSTAMP:20101111T175600
DTSTART;TZID=America/Detroit:20100316T100000
DTEND;TZID=America/Detroit:20100316T170000
SUMMARY:Exhibition:Stearns Collection of Music
DESCRIPTION:The Stearns Collection at the School of Music\, Theatre & Dance is one of six major collections of musical instruments in North America. The 2\,500-piece collection is internationally known and is a resource for musical and cultural education.
UID:3790-909238@events.umich.edu
URL:https://events.umich.edu/event/3790
CLASS:PUBLIC
STATUS:CONFIRMED
CATEGORIES:
LOCATION:Earl V. Moore Building
CONTACT:
END:VEVENT
BEGIN:VEVENT
DTSTAMP:20101111T175749
DTSTART;TZID=America/Detroit:20100316T100000
DTEND;TZID=America/Detroit:20100316T163000
SUMMARY:Other:The Healing Garden - Savor Nature's Restorative Powers
DESCRIPTION:This exhibit and display in the conservatory at Matthaei Botanical Gardens focuses  on the rejuvenating qualities of nature's scents\, colors\, and forms and on the  benefits of exercise and meditation. Interactive activities during the exhibit include  guided meditation\, aromatherapy station\, color and mood interpretation display\,  and meditative hikes. Also\, displays of bulbs and fresh-air plants. Cost inlcudes  admission to conservatory and above activities. Open Wednesday until 8 pm\; free  admission Wednesdays noon-8pm. Closed Mondays.
UID:1938-916784@events.umich.edu
URL:https://events.umich.edu/event/1938
CLASS:PUBLIC
STATUS:CONFIRMED
CATEGORIES:
LOCATION:
CONTACT:
END:VEVENT
BEGIN:VEVENT
DTSTAMP:20100301T085624
DTSTART;TZID=America/Detroit:20100316T120000
DTEND;TZID=America/Detroit:20100316T133000
SUMMARY:Lecture / Discussion:Institute for the Humanities Brown Bag Lecture: “Captifs de case” (House Slaves) in a West African Urban Slaving Society: Questions of Status and Role in Eighteenth-Century Saint-Louis du Senegal
DESCRIPTION:In April 1848\, France abolished slavery in its colonies. In Saint-Louis\, Senegal\, a  permanent French fort and city since 1659\, half of the population was consequently  freed from the bonds of servitude. Though generously compensated\, masters  demonstrated their vigorous opposition to the abolition decree. Slaves' reactions  were limited to a few public festive demonstrations. Many of them remained in the  service of their masters. This opens the question of the specificity of slavery in  Saint-Louis\, where slaves were fully integrated with the master's family–a radical  contrast to the plantation model of slavery. Focusing on the status and the  functions of these slaves\, it is possible to demonstrate that despite the masters'  ideology\, St. Louis remained an actual slave society from the eighteenth to the  nineteenth centuries.\n\n  Ibrahima Thioub is professor of history at the University Cheikh Anta Diop in  Dakar\, Senegal. He heads the regional center of excellence bringing together the  universities of Dakar\; Niamey Niger\; Yaoundé 1 and Ngaoundere\, Cameroon\;  Ouagadougou\, Burkina Faso\; and the State University of Haiti\; around the project:  Slavery and Trafficking: Communities\, Identities\, and Frontiers. His research  focuses on memory and historiography of slavery and drafts in Africa. He is  currently preparing a book Slavery in Everyday Life in Saint-Louis du Senegal (XVIII- XIX centuries).
UID:361-909827@events.umich.edu
URL:https://events.umich.edu/event/361
CLASS:PUBLIC
STATUS:CONFIRMED
CATEGORIES:
LOCATION:202 S. Thayer
CONTACT:
END:VEVENT
BEGIN:VEVENT
DTSTAMP:20101111T175725
DTSTART;TZID=America/Detroit:20100316T121500
DTEND;TZID=America/Detroit:20100316T130000
SUMMARY:Other:Introduction to Mindfulness Meditation
DESCRIPTION:Practice different forms of meditation and explore various mindfulness concepts and techniques to help quiet your busy mind.
UID:1498-915195@events.umich.edu
URL:https://events.umich.edu/event/1498
CLASS:PUBLIC
STATUS:CONFIRMED
CATEGORIES:
LOCATION:Michigan Union - CAPS Library, Room 3100
CONTACT:
END:VEVENT
BEGIN:VEVENT
DTSTAMP:20101111T175840
DTSTART;TZID=America/Detroit:20100316T163000
DTEND;TZID=America/Detroit:20100316T183000
SUMMARY:Film Screening:SPH Pride Week Screening of \"Milk\"
DESCRIPTION:Tuesday\, March 16\, 4:30-6:30\, SPH I Room 1690 SPH Pride Week Screening of \"Milk\" Co-sponsored by HBHESA and OUTbreak
UID:2662-920301@events.umich.edu
URL:https://events.umich.edu/event/2662
CLASS:PUBLIC
STATUS:CONFIRMED
CATEGORIES:
LOCATION:Public Health II - SPH I Room 1690
CONTACT:
END:VEVENT
BEGIN:VEVENT
DTSTAMP:20101111T175638
DTSTART;TZID=America/Detroit:20100316T183000
DTEND;TZID=America/Detroit:20100316T203000
SUMMARY:Community Service:Learning from the Community
DESCRIPTION:How do you get beyond the word ”˜awesome' in describing your community service work?  In partnership with the Career Center\, this workshop will help examine ways to market your service experience to potential employers.
UID:639-912199@events.umich.edu
URL:https://events.umich.edu/event/639
CLASS:PUBLIC
STATUS:CONFIRMED
CATEGORIES:social justice
LOCATION:East Hall - 4448
CONTACT:
END:VEVENT
BEGIN:VEVENT
DTSTAMP:20100226T150132
DTSTART;TZID=America/Detroit:20100316T190000
DTEND;TZID=America/Detroit:20100316T200000
SUMMARY:Lecture / Discussion:\"Using Human Rights Doctrine to Protect Victims of Intimate Partner Violence\"
DESCRIPTION:Sarah Buel has spent the past 32 years working with battered women\, abused children\, and juveniles within the legal system.  Currently\, she is a clinical professor at the University of Texas School of Law\, having started\, then co-directing its Domestic Violence Clinic. She is co-chair of the ABA Women and Criminal Justice Committee\, and actively involved in human rights projects in Cambodia\, China\, and Kenya addressing gender-based violence and human trafficking. \n\nTamara Williams was a University of Michigan student and Family Housing resident when she was killed by her boyfriend in 1997. The annual lecture is meant to commemorate her life\, raise awareness of domestic and dating violence\, and increase interest in their prevention.\n\nEvent is free and open to the public.
UID:2047-918026@events.umich.edu
URL:https://events.umich.edu/event/2047
CLASS:PUBLIC
STATUS:CONFIRMED
CATEGORIES:social justice
LOCATION:Rackham Graduate School (Horace H.) - Amphitheatre, 4th floor
CONTACT:
END:VEVENT
BEGIN:VEVENT
DTSTAMP:20101111T175607
DTSTART;TZID=America/Detroit:20100316T190000
DTEND;TZID=America/Detroit:20100316T203000
SUMMARY:Workshop / Seminar:I Heart Female Orgasm
DESCRIPTION:I Heart Female Orgasm 7p-8:30p\, Michigan Union Ballroom Sponsored by: Yoni Ki Baat\n\nYoni Ki Baat multicultural women's organization and monologue show is hosting the  workshop \"I Heart Female Orgasm\,\" hosted by the duo Dorian & Marshall\,  http://www.sexualityeducation.com/femaleorg/index.php. The Female Orgasm  combines sex education and women's empowerment in a playful\, honest approach  to this topic. The program addresses informed sexual choice\, body image\, safe  sexual behavior\, and common myths about the female orgasm. No topic is off- limits\, and the program is inclusive of people of all genders and sexual  orientations. The program is sensitive to the LGBTQ community and does not fall  prey to gender normativity or heteronormativity\, in that it addresses the topic from  multiple perspectives and offers separate discussions for gender queer individuals\,  if they so choose. Furthermore\, the workshop is interactive\, facilitates group  discussion\, and allows for participants to ask personal questions in an intimate  setting. The program is in conjunction with Women's History Month (March) and  seeks to promote healthy ideals\, behavior\, and self-esteem in both identified- women and their peers.\n\nContact: Aditi Hardikar\, adhardik@umich.edu
UID:332-909778@events.umich.edu
URL:https://events.umich.edu/event/332
CLASS:PUBLIC
STATUS:CONFIRMED
CATEGORIES:
LOCATION:Michigan Union - Michigan Union Ballroom
CONTACT:
END:VEVENT
BEGIN:VEVENT
DTSTAMP:20100316T030002
DTSTART;TZID=America/Detroit:20100316T190000
SUMMARY:Other:Playfest 10: PICTURES OF YOU
DESCRIPTION:Staged reading. By Emilie Catherine Samuelsen: Searing memories\, lasting grief and a broken family. The kidnapping of a child is enough to shatter any heart\, but what happens when the imagined what-might-have-been becomes rooted in the everyday lives of loved ones? How does holding on to what they’ve lost color the lives they find themselves leading? And if their dreams come true after all\, what happens when it turns out to be altogether different from what they expected?
UID:2119-918168@events.umich.edu
URL:https://events.umich.edu/event/2119
CLASS:PUBLIC
STATUS:CONFIRMED
CATEGORIES:theater,music
LOCATION:Walgreen Drama Center - Studio One
CONTACT:
END:VEVENT
BEGIN:VEVENT
DTSTAMP:20091211T154016
DTSTART;TZID=America/Detroit:20100316T200000
DTEND;TZID=America/Detroit:20100316T230000
SUMMARY:Other:Artsbreak
DESCRIPTION:Artsbreak is a FREE arts and crafts night every Tuesday from 8pm-11pm in the MUG (Michigan Union Ground floor). Examples of crafts we've done in the past are: painting pumpkins\, decorating small canvas tote bags\, wire photo holders\, polar fleece scarves\, and jewelry making. For the most updated craft list or to suggest a craft\, email artsbreak-uuap@umich.edu to get on our weekly listserv\, or check out UUAP's website.
UID:1256-914141@events.umich.edu
URL:https://events.umich.edu/event/1256
CLASS:PUBLIC
STATUS:CONFIRMED
CATEGORIES:visual arts
LOCATION:Michigan Union - MUG
CONTACT:
END:VEVENT
BEGIN:VEVENT
DTSTAMP:20100316T030003
DTSTART;TZID=America/Detroit:20100316T200000
SUMMARY:Other:Masters Recital:  Justin Snyder\, collaborative piano
DESCRIPTION:PROGRAM:  Respighi - Violin Sonata\; Schumann - Liederkreis\, Op. 39\; Schoenberg - Der genÃ¼gsame Liebhaber\; Bolcom - Amor
UID:1029-913671@events.umich.edu
URL:https://events.umich.edu/event/1029
CLASS:PUBLIC
STATUS:CONFIRMED
CATEGORIES:music
LOCATION:Walgreen Drama Center - Stamps Auditorium
CONTACT:
END:VEVENT
BEGIN:VEVENT
DTSTAMP:20100316T030002
DTSTART;TZID=America/Detroit:20100316T200000
SUMMARY:Other:Trombone Studio Recital
DESCRIPTION:Students of Professor David Jackson.
UID:2936-921712@events.umich.edu
URL:https://events.umich.edu/event/2936
CLASS:PUBLIC
STATUS:CONFIRMED
CATEGORIES:music
LOCATION:Earl V. Moore Building - Britton Recital Hall
CONTACT:
END:VEVENT
BEGIN:VEVENT
DTSTAMP:20100315T115147
DTSTART;TZID=America/Detroit:20100316T230000
SUMMARY:Rally / Mass Meeting:Day of Silence
DESCRIPTION:11pm\, Central Campus Diag  Sponsored by: SAGE and LGBT Commission of MSA Modeled after the Gay\, Lesbian\, and Straight Education Network's Day of Silence that takes place  each April\, there will be a Silent Rave at 11pm on the Central Campus Diag where participants  will not speak to anyone as a way of showing solidarity for students who have experienced  bullying and harassment because of their sexual orientation and/or gender identity or expression.\n\nContact: Gary Wilks\, gwwilks@umich.edu
UID:863-912658@events.umich.edu
URL:https://events.umich.edu/event/863
CLASS:PUBLIC
STATUS:CONFIRMED
CATEGORIES:
LOCATION:
CONTACT:
END:VEVENT
END:VCALENDAR