BEGIN:VCALENDAR
VERSION:2.0
PRODID:-//UM//UM*Events//EN
CALSCALE:GREGORIAN
BEGIN:VTIMEZONE
TZID:America/Detroit
TZURL:http://tzurl.org/zoneinfo/America/Detroit
X-LIC-LOCATION:America/Detroit
BEGIN:DAYLIGHT
TZOFFSETFROM:-0500
TZOFFSETTO:-0400
TZNAME:EDT
DTSTART:20070311T020000
RRULE:FREQ=YEARLY;BYMONTH=3;BYDAY=2SU
END:DAYLIGHT
BEGIN:STANDARD
TZOFFSETFROM:-0400
TZOFFSETTO:-0500
TZNAME:EST
DTSTART:20071104T020000
RRULE:FREQ=YEARLY;BYMONTH=11;BYDAY=1SU
END:STANDARD
END:VTIMEZONE
BEGIN:VEVENT
DTSTAMP:20101111T175829
DTSTART;TZID=America/Detroit:20100320T000000
SUMMARY:Other:A2Fiber ”˜Call to Action’ to the University Community
DESCRIPTION:The University of Michigan and the city of Ann Arbor have teamed up to convince  Google to pick Ann Arbor for Google's Fiber for Communities trial. One of the key  components of Google's selection process is applicants must demonstrate strong  community support and participation. You can play an important supporting role!\n\nBy March 26\, please show your support by taking one or more of the following steps:\n\n-- Become an A2 Fiber Facebook fan: www.facebook.com/a2fiber -- Sign up to receive A2 Fiber e-mail notifications: www.a2gov.org/services/Pages/E-  mailAlertSubscription.aspx -- Submit a community group and resident nomination form:  www.google.com/appserve/fiberrfi/public/options -- Create your own video on YouTube: www.youtube.com/a2fiber.  -- Follow A2 Fiber on Twitter: www.twitter.com/a2fiber.  --Spread the word! \n\nLearn more at www.a2fiber.com
UID:2321-919626@events.umich.edu
URL:https://events.umich.edu/event/2321
CLASS:PUBLIC
STATUS:CONFIRMED
CATEGORIES:
LOCATION:
CONTACT:
END:VEVENT
BEGIN:VEVENT
DTSTAMP:20101111T175629
DTSTART;TZID=America/Detroit:20100320T000000
SUMMARY:Exhibition:Exhibit of Recent Aquisitions
DESCRIPTION:This exhibit includes an extraordinarily wide variety of primary source material collected to support current and  future research.  Among the items on display are:  a watercolor “portrait” of a railroad bridge built in Prague in  1850\, original artwork by local artist Tom Pohrt for a children's book written by Justice Sandra Day O'Connor\, a  diary and photographs from a female UM student who hitchhiked from Ann Arbor to San Francisco in 1923\, a  Spanish text from 1693 for those studying to be soldiers\, and Dante's Divine Comedy with illustrations by  Salvador Dali.  \n\nNew archival collections with samples on display include the papers of film director Robert Altman and writers  Nicholas Delbanco and Richard Tillinghast\, as well as four separate women involved in radical causes such as  Clarence Darrow's 1907 defense of union leaders accused of murder and the ecological costs of technology.   This is the first opportunity for the public to see materials from the Altman Collection\, which is estimated to be  1\,000 linear feet in size and is now being sorted and processed for use.
UID:748-911464@events.umich.edu
URL:https://events.umich.edu/event/748
CLASS:PUBLIC
STATUS:CONFIRMED
CATEGORIES:visual arts
LOCATION:Hatcher Graduate Library - 7th Floor Special Collections Library
CONTACT:
END:VEVENT
BEGIN:VEVENT
DTSTAMP:20101111T175844
DTSTART;TZID=America/Detroit:20100320T000000
SUMMARY:Other:Nordhouse Dunes Backpacking trip
DESCRIPTION:Explore dunes that date back between 3\,500 and 4\,000 years! We'll enjoy the waves of  sand and waves of water that beautiful Lake Michigan has to offer. On our hike you will  find woody patches of juniper\, stunted jack pine\, some small stands of northern  hardwoods\, and dune marshes with wetland species such as hemlockand larch. Keep an  eye out for the many species of waterfowl and songbirds that have been identified here\, as  well as white-tailed deer\, coyotes\, foxes\, raccoons\, porcupines\, skunks\, and squirrels. The  Nordhouse Dunes Wilderness Area\, with it extensive shore dunes system\, is the perfect  place to get away from it all. While small\, the area is just 3\,450 acres\, it boasts an  impressive title: it is the only congressionally designated wilderness area located along  the Lake Michigan shoreline in Michigan's Lower Peninsula.
UID:2795-920529@events.umich.edu
URL:https://events.umich.edu/event/2795
CLASS:PUBLIC
STATUS:CONFIRMED
CATEGORIES:
LOCATION:
CONTACT:
END:VEVENT
BEGIN:VEVENT
DTSTAMP:20101111T175620
DTSTART;TZID=America/Detroit:20100320T000000
SUMMARY:Exhibition:Permanent Exhibits at the Exhibit Museum of Natural History
DESCRIPTION:The Hall of Evolution houses Michigan's largest display of prehistoric life. More than 600 million years of life on Earth are traced through fossils\, models and dioramas. The Michigan Wildlife Gallery has a large collection of native Great Lakes birds\, mammals\, reptiles\, and amphibians\, with taxidermy mounts\, habitat scenes\, and the largest mastodon trackway on display in the world. There are also displays about some of the environmental problems faced in this region today. The Anthropology Displays feature artifacts from human cultures around the world. The Geology Displays on the fourth floor offer a large selection of rocks\, minerals and gems. These displays are updated periodically. For more information go to www.lsa.umich.edu/exhibitmuseum/exhibits/permexhibits or call 734-764-0480.
UID:452-910625@events.umich.edu
URL:https://events.umich.edu/event/452
CLASS:PUBLIC
STATUS:CONFIRMED
CATEGORIES:
LOCATION:Ruthven Museums Building
CONTACT:
END:VEVENT
BEGIN:VEVENT
DTSTAMP:20101111T175648
DTSTART;TZID=America/Detroit:20100320T080000
DTEND;TZID=America/Detroit:20100320T200000
SUMMARY:Other:Climbing Day Trip
DESCRIPTION:Have you ever wanted to try Rock Climbing? Whether you've been to a climbing gym or  not\, there's nothing quite like real rock under your finger tips. Join Outdoor Adventures  for a day of climbing as we venture to John Bryan State Park in Western Ohio to scale the  limestone cliffs carved by the Little Miami River. We'll leave in the morning\, put in a full  day of climbing\, and return to Ann Arbor refreshed from a day ofclimbing outside.
UID:974-912780@events.umich.edu
URL:https://events.umich.edu/event/974
CLASS:PUBLIC
STATUS:CONFIRMED
CATEGORIES:
LOCATION:
CONTACT:
END:VEVENT
BEGIN:VEVENT
DTSTAMP:20100318T170051
DTSTART;TZID=America/Detroit:20100320T080000
SUMMARY:Exhibition:Exhibit: The Ghost Army
DESCRIPTION:This exhibit tells the story of the Ghost Army from WWII. In June of 1944\, an  exceptional U.S. Army unit went into action in Normandy. Its weapons included  hundreds of inflatable tanks and a one-of-a-kind collection of sound effects  records\, and it carried out its battlefield mission without firing a shot. The unit was  officially called the 23rd Headquarters Special Troops\, but it was known to its men  as The Ghost Army.\n\nMembers of The Ghost Army adhered to a decades-long gag order\; many never  told their families about their extraordinary military service. Sixty-five years after  this top-secret group went into action\, the University of Michigan's Hatcher Library  will unveil the first public exhibit of this captivating group of materials documenting  The Ghost Army. \n\nThis exhibit is available during library hours. See http://www.lib.umich.edu/hatcher- graduate-library.
UID:1124-913925@events.umich.edu
URL:https://events.umich.edu/event/1124
CLASS:PUBLIC
STATUS:CONFIRMED
CATEGORIES:visual arts
LOCATION:Hatcher Graduate Library - Gallery in Room 100
CONTACT:
END:VEVENT
BEGIN:VEVENT
DTSTAMP:20100329T161307
DTSTART;TZID=America/Detroit:20100320T083000
DTEND;TZID=America/Detroit:20100320T190000
SUMMARY:Exhibition:A History of the Bible from Ancient Papyri to King James
DESCRIPTION:This exhibit\, from the Special Collections Library\, shows a path of documents that  led to the creation of the 1611 King James Version of the Bible – from ancient  Egyptian manuscripts on papyrus to Medieval manuscripts to the printed book.\n\nThe earliest documents on display are Egyptian papyri\, including examples of a  census record from the year 119 and the oldest known copy of part of the New  Testament. Medieval manuscripts document the preservation of the text until the  invention of movable type printing by Gutenberg around 1450. The early printed  Bibles include versions in Latin and Greek\, and several that show the struggles  among various political factions and church reformers to control the translating of  the Scriptures into the language of the people. See the King James Bible of 1611  that became the accepted standard.\n\nFor Audubon Room hours\, see https://www.lib.umich.edu/audubon-room
UID:2220-918655@events.umich.edu
URL:https://events.umich.edu/event/2220
CLASS:PUBLIC
STATUS:CONFIRMED
CATEGORIES:visual arts
LOCATION:Hatcher Graduate Library - Audubon Room/First Floor
CONTACT:
END:VEVENT
BEGIN:VEVENT
DTSTAMP:20101111T175819
DTSTART;TZID=America/Detroit:20100320T090000
DTEND;TZID=America/Detroit:20100320T120000
SUMMARY:Community Service:Eco-Restoration Workdays at Matthaei: Earth Day Related Event
DESCRIPTION:Enjoy and learn about the beautiful natural areas at Matthaei Botanical Gardens  while contributing to natural-areas stewardship and restoration efforts. Groups are  welcome to join a public workday with advance notice or schedule a special service  event. Free. U-M Matthaei Botanical Gardens\, 1800 N. Dixboro Rd.
UID:2456-919121@events.umich.edu
URL:https://events.umich.edu/event/2456
CLASS:PUBLIC
STATUS:CONFIRMED
CATEGORIES:
LOCATION:
CONTACT:
END:VEVENT
BEGIN:VEVENT
DTSTAMP:20090722T143534
DTSTART;TZID=America/Detroit:20100320T090000
DTEND;TZID=America/Detroit:20100320T170000
SUMMARY:Exhibition:Ida: Darwinius masillae
DESCRIPTION:\"Ida\,\" a new exhibit in the Exhibit Museum's Rotunda\, displays a high-resolution cast of an extremely rare  fossil discovered in 1983 near Messel\, Germany\, but only recently made available for study. The fossil has  proven to be a “link” between the prosimian and simian (\"anthropoid\") primate lineages. It has \"advanced\"  front teeth (incisors and canines) and second toes like those of monkeys\, and is broadly representative of what  human primate ancestors may have looked like during the Eocene epoch 47 million years ago.     Ida (prounded \"eeda\") is named after after the daughter of Dr JÃ¸rn Hurum\, the Norwegian vertebrate  paleontologist who secured one section of the fossil from an anonymous owner\, and led the research. Ida was  about eight months old\, or the equivalent of a six-year-old human.     Publication of a paper on the discovery was accompanied by a book\, The Link: Uncovering Our Earliest  Ancestors by Colin Tudge\, and a documentary shown on the History Channel (US)\, BBC One (UK)\,and various  stations in Germany and Norway.     U-M paleontologist Philip Gingerich and U-M anthropologist B. Holly Smith were two members of the \"dream  team\" invited to study Ida. The exhibit will be on display through May 2010.
UID:2124-918260@events.umich.edu
URL:https://events.umich.edu/event/2124
CLASS:PUBLIC
STATUS:CONFIRMED
CATEGORIES:welcome week,visual arts,multicultural
LOCATION:
CONTACT:
END:VEVENT
BEGIN:VEVENT
DTSTAMP:20101111T175741
DTSTART;TZID=America/Detroit:20100320T090000
DTEND;TZID=America/Detroit:20100320T180000
SUMMARY:Other:Support Dance Marathon by Shopping U-M Computer Showcase
DESCRIPTION:When you purchase any featured Apple product at the Computer Showcase from  March 1-26\, we'll donate a percentage of the sale to support Dance Marathon at the  University of Michigan!\n\nPlus! Get a FREE printer when you purchase any MacBook\, MacBook Pro\, or iMac.\n\nLearn more here: http://showcase.itcs.umich.edu/news/dance-marathon.php
UID:1663-916348@events.umich.edu
URL:https://events.umich.edu/event/1663
CLASS:PUBLIC
STATUS:CONFIRMED
CATEGORIES:
LOCATION:Michigan Union
CONTACT:
END:VEVENT
BEGIN:VEVENT
DTSTAMP:20100303T154248
DTSTART;TZID=America/Detroit:20100320T093000
DTEND;TZID=America/Detroit:20100320T163000
SUMMARY:Conference / Symposium:Future of Urbanism
DESCRIPTION:University of Michigan's Taubman College of Architecture and Urban Planning will host a  conference\, Future of Urbanism\, March 19 & 20\, 2010. An international roster of speakers –  academics and practitioners – will address some of the most critical issues facing our cities and  their environs in six sessions\, comprised of 15-minute segments and a panel discussion. \n\nThe presentations are free and open to the public. Please visit website to register.
UID:1267-914158@events.umich.edu
URL:https://events.umich.edu/event/1267
CLASS:PUBLIC
STATUS:CONFIRMED
CATEGORIES:
LOCATION:Rackham Graduate School (Horace H.) - Auditorium
CONTACT:
END:VEVENT
BEGIN:VEVENT
DTSTAMP:20101111T175749
DTSTART;TZID=America/Detroit:20100320T100000
DTEND;TZID=America/Detroit:20100320T163000
SUMMARY:Other:The Healing Garden - Savor Nature's Restorative Powers
DESCRIPTION:This exhibit and display in the conservatory at Matthaei Botanical Gardens focuses  on the rejuvenating qualities of nature's scents\, colors\, and forms and on the  benefits of exercise and meditation. Interactive activities during the exhibit include  guided meditation\, aromatherapy station\, color and mood interpretation display\,  and meditative hikes. Also\, displays of bulbs and fresh-air plants. Cost inlcudes  admission to conservatory and above activities. Open Wednesday until 8 pm\; free  admission Wednesdays noon-8pm. Closed Mondays.
UID:1938-916788@events.umich.edu
URL:https://events.umich.edu/event/1938
CLASS:PUBLIC
STATUS:CONFIRMED
CATEGORIES:
LOCATION:
CONTACT:
END:VEVENT
BEGIN:VEVENT
DTSTAMP:20101111T175723
DTSTART;TZID=America/Detroit:20100320T120000
DTEND;TZID=America/Detroit:20100320T170000
SUMMARY:Conference / Symposium:2010 Transgender\, Bisexual\, Lesbian and Gay Interfaith Conference
DESCRIPTION:2010 Transgender\, Bisexual\, Lesbian and Gay Interfaith Conference 12p-5p\, Dana Building: School of Natural Resources and Environment\, 440 Church  Street Sponsored by: Spectrum of Faiths\, Spectrum Center\, Quaker Friends Service  Committee\, LGBT Commission of MSA\, MSA BPC\n\nThe 2010 LGBT Interfaith Conference will be an event with broader aim of helping  LGBT people of faith feel welcome and affirmed in their spiritual communities. It will  consist of three different programs\, each one focused on a particular faith  (Christian\, Jewish\, and Muslim)\n\nContact: Adrian Madriz\, amadriz@umich.edu
UID:1432-915123@events.umich.edu
URL:https://events.umich.edu/event/1432
CLASS:PUBLIC
STATUS:CONFIRMED
CATEGORIES:multicultural
LOCATION:Dana Natural Resources  Building - Lobby
CONTACT:
END:VEVENT
BEGIN:VEVENT
DTSTAMP:20101111T175732
DTSTART;TZID=America/Detroit:20100320T150000
SUMMARY:Performance:Yoni Ki Baat Presents Lips Unsealed
DESCRIPTION:The 5th Annual Yoni Ki Baat multicultural monologue show\, \"Lips Unsealed\" will take place on March 19th and 20th at the Keene Theater in East Quad.  This year's show will feature provocative pieces written and performed by U of M students addressing domestic violence\, sexuality\, culture\, and relationships. 100% of the proceeds are donated to a domestic violence charity.  You have three chances to experience this exciting staple in the U of M community\, so don't miss out!
UID:1726-915747@events.umich.edu
URL:https://events.umich.edu/event/1726
CLASS:PUBLIC
STATUS:CONFIRMED
CATEGORIES:literary arts,multicultural,theater
LOCATION:East Quadrangle - Keene Theater
CONTACT:
END:VEVENT
BEGIN:VEVENT
DTSTAMP:20100320T030003
DTSTART;TZID=America/Detroit:20100320T170000
SUMMARY:Other:Senior Recital:  Jennifer Liuh Ying Su\, flute
DESCRIPTION:PROGRAM:  Barber - Canzone for Flute and Piano\; Ran - Eastwind for Solo Flute\; Mozart - Mozart Flute Quartet in C Major\; McMichael - A Gaelic Offering\; Telemann -  Fantasias for Flute without Bass\; Poulenc - Sonata for Flute and Piano
UID:1327-914960@events.umich.edu
URL:https://events.umich.edu/event/1327
CLASS:PUBLIC
STATUS:CONFIRMED
CATEGORIES:music
LOCATION:Earl V. Moore Building - Britton Recital Hall
CONTACT:
END:VEVENT
BEGIN:VEVENT
DTSTAMP:20101111T175738
DTSTART;TZID=America/Detroit:20100320T180000
SUMMARY:Other:Benefit for Take Back the Night
DESCRIPTION:Come out to Conor O'Neills on Saturday\, March 20th at 6pm for a great evening to  benefit a great cause! We are raising money to sponsor the annual Take Back the  Night Rally and March\, which raises awareness about sexual assault and provides  support for survivors. The Benefit includes a great dinner\, dessert\, music\, dancing\,  and slam poetry by Ber-Henda. We also have over 50 amazing silent auction items  as well as raffle prizes! \n\nTickets are $25 and can be purchased on our website: tbtnannarbor.org\n\nPlease come out and support!
UID:1577-916176@events.umich.edu
URL:https://events.umich.edu/event/1577
CLASS:PUBLIC
STATUS:CONFIRMED
CATEGORIES:social justice
LOCATION:
CONTACT:
END:VEVENT
BEGIN:VEVENT
DTSTAMP:20101111T175715
DTSTART;TZID=America/Detroit:20100320T180000
SUMMARY:Class / Instruction:Master the Art
DESCRIPTION:
UID:1523-914608@events.umich.edu
URL:https://events.umich.edu/event/1523
CLASS:PUBLIC
STATUS:CONFIRMED
CATEGORIES:multicultural,dance
LOCATION:Michigan Union - Rogel Ballroom
CONTACT:
END:VEVENT
BEGIN:VEVENT
DTSTAMP:20100320T030002
DTSTART;TZID=America/Detroit:20100320T190000
SUMMARY:Other:Playfest 10:  ELBOW ROOM
DESCRIPTION:Staged reading. By Tedra Millan:  ELBOW ROOM fulfills the symbolic smiling and frowning masks of theatre through its dark comedic style. Situated in a Philadelphia restaurant\, the play follows nine individuals whose lives become entangled during the course of one evening. Relationships are revealed among strangers and the familiar while the Manhattans are being served. As someone is shouting from atop a table\, ballroom dancing through the restaurant and blowing out the birthday candles once again”¦the ovens are heating up and so is the drama.
UID:53-909085@events.umich.edu
URL:https://events.umich.edu/event/53
CLASS:PUBLIC
STATUS:CONFIRMED
CATEGORIES:music,theater
LOCATION:Walgreen Drama Center - Studio One
CONTACT:
END:VEVENT
BEGIN:VEVENT
DTSTAMP:20101111T175626
DTSTART;TZID=America/Detroit:20100320T190000
SUMMARY:Performance:Yoni Ki Baat Presents: Lips Unsealed
DESCRIPTION:The 5th Annual Yoni Ki Baat multicultural monologue show\, \"Lips Unsealed\" will take place on March 19th and 20th at the Keene Theater in East Quad.  This year's show will feature provocative pieces written and performed by U of M students addressing domestic violence\, sexuality\, culture\, and relationships. 100% of the proceeds are donated to a domestic violence charity.  You have three chances to experience this exciting staple in the U of M community\, so don't miss out!
UID:637-911290@events.umich.edu
URL:https://events.umich.edu/event/637
CLASS:PUBLIC
STATUS:CONFIRMED
CATEGORIES:theater,multicultural,literary arts
LOCATION:East Quadrangle - Keene Theater
CONTACT:
END:VEVENT
BEGIN:VEVENT
DTSTAMP:20101111T175618
DTSTART;TZID=America/Detroit:20100320T193000
SUMMARY:Exhibition:ANGIKA: Sculpture and the Dancing Body
DESCRIPTION:This performance explores the connections between centuries old traditions of performing and visual arts in India. It is performed in the Odissi style by the acclaimed dancer\, Sreyashi Dey and dancers from Srishti\, narrated by actor-director Martin Walsh and scripted by poet Zilka Joseph. This style of classical dance is derived directly from temple sculptures\, similar to the ones in UMMA's collection\, creating an intimate connection between the live dancing body and the visual representation of the body in art forms such as sculpture and paintings. A multi-media presentation will add another dimension to the performance.
UID:391-910487@events.umich.edu
URL:https://events.umich.edu/event/391
CLASS:PUBLIC
STATUS:CONFIRMED
CATEGORIES:multicultural
LOCATION:Museum of Art - Helmut Stern Auditorium
CONTACT:
END:VEVENT
BEGIN:VEVENT
DTSTAMP:20101111T175707
DTSTART;TZID=America/Detroit:20100320T200000
SUMMARY:Performance:Jer Coons
DESCRIPTION:
UID:1296-914174@events.umich.edu
URL:https://events.umich.edu/event/1296
CLASS:PUBLIC
STATUS:CONFIRMED
CATEGORIES:music
LOCATION:
CONTACT:
END:VEVENT
BEGIN:VEVENT
DTSTAMP:20091007T133641
DTSTART;TZID=America/Detroit:20100320T200000
DTEND;TZID=America/Detroit:20100320T223000
SUMMARY:Performance:Man of La Mancha
DESCRIPTION:Man of La Mancha is based on the world's first novel\, Don Quixote\, by Miguel de Cervantes. The musical is a \"play within a play\"\, with Cervantes and fellow prisoners acting out the story of Don Quixote while waiting for trial during the Spanish Inquisition. Man of La Mancha's breathtaking score boasts classics like \"The Impossible Dream\"\, providing a challenging opportunity for singers.\n\nPower Center March 19\, 2010\, 8:00pm March 20\, 2010\, 8:00pm March 21\, 2010\, 2:00pm
UID:2695-920425@events.umich.edu
URL:https://events.umich.edu/event/2695
CLASS:PUBLIC
STATUS:CONFIRMED
CATEGORIES:music,theater
LOCATION:Power Center for the Performing Arts
CONTACT:
END:VEVENT
BEGIN:VEVENT
DTSTAMP:20100320T030004
DTSTART;TZID=America/Detroit:20100320T200000
SUMMARY:Other:Masters Recital:  Morgan Eiland\, piano
DESCRIPTION:PROGRAM:  Schubert - Sonata in C Minor D958\; Chopin - Fantasie in F Minor\, Op. 49\; Schumann - Sonata in G Minor\, Op. 22
UID:1158-914654@events.umich.edu
URL:https://events.umich.edu/event/1158
CLASS:PUBLIC
STATUS:CONFIRMED
CATEGORIES:music
LOCATION:Walgreen Drama Center - Stamps Auditorium
CONTACT:
END:VEVENT
BEGIN:VEVENT
DTSTAMP:20101111T175831
DTSTART;TZID=America/Detroit:20100320T200000
SUMMARY:Performance:The Friars 54th Annual Best Concert Ever
DESCRIPTION:An Evening of side splitting laughter\, beautiful a cappella music and the most fun you will ever have with 8 guys!
UID:2372-919703@events.umich.edu
URL:https://events.umich.edu/event/2372
CLASS:PUBLIC
STATUS:CONFIRMED
CATEGORIES:music
LOCATION:Rackham Graduate School (Horace H.) - Auditorium
CONTACT:
END:VEVENT
END:VCALENDAR