BEGIN:VCALENDAR
VERSION:2.0
PRODID:-//UM//UM*Events//EN
CALSCALE:GREGORIAN
BEGIN:VTIMEZONE
TZID:America/Detroit
TZURL:http://tzurl.org/zoneinfo/America/Detroit
X-LIC-LOCATION:America/Detroit
BEGIN:DAYLIGHT
TZOFFSETFROM:-0500
TZOFFSETTO:-0400
TZNAME:EDT
DTSTART:20070311T020000
RRULE:FREQ=YEARLY;BYMONTH=3;BYDAY=2SU
END:DAYLIGHT
BEGIN:STANDARD
TZOFFSETFROM:-0400
TZOFFSETTO:-0500
TZNAME:EST
DTSTART:20071104T020000
RRULE:FREQ=YEARLY;BYMONTH=11;BYDAY=1SU
END:STANDARD
END:VTIMEZONE
BEGIN:VEVENT
DTSTAMP:20101111T175829
DTSTART;TZID=America/Detroit:20100321T000000
SUMMARY:Other:A2Fiber ”˜Call to Action’ to the University Community
DESCRIPTION:The University of Michigan and the city of Ann Arbor have teamed up to convince  Google to pick Ann Arbor for Google's Fiber for Communities trial. One of the key  components of Google's selection process is applicants must demonstrate strong  community support and participation. You can play an important supporting role!\n\nBy March 26\, please show your support by taking one or more of the following steps:\n\n-- Become an A2 Fiber Facebook fan: www.facebook.com/a2fiber -- Sign up to receive A2 Fiber e-mail notifications: www.a2gov.org/services/Pages/E-  mailAlertSubscription.aspx -- Submit a community group and resident nomination form:  www.google.com/appserve/fiberrfi/public/options -- Create your own video on YouTube: www.youtube.com/a2fiber.  -- Follow A2 Fiber on Twitter: www.twitter.com/a2fiber.  --Spread the word! \n\nLearn more at www.a2fiber.com
UID:2321-919627@events.umich.edu
URL:https://events.umich.edu/event/2321
CLASS:PUBLIC
STATUS:CONFIRMED
CATEGORIES:
LOCATION:
CONTACT:
END:VEVENT
BEGIN:VEVENT
DTSTAMP:20101111T175629
DTSTART;TZID=America/Detroit:20100321T000000
SUMMARY:Exhibition:Exhibit of Recent Aquisitions
DESCRIPTION:This exhibit includes an extraordinarily wide variety of primary source material collected to support current and  future research.  Among the items on display are:  a watercolor “portrait” of a railroad bridge built in Prague in  1850\, original artwork by local artist Tom Pohrt for a children's book written by Justice Sandra Day O'Connor\, a  diary and photographs from a female UM student who hitchhiked from Ann Arbor to San Francisco in 1923\, a  Spanish text from 1693 for those studying to be soldiers\, and Dante's Divine Comedy with illustrations by  Salvador Dali.  \n\nNew archival collections with samples on display include the papers of film director Robert Altman and writers  Nicholas Delbanco and Richard Tillinghast\, as well as four separate women involved in radical causes such as  Clarence Darrow's 1907 defense of union leaders accused of murder and the ecological costs of technology.   This is the first opportunity for the public to see materials from the Altman Collection\, which is estimated to be  1\,000 linear feet in size and is now being sorted and processed for use.
UID:748-911465@events.umich.edu
URL:https://events.umich.edu/event/748
CLASS:PUBLIC
STATUS:CONFIRMED
CATEGORIES:visual arts
LOCATION:Hatcher Graduate Library - 7th Floor Special Collections Library
CONTACT:
END:VEVENT
BEGIN:VEVENT
DTSTAMP:20101111T175844
DTSTART;TZID=America/Detroit:20100321T000000
SUMMARY:Other:Nordhouse Dunes Backpacking trip
DESCRIPTION:Explore dunes that date back between 3\,500 and 4\,000 years! We'll enjoy the waves of  sand and waves of water that beautiful Lake Michigan has to offer. On our hike you will  find woody patches of juniper\, stunted jack pine\, some small stands of northern  hardwoods\, and dune marshes with wetland species such as hemlockand larch. Keep an  eye out for the many species of waterfowl and songbirds that have been identified here\, as  well as white-tailed deer\, coyotes\, foxes\, raccoons\, porcupines\, skunks\, and squirrels. The  Nordhouse Dunes Wilderness Area\, with it extensive shore dunes system\, is the perfect  place to get away from it all. While small\, the area is just 3\,450 acres\, it boasts an  impressive title: it is the only congressionally designated wilderness area located along  the Lake Michigan shoreline in Michigan's Lower Peninsula.
UID:2795-920530@events.umich.edu
URL:https://events.umich.edu/event/2795
CLASS:PUBLIC
STATUS:CONFIRMED
CATEGORIES:
LOCATION:
CONTACT:
END:VEVENT
BEGIN:VEVENT
DTSTAMP:20101111T175620
DTSTART;TZID=America/Detroit:20100321T000000
SUMMARY:Exhibition:Permanent Exhibits at the Exhibit Museum of Natural History
DESCRIPTION:The Hall of Evolution houses Michigan's largest display of prehistoric life. More than 600 million years of life on Earth are traced through fossils\, models and dioramas. The Michigan Wildlife Gallery has a large collection of native Great Lakes birds\, mammals\, reptiles\, and amphibians\, with taxidermy mounts\, habitat scenes\, and the largest mastodon trackway on display in the world. There are also displays about some of the environmental problems faced in this region today. The Anthropology Displays feature artifacts from human cultures around the world. The Geology Displays on the fourth floor offer a large selection of rocks\, minerals and gems. These displays are updated periodically. For more information go to www.lsa.umich.edu/exhibitmuseum/exhibits/permexhibits or call 734-764-0480.
UID:452-910626@events.umich.edu
URL:https://events.umich.edu/event/452
CLASS:PUBLIC
STATUS:CONFIRMED
CATEGORIES:
LOCATION:Ruthven Museums Building
CONTACT:
END:VEVENT
BEGIN:VEVENT
DTSTAMP:20100318T170051
DTSTART;TZID=America/Detroit:20100321T080000
SUMMARY:Exhibition:Exhibit: The Ghost Army
DESCRIPTION:This exhibit tells the story of the Ghost Army from WWII. In June of 1944\, an  exceptional U.S. Army unit went into action in Normandy. Its weapons included  hundreds of inflatable tanks and a one-of-a-kind collection of sound effects  records\, and it carried out its battlefield mission without firing a shot. The unit was  officially called the 23rd Headquarters Special Troops\, but it was known to its men  as The Ghost Army.\n\nMembers of The Ghost Army adhered to a decades-long gag order\; many never  told their families about their extraordinary military service. Sixty-five years after  this top-secret group went into action\, the University of Michigan's Hatcher Library  will unveil the first public exhibit of this captivating group of materials documenting  The Ghost Army. \n\nThis exhibit is available during library hours. See http://www.lib.umich.edu/hatcher- graduate-library.
UID:1124-913926@events.umich.edu
URL:https://events.umich.edu/event/1124
CLASS:PUBLIC
STATUS:CONFIRMED
CATEGORIES:visual arts
LOCATION:Hatcher Graduate Library - Gallery in Room 100
CONTACT:
END:VEVENT
BEGIN:VEVENT
DTSTAMP:20100329T161307
DTSTART;TZID=America/Detroit:20100321T083000
DTEND;TZID=America/Detroit:20100321T190000
SUMMARY:Exhibition:A History of the Bible from Ancient Papyri to King James
DESCRIPTION:This exhibit\, from the Special Collections Library\, shows a path of documents that  led to the creation of the 1611 King James Version of the Bible – from ancient  Egyptian manuscripts on papyrus to Medieval manuscripts to the printed book.\n\nThe earliest documents on display are Egyptian papyri\, including examples of a  census record from the year 119 and the oldest known copy of part of the New  Testament. Medieval manuscripts document the preservation of the text until the  invention of movable type printing by Gutenberg around 1450. The early printed  Bibles include versions in Latin and Greek\, and several that show the struggles  among various political factions and church reformers to control the translating of  the Scriptures into the language of the people. See the King James Bible of 1611  that became the accepted standard.\n\nFor Audubon Room hours\, see https://www.lib.umich.edu/audubon-room
UID:2220-918656@events.umich.edu
URL:https://events.umich.edu/event/2220
CLASS:PUBLIC
STATUS:CONFIRMED
CATEGORIES:visual arts
LOCATION:Hatcher Graduate Library - Audubon Room/First Floor
CONTACT:
END:VEVENT
BEGIN:VEVENT
DTSTAMP:20090722T143534
DTSTART;TZID=America/Detroit:20100321T090000
DTEND;TZID=America/Detroit:20100321T170000
SUMMARY:Exhibition:Ida: Darwinius masillae
DESCRIPTION:\"Ida\,\" a new exhibit in the Exhibit Museum's Rotunda\, displays a high-resolution cast of an extremely rare  fossil discovered in 1983 near Messel\, Germany\, but only recently made available for study. The fossil has  proven to be a “link” between the prosimian and simian (\"anthropoid\") primate lineages. It has \"advanced\"  front teeth (incisors and canines) and second toes like those of monkeys\, and is broadly representative of what  human primate ancestors may have looked like during the Eocene epoch 47 million years ago.     Ida (prounded \"eeda\") is named after after the daughter of Dr JÃ¸rn Hurum\, the Norwegian vertebrate  paleontologist who secured one section of the fossil from an anonymous owner\, and led the research. Ida was  about eight months old\, or the equivalent of a six-year-old human.     Publication of a paper on the discovery was accompanied by a book\, The Link: Uncovering Our Earliest  Ancestors by Colin Tudge\, and a documentary shown on the History Channel (US)\, BBC One (UK)\,and various  stations in Germany and Norway.     U-M paleontologist Philip Gingerich and U-M anthropologist B. Holly Smith were two members of the \"dream  team\" invited to study Ida. The exhibit will be on display through May 2010.
UID:2124-918261@events.umich.edu
URL:https://events.umich.edu/event/2124
CLASS:PUBLIC
STATUS:CONFIRMED
CATEGORIES:multicultural,visual arts,welcome week
LOCATION:
CONTACT:
END:VEVENT
BEGIN:VEVENT
DTSTAMP:20101111T175741
DTSTART;TZID=America/Detroit:20100321T090000
DTEND;TZID=America/Detroit:20100321T180000
SUMMARY:Other:Support Dance Marathon by Shopping U-M Computer Showcase
DESCRIPTION:When you purchase any featured Apple product at the Computer Showcase from  March 1-26\, we'll donate a percentage of the sale to support Dance Marathon at the  University of Michigan!\n\nPlus! Get a FREE printer when you purchase any MacBook\, MacBook Pro\, or iMac.\n\nLearn more here: http://showcase.itcs.umich.edu/news/dance-marathon.php
UID:1663-916349@events.umich.edu
URL:https://events.umich.edu/event/1663
CLASS:PUBLIC
STATUS:CONFIRMED
CATEGORIES:
LOCATION:Michigan Union
CONTACT:
END:VEVENT
BEGIN:VEVENT
DTSTAMP:20101111T175749
DTSTART;TZID=America/Detroit:20100321T100000
DTEND;TZID=America/Detroit:20100321T163000
SUMMARY:Other:The Healing Garden - Savor Nature's Restorative Powers
DESCRIPTION:This exhibit and display in the conservatory at Matthaei Botanical Gardens focuses  on the rejuvenating qualities of nature's scents\, colors\, and forms and on the  benefits of exercise and meditation. Interactive activities during the exhibit include  guided meditation\, aromatherapy station\, color and mood interpretation display\,  and meditative hikes. Also\, displays of bulbs and fresh-air plants. Cost inlcudes  admission to conservatory and above activities. Open Wednesday until 8 pm\; free  admission Wednesdays noon-8pm. Closed Mondays.
UID:1938-916789@events.umich.edu
URL:https://events.umich.edu/event/1938
CLASS:PUBLIC
STATUS:CONFIRMED
CATEGORIES:
LOCATION:
CONTACT:
END:VEVENT
BEGIN:VEVENT
DTSTAMP:20101111T175756
DTSTART;TZID=America/Detroit:20100321T123000
SUMMARY:Other:M Rock Boulder Competition
DESCRIPTION:Day of Registratin begins at 12:30 PM. \n\nEarly Registration  (any time before the day of registration) $10\n\nDay of Registration $15\n\nDivisions: Beginner\, Intermediate\, Advance\n\nRegister at the M-Rock by calling or stopping by during climbing hours.
UID:2156-917377@events.umich.edu
URL:https://events.umich.edu/event/2156
CLASS:PUBLIC
STATUS:CONFIRMED
CATEGORIES:
LOCATION:Intramural Sports Building
CONTACT:
END:VEVENT
BEGIN:VEVENT
DTSTAMP:20100321T030003
DTSTART;TZID=America/Detroit:20100321T140000
SUMMARY:Other:Masters Recital:  Emlyn Johnson\, flute
DESCRIPTION:PROGRAM:  Janacek - Mladi\; Benson -  Five Lyrics of Louise Bogan\; Platti -  Sonata in G Major\, Op. 3\, No. 6\; Martinu -  Promenades
UID:2108-917135@events.umich.edu
URL:https://events.umich.edu/event/2108
CLASS:PUBLIC
STATUS:CONFIRMED
CATEGORIES:music
LOCATION:Walgreen Drama Center - Stamps Auditorium
CONTACT:
END:VEVENT
BEGIN:VEVENT
DTSTAMP:20100321T030003
DTSTART;TZID=America/Detroit:20100321T140000
SUMMARY:Other:Senior Recital:  Daniel Winnick\, violin
DESCRIPTION:PROGRAM:  Beethoven - Sonata No. 8 in G Major\, Op. 30 No. 3\; YsaÃ¿e - Sonata for Solo Violin\, Op. 27 No. 2\; LutosBawski -  Subito\; Brahms - Sonata No. 2 in A Major\, Op. 100
UID:356-909820@events.umich.edu
URL:https://events.umich.edu/event/356
CLASS:PUBLIC
STATUS:CONFIRMED
CATEGORIES:music
LOCATION:
CONTACT:
END:VEVENT
BEGIN:VEVENT
DTSTAMP:20100321T030003
DTSTART;TZID=America/Detroit:20100321T160000
SUMMARY:Other:STMD at UMMA:  Bright Sheng\, composer
DESCRIPTION:SMTD faculty composer Bright Sheng presents his own works\, A Night at the Chinese Opera\, Three Chinese Love Songs\, Seven Tunes Heard in China\, and the Third String Quartet.  They are juxtaposed with studies in orientalism by Maurice Ravel and Bela Bartok.  Sheng is joined by fellow SMTD faculty Stephen Shipps and Logan Skelton\, the Phoenix Ensemble\, DMA cellist Paul Dwyer\, and guest artist Jennifer Goltz.
UID:143-909413@events.umich.edu
URL:https://events.umich.edu/event/143
CLASS:PUBLIC
STATUS:CONFIRMED
CATEGORIES:music
LOCATION:Museum of Art - Apse
CONTACT:
END:VEVENT
BEGIN:VEVENT
DTSTAMP:20100321T030003
DTSTART;TZID=America/Detroit:20100321T200000
SUMMARY:Other:Faculty Recital:  Dan Gilbert\, clarinet
DESCRIPTION:with Donna Lee\, piano.  PROGRAM:  Bernstein - Sonata for Clarinet and Piano\; Muczynski - Time Pieces\; Babin - Hillandale Waltzes\; Schoenfield - Sonatina for Clarinet and Piano
UID:735-911391@events.umich.edu
URL:https://events.umich.edu/event/735
CLASS:PUBLIC
STATUS:CONFIRMED
CATEGORIES:music
LOCATION:Walgreen Drama Center - Stamps Auditorium
CONTACT:
END:VEVENT
BEGIN:VEVENT
DTSTAMP:20100321T030003
DTSTART;TZID=America/Detroit:20100321T200000
SUMMARY:Other:Student Composers Forum
DESCRIPTION:PROGRAM:  Jarrar - Cairo\, Bahibik\; Matlock - Litany\; Cash-Goldwasser - Loki\; Wassell - Cassiopeia\; Zuckerman - By the Way\; Kern - Iron City\; Kalb - Roaming in Thought - Song Cycle for Baritone Voice and Chamber Orchestra\; Bohman -  Untitled\; Eren - Two pieces for flute and vibraphone\; Lucas - Piano Preludes\; Harlin - Prelude and Postlude for Piano Quartet\; Raman - Three Times Over
UID:2343-919650@events.umich.edu
URL:https://events.umich.edu/event/2343
CLASS:PUBLIC
STATUS:CONFIRMED
CATEGORIES:music
LOCATION:Earl V. Moore Building - Britton Recital Hall
CONTACT:
END:VEVENT
BEGIN:VEVENT
DTSTAMP:20100321T030002
DTSTART;TZID=America/Detroit:20100321T200000
SUMMARY:Other:Student Composers Forum
DESCRIPTION:PROGRAM:  Jarrar - Cairo\, Bahibik\; Matlock - Litany\; Cash-Golwasser - Loki\; Wassell - Cassiopeia\; Zuckerman - By the Way\; Kern - Iron City\; Kalb - Roaming in Thought - Song Cycle for Baritone Voice and Chamber Orchestra\; Bohman -  Untitled\; Eren - Two pieces for flute and vibraphone\; Lucas - Piano Preludes\; Harlin - Prelude and Postlude for Piano Quartet\; Raman - Three Times Over
UID:2997-921915@events.umich.edu
URL:https://events.umich.edu/event/2997
CLASS:PUBLIC
STATUS:CONFIRMED
CATEGORIES:music
LOCATION:Earl V. Moore Building - Britton Recital Hall
CONTACT:
END:VEVENT
BEGIN:VEVENT
DTSTAMP:20100301T134658
DTSTART;TZID=America/Detroit:20100321T213000
SUMMARY:Film Screening:Film: Herb and Dorothy
DESCRIPTION:Herb and Dorothy tells the extraordinary story of Herbert Vogel\, a postal clerk\, and Dorothy Vogel\, a librarian\, who managed to build one of the most important contemporary art collections in history with very modest means. They collected artworks guided by two rules: the piece had to be affordable\, and it had to be small enough to fit in their one-bedroom Manhattan apartment. Most of those they supported and befriended in this process went on to become world-renowned artists\, including Sol LeWitt\, Christo and Jeanne-Claude\, Richard Tuttle\, and Chuck Close. Directed by Megumi Sasaki.
UID:2716-921050@events.umich.edu
URL:https://events.umich.edu/event/2716
CLASS:PUBLIC
STATUS:CONFIRMED
CATEGORIES:
LOCATION:Museum of Art - Helmut Stern Auditorium
CONTACT:
END:VEVENT
END:VCALENDAR