BEGIN:VCALENDAR
VERSION:2.0
PRODID:-//UM//UM*Events//EN
CALSCALE:GREGORIAN
BEGIN:VTIMEZONE
TZID:America/Detroit
TZURL:http://tzurl.org/zoneinfo/America/Detroit
X-LIC-LOCATION:America/Detroit
BEGIN:DAYLIGHT
TZOFFSETFROM:-0500
TZOFFSETTO:-0400
TZNAME:EDT
DTSTART:20070311T020000
RRULE:FREQ=YEARLY;BYMONTH=3;BYDAY=2SU
END:DAYLIGHT
BEGIN:STANDARD
TZOFFSETFROM:-0400
TZOFFSETTO:-0500
TZNAME:EST
DTSTART:20071104T020000
RRULE:FREQ=YEARLY;BYMONTH=11;BYDAY=1SU
END:STANDARD
END:VTIMEZONE
BEGIN:VEVENT
DTSTAMP:20101111T175829
DTSTART;TZID=America/Detroit:20100322T000000
SUMMARY:Other:A2Fiber ”˜Call to Action’ to the University Community
DESCRIPTION:The University of Michigan and the city of Ann Arbor have teamed up to convince  Google to pick Ann Arbor for Google's Fiber for Communities trial. One of the key  components of Google's selection process is applicants must demonstrate strong  community support and participation. You can play an important supporting role!\n\nBy March 26\, please show your support by taking one or more of the following steps:\n\n-- Become an A2 Fiber Facebook fan: www.facebook.com/a2fiber -- Sign up to receive A2 Fiber e-mail notifications: www.a2gov.org/services/Pages/E-  mailAlertSubscription.aspx -- Submit a community group and resident nomination form:  www.google.com/appserve/fiberrfi/public/options -- Create your own video on YouTube: www.youtube.com/a2fiber.  -- Follow A2 Fiber on Twitter: www.twitter.com/a2fiber.  --Spread the word! \n\nLearn more at www.a2fiber.com
UID:2321-919628@events.umich.edu
URL:https://events.umich.edu/event/2321
CLASS:PUBLIC
STATUS:CONFIRMED
CATEGORIES:
LOCATION:
CONTACT:
END:VEVENT
BEGIN:VEVENT
DTSTAMP:20101111T175629
DTSTART;TZID=America/Detroit:20100322T000000
SUMMARY:Exhibition:Exhibit of Recent Aquisitions
DESCRIPTION:This exhibit includes an extraordinarily wide variety of primary source material collected to support current and  future research.  Among the items on display are:  a watercolor “portrait” of a railroad bridge built in Prague in  1850\, original artwork by local artist Tom Pohrt for a children's book written by Justice Sandra Day O'Connor\, a  diary and photographs from a female UM student who hitchhiked from Ann Arbor to San Francisco in 1923\, a  Spanish text from 1693 for those studying to be soldiers\, and Dante's Divine Comedy with illustrations by  Salvador Dali.  \n\nNew archival collections with samples on display include the papers of film director Robert Altman and writers  Nicholas Delbanco and Richard Tillinghast\, as well as four separate women involved in radical causes such as  Clarence Darrow's 1907 defense of union leaders accused of murder and the ecological costs of technology.   This is the first opportunity for the public to see materials from the Altman Collection\, which is estimated to be  1\,000 linear feet in size and is now being sorted and processed for use.
UID:748-911466@events.umich.edu
URL:https://events.umich.edu/event/748
CLASS:PUBLIC
STATUS:CONFIRMED
CATEGORIES:visual arts
LOCATION:Hatcher Graduate Library - 7th Floor Special Collections Library
CONTACT:
END:VEVENT
BEGIN:VEVENT
DTSTAMP:20101111T175620
DTSTART;TZID=America/Detroit:20100322T000000
SUMMARY:Exhibition:Permanent Exhibits at the Exhibit Museum of Natural History
DESCRIPTION:The Hall of Evolution houses Michigan's largest display of prehistoric life. More than 600 million years of life on Earth are traced through fossils\, models and dioramas. The Michigan Wildlife Gallery has a large collection of native Great Lakes birds\, mammals\, reptiles\, and amphibians\, with taxidermy mounts\, habitat scenes\, and the largest mastodon trackway on display in the world. There are also displays about some of the environmental problems faced in this region today. The Anthropology Displays feature artifacts from human cultures around the world. The Geology Displays on the fourth floor offer a large selection of rocks\, minerals and gems. These displays are updated periodically. For more information go to www.lsa.umich.edu/exhibitmuseum/exhibits/permexhibits or call 734-764-0480.
UID:452-910627@events.umich.edu
URL:https://events.umich.edu/event/452
CLASS:PUBLIC
STATUS:CONFIRMED
CATEGORIES:
LOCATION:Ruthven Museums Building
CONTACT:
END:VEVENT
BEGIN:VEVENT
DTSTAMP:20100318T170051
DTSTART;TZID=America/Detroit:20100322T080000
SUMMARY:Exhibition:Exhibit: The Ghost Army
DESCRIPTION:This exhibit tells the story of the Ghost Army from WWII. In June of 1944\, an  exceptional U.S. Army unit went into action in Normandy. Its weapons included  hundreds of inflatable tanks and a one-of-a-kind collection of sound effects  records\, and it carried out its battlefield mission without firing a shot. The unit was  officially called the 23rd Headquarters Special Troops\, but it was known to its men  as The Ghost Army.\n\nMembers of The Ghost Army adhered to a decades-long gag order\; many never  told their families about their extraordinary military service. Sixty-five years after  this top-secret group went into action\, the University of Michigan's Hatcher Library  will unveil the first public exhibit of this captivating group of materials documenting  The Ghost Army. \n\nThis exhibit is available during library hours. See http://www.lib.umich.edu/hatcher- graduate-library.
UID:1124-913927@events.umich.edu
URL:https://events.umich.edu/event/1124
CLASS:PUBLIC
STATUS:CONFIRMED
CATEGORIES:visual arts
LOCATION:Hatcher Graduate Library - Gallery in Room 100
CONTACT:
END:VEVENT
BEGIN:VEVENT
DTSTAMP:20101111T175759
DTSTART;TZID=America/Detroit:20100322T080000
DTEND;TZID=America/Detroit:20100322T170000
SUMMARY:Exhibition:History of Dentistry exhibits at the Sindecuse Museum of Dentistry
DESCRIPTION:Exhibits at the Sindecuse Museum of Dentistry include Dental Operatories of the 1860s to 1930s\, St. Apollonia-Patron Saint of Dentistry and more. Call 763-0767 or go to www.dent.umich.edu/museum for more information.
UID:3856-917510@events.umich.edu
URL:https://events.umich.edu/event/3856
CLASS:PUBLIC
STATUS:CONFIRMED
CATEGORIES:
LOCATION:Dental & W.K. Kellogg Institute
CONTACT:
END:VEVENT
BEGIN:VEVENT
DTSTAMP:20100329T161307
DTSTART;TZID=America/Detroit:20100322T083000
DTEND;TZID=America/Detroit:20100322T190000
SUMMARY:Exhibition:A History of the Bible from Ancient Papyri to King James
DESCRIPTION:This exhibit\, from the Special Collections Library\, shows a path of documents that  led to the creation of the 1611 King James Version of the Bible – from ancient  Egyptian manuscripts on papyrus to Medieval manuscripts to the printed book.\n\nThe earliest documents on display are Egyptian papyri\, including examples of a  census record from the year 119 and the oldest known copy of part of the New  Testament. Medieval manuscripts document the preservation of the text until the  invention of movable type printing by Gutenberg around 1450. The early printed  Bibles include versions in Latin and Greek\, and several that show the struggles  among various political factions and church reformers to control the translating of  the Scriptures into the language of the people. See the King James Bible of 1611  that became the accepted standard.\n\nFor Audubon Room hours\, see https://www.lib.umich.edu/audubon-room
UID:2220-918657@events.umich.edu
URL:https://events.umich.edu/event/2220
CLASS:PUBLIC
STATUS:CONFIRMED
CATEGORIES:visual arts
LOCATION:Hatcher Graduate Library - Audubon Room/First Floor
CONTACT:
END:VEVENT
BEGIN:VEVENT
DTSTAMP:20090722T143534
DTSTART;TZID=America/Detroit:20100322T090000
DTEND;TZID=America/Detroit:20100322T170000
SUMMARY:Exhibition:Ida: Darwinius masillae
DESCRIPTION:\"Ida\,\" a new exhibit in the Exhibit Museum's Rotunda\, displays a high-resolution cast of an extremely rare  fossil discovered in 1983 near Messel\, Germany\, but only recently made available for study. The fossil has  proven to be a “link” between the prosimian and simian (\"anthropoid\") primate lineages. It has \"advanced\"  front teeth (incisors and canines) and second toes like those of monkeys\, and is broadly representative of what  human primate ancestors may have looked like during the Eocene epoch 47 million years ago.     Ida (prounded \"eeda\") is named after after the daughter of Dr JÃ¸rn Hurum\, the Norwegian vertebrate  paleontologist who secured one section of the fossil from an anonymous owner\, and led the research. Ida was  about eight months old\, or the equivalent of a six-year-old human.     Publication of a paper on the discovery was accompanied by a book\, The Link: Uncovering Our Earliest  Ancestors by Colin Tudge\, and a documentary shown on the History Channel (US)\, BBC One (UK)\,and various  stations in Germany and Norway.     U-M paleontologist Philip Gingerich and U-M anthropologist B. Holly Smith were two members of the \"dream  team\" invited to study Ida. The exhibit will be on display through May 2010.
UID:2124-918262@events.umich.edu
URL:https://events.umich.edu/event/2124
CLASS:PUBLIC
STATUS:CONFIRMED
CATEGORIES:welcome week,visual arts,multicultural
LOCATION:
CONTACT:
END:VEVENT
BEGIN:VEVENT
DTSTAMP:20101111T175734
DTSTART;TZID=America/Detroit:20100322T090000
DTEND;TZID=America/Detroit:20100322T170000
SUMMARY:Exhibition:Scott Hocking Installation
DESCRIPTION:Scott Hocking explores the abandoned buildings and sites of Detroit like a  newfangled scientist. He gathers raw data in his excavations\, and records his  findings using a wholly unique and modern process and method that he intuitively  formulates as he goes along. In his ongoing study of a city so rooted in a dense  past\, and the emotional attachments that accompany it\, Hocking is  uncompromising and unflinching\, and refuses to buy into the hype. His visual  essays chronicling urban markings of modern day ruin are not the stuff of tragedy  or fodder for magazine centerfolds\, but proof of a renaissance in real time.  Hocking's work is fully alive\, and honors the world going past and us moving forward  along with it\, exhilarated by industrial parks returning to fallow land\, and strawberry  bushes growing in the cracked concrete.
UID:1793-915913@events.umich.edu
URL:https://events.umich.edu/event/1793
CLASS:PUBLIC
STATUS:CONFIRMED
CATEGORIES:visual arts
LOCATION:202 S. Thayer - 1010
CONTACT:
END:VEVENT
BEGIN:VEVENT
DTSTAMP:20101111T175741
DTSTART;TZID=America/Detroit:20100322T090000
DTEND;TZID=America/Detroit:20100322T180000
SUMMARY:Other:Support Dance Marathon by Shopping U-M Computer Showcase
DESCRIPTION:When you purchase any featured Apple product at the Computer Showcase from  March 1-26\, we'll donate a percentage of the sale to support Dance Marathon at the  University of Michigan!\n\nPlus! Get a FREE printer when you purchase any MacBook\, MacBook Pro\, or iMac.\n\nLearn more here: http://showcase.itcs.umich.edu/news/dance-marathon.php
UID:1663-916350@events.umich.edu
URL:https://events.umich.edu/event/1663
CLASS:PUBLIC
STATUS:CONFIRMED
CATEGORIES:
LOCATION:Michigan Union
CONTACT:
END:VEVENT
BEGIN:VEVENT
DTSTAMP:20100312T134614
DTSTART;TZID=America/Detroit:20100322T100000
DTEND;TZID=America/Detroit:20100322T160000
SUMMARY:Reception / Open House:Open House - Confucius Institute at the University of Michigan
DESCRIPTION:Come and experience diverse Chinese arts and cultures. Join us for food\, fun and prizes! On the agenda: - Mini Concerts  - Art Demonstrations - Tasty Refreshments  - and Fabulous Prizes!
UID:394-911536@events.umich.edu
URL:https://events.umich.edu/event/394
CLASS:PUBLIC
STATUS:CONFIRMED
CATEGORIES:literary arts,multicultural,music,visual arts
LOCATION:
CONTACT:
END:VEVENT
BEGIN:VEVENT
DTSTAMP:20101111T175600
DTSTART;TZID=America/Detroit:20100322T100000
DTEND;TZID=America/Detroit:20100322T170000
SUMMARY:Exhibition:Stearns Collection of Music
DESCRIPTION:The Stearns Collection at the School of Music\, Theatre & Dance is one of six major collections of musical instruments in North America. The 2\,500-piece collection is internationally known and is a resource for musical and cultural education.
UID:3790-909242@events.umich.edu
URL:https://events.umich.edu/event/3790
CLASS:PUBLIC
STATUS:CONFIRMED
CATEGORIES:
LOCATION:Earl V. Moore Building
CONTACT:
END:VEVENT
BEGIN:VEVENT
DTSTAMP:20100114T103451
DTSTART;TZID=America/Detroit:20100322T160000
DTEND;TZID=America/Detroit:20100322T171500
SUMMARY:Workshop / Seminar:\"New Financial Regulations & Risk Management Models in the U.S.\, Brazil & India: One Size Won't Fit All\"
DESCRIPTION:Speakers:  Otavio Yazbek\, Commissioner of the CVM\, the Securities and Exchange  Commission of Brazil\, and Vikramaditya S. Khanna\, Professor of Law\, University of  Michigan Law School\n\nThe International Law Workshop introduces today's most debated issues in  international and comparative law.  Speakers will talk for 25 minutes\, followed by  discussion and questions.
UID:2082-918104@events.umich.edu
URL:https://events.umich.edu/event/2082
CLASS:PUBLIC
STATUS:CONFIRMED
CATEGORIES:
LOCATION:Hutchins Hall - 116
CONTACT:
END:VEVENT
BEGIN:VEVENT
DTSTAMP:20100218T161737
DTSTART;TZID=America/Detroit:20100322T160000
DTEND;TZID=America/Detroit:20100322T173000
SUMMARY:Lecture / Discussion:Health Care Reform at the State vs National Level: Tradeoffs and Tipping Points
DESCRIPTION:Monday\, March 22\, 2010\, 4:00 – 5:30pm Free and open to the public.  Gerald R. Ford School of Public Policy Annenberg Auditorium\, 1120 Joan and Sanford Weill Hall 735 South State Street\, Ann Arbor\n\nPanelists: Thomas Buchmueller\, Professor of Business Economics and Public Policy\, University  of Michigan Stephen M. Ross School of Business  John J. H. (Joe) Schwarz\, Former U.S. Representative and Visiting Lecturer\,  University of Michigan Gerald R. Ford School of Public Policy Marianne Udow-Phillips\, Director\, Center for Healthcare Research and  Transformation (CHRT) located at the University of Michigan\n\nModerator:  Matthew Davis\, Associate Professor\, University of Michigan Medical School and the  Gerald R. Ford School of Public Policy\n\nThis event is organized by professors Matthew Davis and Helen Levy\,  and is sponsored by the Center for Local\, State\, and Urban Policy and the Gerald R.  Ford School of Public Policy.  For more information visit www.closup.umich.edu or call 734-647-4091\n\n Abstract The persistent problems of rising health care costs\, uninsurance\, and  underinsurance endanger the health of Americans and the quality and timeliness of  their care.  The majority of Americans are still covered through private health plans\,  but government-sponsored plans administered by federal and state governments  are responsible for rapidly increasing numbers of patients\, especially those with  chronic and complex illness.  As a result\, today about 50 cents of every dollar spent  on health care in the US is paid for through government programs (eg\, Medicare\,  Medicaid\, CHIP).  At both federal and state levels\, the rapid expansion of these  expenditures threatens other public programs.  Federal legislators have struggled  for over a year to reach consensus about system reform.  States do not have that  luxury of time:  because of the balanced budget imperative\, officials must address  health care challenges with particularly innovative\, creative\, and/or exceedingly  difficult management decisions today.  Our panelists will offer their perspectives on  states' challenges and opportunities in the face of worsening health care dilemmas.
UID:2500-919188@events.umich.edu
URL:https://events.umich.edu/event/2500
CLASS:PUBLIC
STATUS:CONFIRMED
CATEGORIES:
LOCATION:Weill Hall (Ford School) - Annenberg Auditorium 1120
CONTACT:
END:VEVENT
BEGIN:VEVENT
DTSTAMP:20100322T030002
DTSTART;TZID=America/Detroit:20100322T170000
SUMMARY:Other:Guest Recital:  Detroit Symphony Orchestra Horn Quartet
DESCRIPTION:One of America's finest horn sections\, Karl Pituch\, David Everson\, Bryan Kennedy\, and Corbin Wagner perform quartet selections.
UID:997-913641@events.umich.edu
URL:https://events.umich.edu/event/997
CLASS:PUBLIC
STATUS:CONFIRMED
CATEGORIES:music
LOCATION:Earl V. Moore Building - Britton Recital Hall
CONTACT:
END:VEVENT
BEGIN:VEVENT
DTSTAMP:20100322T030002
DTSTART;TZID=America/Detroit:20100322T170000
SUMMARY:Other:Masters Recital:  Alex Young\, trumpet
DESCRIPTION:PROGRAM:  Handel - Let the Bright Seraphim\; Stevens - Sonata for Trumpet and Piano\; Hindemith - Septet for Wind Instruments\; Ewazen - An Elizabethan Songbook
UID:137-910060@events.umich.edu
URL:https://events.umich.edu/event/137
CLASS:PUBLIC
STATUS:CONFIRMED
CATEGORIES:music
LOCATION:Walgreen Drama Center - Stamps Auditorium
CONTACT:
END:VEVENT
BEGIN:VEVENT
DTSTAMP:20100301T131316
DTSTART;TZID=America/Detroit:20100322T170000
DTEND;TZID=America/Detroit:20100322T183000
SUMMARY:Lecture / Discussion:Ninth Annual Peter M. Wege Lecture on Sustainability
DESCRIPTION:\"Science and Technology Policy Priorities and Opportunities in the Obama Administration\": Dr. Holdren is the science and technology advisor to President Obama and the Director of the White House Office of Science and Technology Policy. Dr. Holdren also co-chairs the President's Council of Advisors on Science and Technology.
UID:2433-919870@events.umich.edu
URL:https://events.umich.edu/event/2433
CLASS:PUBLIC
STATUS:CONFIRMED
CATEGORIES:social justice
LOCATION:Rackham Graduate School (Horace H.) - Main Auditorium
CONTACT:
END:VEVENT
BEGIN:VEVENT
DTSTAMP:20101111T175621
DTSTART;TZID=America/Detroit:20100322T180000
DTEND;TZID=America/Detroit:20100322T200000
SUMMARY:Other:Free and Anonymous HIV Testing
DESCRIPTION:Free and Anonymous HIV Testing every other Monday\, 6:00p-8:00p Spectrum  Center\, 3rd Floor Michigan Union sponsored by HARC\, the HIV/AIDS Resource  Center. Free and Anonymous\, needle-free\, results in 7-10 days.
UID:464-910895@events.umich.edu
URL:https://events.umich.edu/event/464
CLASS:PUBLIC
STATUS:CONFIRMED
CATEGORIES:
LOCATION:Michigan Union - 3200
CONTACT:
END:VEVENT
BEGIN:VEVENT
DTSTAMP:20100929T110405
DTSTART;TZID=America/Detroit:20100322T200000
DTEND;TZID=America/Detroit:20100322T220000
SUMMARY:Meeting:Gender Explorers
DESCRIPTION:A social and support group for transgender\, transsexual\, genderqueer\, TG-questioning people and those who transgress gender binaries.\n\nThis safe\, open\, and affirming space includes discussion\, fellowship\, and significant others.\n\nThe group meets on the 2nd and 4th Monday of each month in the Spectrum Center.  To participate and to learn more\, email PJ at pajeho@umich.edu
UID:2680-920394@events.umich.edu
URL:https://events.umich.edu/event/2680
CLASS:PUBLIC
STATUS:CONFIRMED
CATEGORIES:multicultural,social justice,spectrumcenter
LOCATION:Michigan Union - 3200
CONTACT:
END:VEVENT
BEGIN:VEVENT
DTSTAMP:20100322T030002
DTSTART;TZID=America/Detroit:20100322T200000
SUMMARY:Other:Guest Piano Recital: Students of the Cincinnati Conservatory of Music
DESCRIPTION:PROGRAM: Bach - Partita No. 2 in C Minor\, BWV 826\; Lieberman - Gargoyles\, Op. 29\; Listz - Année de Pelèrinage: Italie\;  Brahms - Piano Sonata No. 3 in F Minor\, Op 5
UID:2094-917128@events.umich.edu
URL:https://events.umich.edu/event/2094
CLASS:PUBLIC
STATUS:CONFIRMED
CATEGORIES:music
LOCATION:Walgreen Drama Center - Stamps Auditorium
CONTACT:
END:VEVENT
BEGIN:VEVENT
DTSTAMP:20100322T030002
DTSTART;TZID=America/Detroit:20100322T200000
SUMMARY:Other:Jazz Combos
DESCRIPTION:
UID:962-913562@events.umich.edu
URL:https://events.umich.edu/event/962
CLASS:PUBLIC
STATUS:CONFIRMED
CATEGORIES:music
LOCATION:Earl V. Moore Building - McIntosh Theatre
CONTACT:
END:VEVENT
END:VCALENDAR