BEGIN:VCALENDAR
VERSION:2.0
PRODID:-//UM//UM*Events//EN
CALSCALE:GREGORIAN
BEGIN:VTIMEZONE
TZID:America/Detroit
TZURL:http://tzurl.org/zoneinfo/America/Detroit
X-LIC-LOCATION:America/Detroit
BEGIN:DAYLIGHT
TZOFFSETFROM:-0500
TZOFFSETTO:-0400
TZNAME:EDT
DTSTART:20070311T020000
RRULE:FREQ=YEARLY;BYMONTH=3;BYDAY=2SU
END:DAYLIGHT
BEGIN:STANDARD
TZOFFSETFROM:-0400
TZOFFSETTO:-0500
TZNAME:EST
DTSTART:20071104T020000
RRULE:FREQ=YEARLY;BYMONTH=11;BYDAY=1SU
END:STANDARD
END:VTIMEZONE
BEGIN:VEVENT
DTSTAMP:20101111T175829
DTSTART;TZID=America/Detroit:20100324T000000
SUMMARY:Other:A2Fiber ”˜Call to Action’ to the University Community
DESCRIPTION:The University of Michigan and the city of Ann Arbor have teamed up to convince  Google to pick Ann Arbor for Google's Fiber for Communities trial. One of the key  components of Google's selection process is applicants must demonstrate strong  community support and participation. You can play an important supporting role!\n\nBy March 26\, please show your support by taking one or more of the following steps:\n\n-- Become an A2 Fiber Facebook fan: www.facebook.com/a2fiber -- Sign up to receive A2 Fiber e-mail notifications: www.a2gov.org/services/Pages/E-  mailAlertSubscription.aspx -- Submit a community group and resident nomination form:  www.google.com/appserve/fiberrfi/public/options -- Create your own video on YouTube: www.youtube.com/a2fiber.  -- Follow A2 Fiber on Twitter: www.twitter.com/a2fiber.  --Spread the word! \n\nLearn more at www.a2fiber.com
UID:2321-919630@events.umich.edu
URL:https://events.umich.edu/event/2321
CLASS:PUBLIC
STATUS:CONFIRMED
CATEGORIES:
LOCATION:
CONTACT:
END:VEVENT
BEGIN:VEVENT
DTSTAMP:20101111T175629
DTSTART;TZID=America/Detroit:20100324T000000
SUMMARY:Exhibition:Exhibit of Recent Aquisitions
DESCRIPTION:This exhibit includes an extraordinarily wide variety of primary source material collected to support current and  future research.  Among the items on display are:  a watercolor “portrait” of a railroad bridge built in Prague in  1850\, original artwork by local artist Tom Pohrt for a children's book written by Justice Sandra Day O'Connor\, a  diary and photographs from a female UM student who hitchhiked from Ann Arbor to San Francisco in 1923\, a  Spanish text from 1693 for those studying to be soldiers\, and Dante's Divine Comedy with illustrations by  Salvador Dali.  \n\nNew archival collections with samples on display include the papers of film director Robert Altman and writers  Nicholas Delbanco and Richard Tillinghast\, as well as four separate women involved in radical causes such as  Clarence Darrow's 1907 defense of union leaders accused of murder and the ecological costs of technology.   This is the first opportunity for the public to see materials from the Altman Collection\, which is estimated to be  1\,000 linear feet in size and is now being sorted and processed for use.
UID:748-911468@events.umich.edu
URL:https://events.umich.edu/event/748
CLASS:PUBLIC
STATUS:CONFIRMED
CATEGORIES:visual arts
LOCATION:Hatcher Graduate Library - 7th Floor Special Collections Library
CONTACT:
END:VEVENT
BEGIN:VEVENT
DTSTAMP:20101111T175620
DTSTART;TZID=America/Detroit:20100324T000000
SUMMARY:Exhibition:Permanent Exhibits at the Exhibit Museum of Natural History
DESCRIPTION:The Hall of Evolution houses Michigan's largest display of prehistoric life. More than 600 million years of life on Earth are traced through fossils\, models and dioramas. The Michigan Wildlife Gallery has a large collection of native Great Lakes birds\, mammals\, reptiles\, and amphibians\, with taxidermy mounts\, habitat scenes\, and the largest mastodon trackway on display in the world. There are also displays about some of the environmental problems faced in this region today. The Anthropology Displays feature artifacts from human cultures around the world. The Geology Displays on the fourth floor offer a large selection of rocks\, minerals and gems. These displays are updated periodically. For more information go to www.lsa.umich.edu/exhibitmuseum/exhibits/permexhibits or call 734-764-0480.
UID:452-910629@events.umich.edu
URL:https://events.umich.edu/event/452
CLASS:PUBLIC
STATUS:CONFIRMED
CATEGORIES:
LOCATION:Ruthven Museums Building
CONTACT:
END:VEVENT
BEGIN:VEVENT
DTSTAMP:20100318T170051
DTSTART;TZID=America/Detroit:20100324T080000
SUMMARY:Exhibition:Exhibit: The Ghost Army
DESCRIPTION:This exhibit tells the story of the Ghost Army from WWII. In June of 1944\, an  exceptional U.S. Army unit went into action in Normandy. Its weapons included  hundreds of inflatable tanks and a one-of-a-kind collection of sound effects  records\, and it carried out its battlefield mission without firing a shot. The unit was  officially called the 23rd Headquarters Special Troops\, but it was known to its men  as The Ghost Army.\n\nMembers of The Ghost Army adhered to a decades-long gag order\; many never  told their families about their extraordinary military service. Sixty-five years after  this top-secret group went into action\, the University of Michigan's Hatcher Library  will unveil the first public exhibit of this captivating group of materials documenting  The Ghost Army. \n\nThis exhibit is available during library hours. See http://www.lib.umich.edu/hatcher- graduate-library.
UID:1124-913929@events.umich.edu
URL:https://events.umich.edu/event/1124
CLASS:PUBLIC
STATUS:CONFIRMED
CATEGORIES:visual arts
LOCATION:Hatcher Graduate Library - Gallery in Room 100
CONTACT:
END:VEVENT
BEGIN:VEVENT
DTSTAMP:20101111T175759
DTSTART;TZID=America/Detroit:20100324T080000
DTEND;TZID=America/Detroit:20100324T170000
SUMMARY:Exhibition:History of Dentistry exhibits at the Sindecuse Museum of Dentistry
DESCRIPTION:Exhibits at the Sindecuse Museum of Dentistry include Dental Operatories of the 1860s to 1930s\, St. Apollonia-Patron Saint of Dentistry and more. Call 763-0767 or go to www.dent.umich.edu/museum for more information.
UID:3856-917512@events.umich.edu
URL:https://events.umich.edu/event/3856
CLASS:PUBLIC
STATUS:CONFIRMED
CATEGORIES:
LOCATION:Dental & W.K. Kellogg Institute
CONTACT:
END:VEVENT
BEGIN:VEVENT
DTSTAMP:20100329T161307
DTSTART;TZID=America/Detroit:20100324T083000
DTEND;TZID=America/Detroit:20100324T190000
SUMMARY:Exhibition:A History of the Bible from Ancient Papyri to King James
DESCRIPTION:This exhibit\, from the Special Collections Library\, shows a path of documents that  led to the creation of the 1611 King James Version of the Bible – from ancient  Egyptian manuscripts on papyrus to Medieval manuscripts to the printed book.\n\nThe earliest documents on display are Egyptian papyri\, including examples of a  census record from the year 119 and the oldest known copy of part of the New  Testament. Medieval manuscripts document the preservation of the text until the  invention of movable type printing by Gutenberg around 1450. The early printed  Bibles include versions in Latin and Greek\, and several that show the struggles  among various political factions and church reformers to control the translating of  the Scriptures into the language of the people. See the King James Bible of 1611  that became the accepted standard.\n\nFor Audubon Room hours\, see https://www.lib.umich.edu/audubon-room
UID:2220-918659@events.umich.edu
URL:https://events.umich.edu/event/2220
CLASS:PUBLIC
STATUS:CONFIRMED
CATEGORIES:visual arts
LOCATION:Hatcher Graduate Library - Audubon Room/First Floor
CONTACT:
END:VEVENT
BEGIN:VEVENT
DTSTAMP:20090722T143534
DTSTART;TZID=America/Detroit:20100324T090000
DTEND;TZID=America/Detroit:20100324T170000
SUMMARY:Exhibition:Ida: Darwinius masillae
DESCRIPTION:\"Ida\,\" a new exhibit in the Exhibit Museum's Rotunda\, displays a high-resolution cast of an extremely rare  fossil discovered in 1983 near Messel\, Germany\, but only recently made available for study. The fossil has  proven to be a “link” between the prosimian and simian (\"anthropoid\") primate lineages. It has \"advanced\"  front teeth (incisors and canines) and second toes like those of monkeys\, and is broadly representative of what  human primate ancestors may have looked like during the Eocene epoch 47 million years ago.     Ida (prounded \"eeda\") is named after after the daughter of Dr JÃ¸rn Hurum\, the Norwegian vertebrate  paleontologist who secured one section of the fossil from an anonymous owner\, and led the research. Ida was  about eight months old\, or the equivalent of a six-year-old human.     Publication of a paper on the discovery was accompanied by a book\, The Link: Uncovering Our Earliest  Ancestors by Colin Tudge\, and a documentary shown on the History Channel (US)\, BBC One (UK)\,and various  stations in Germany and Norway.     U-M paleontologist Philip Gingerich and U-M anthropologist B. Holly Smith were two members of the \"dream  team\" invited to study Ida. The exhibit will be on display through May 2010.
UID:2124-918264@events.umich.edu
URL:https://events.umich.edu/event/2124
CLASS:PUBLIC
STATUS:CONFIRMED
CATEGORIES:welcome week,visual arts,multicultural
LOCATION:
CONTACT:
END:VEVENT
BEGIN:VEVENT
DTSTAMP:20101111T175734
DTSTART;TZID=America/Detroit:20100324T090000
DTEND;TZID=America/Detroit:20100324T170000
SUMMARY:Exhibition:Scott Hocking Installation
DESCRIPTION:Scott Hocking explores the abandoned buildings and sites of Detroit like a  newfangled scientist. He gathers raw data in his excavations\, and records his  findings using a wholly unique and modern process and method that he intuitively  formulates as he goes along. In his ongoing study of a city so rooted in a dense  past\, and the emotional attachments that accompany it\, Hocking is  uncompromising and unflinching\, and refuses to buy into the hype. His visual  essays chronicling urban markings of modern day ruin are not the stuff of tragedy  or fodder for magazine centerfolds\, but proof of a renaissance in real time.  Hocking's work is fully alive\, and honors the world going past and us moving forward  along with it\, exhilarated by industrial parks returning to fallow land\, and strawberry  bushes growing in the cracked concrete.
UID:1793-915915@events.umich.edu
URL:https://events.umich.edu/event/1793
CLASS:PUBLIC
STATUS:CONFIRMED
CATEGORIES:visual arts
LOCATION:202 S. Thayer - 1010
CONTACT:
END:VEVENT
BEGIN:VEVENT
DTSTAMP:20101111T175741
DTSTART;TZID=America/Detroit:20100324T090000
DTEND;TZID=America/Detroit:20100324T180000
SUMMARY:Other:Support Dance Marathon by Shopping U-M Computer Showcase
DESCRIPTION:When you purchase any featured Apple product at the Computer Showcase from  March 1-26\, we'll donate a percentage of the sale to support Dance Marathon at the  University of Michigan!\n\nPlus! Get a FREE printer when you purchase any MacBook\, MacBook Pro\, or iMac.\n\nLearn more here: http://showcase.itcs.umich.edu/news/dance-marathon.php
UID:1663-916352@events.umich.edu
URL:https://events.umich.edu/event/1663
CLASS:PUBLIC
STATUS:CONFIRMED
CATEGORIES:
LOCATION:Michigan Union
CONTACT:
END:VEVENT
BEGIN:VEVENT
DTSTAMP:20101111T175600
DTSTART;TZID=America/Detroit:20100324T100000
DTEND;TZID=America/Detroit:20100324T170000
SUMMARY:Exhibition:Stearns Collection of Music
DESCRIPTION:The Stearns Collection at the School of Music\, Theatre & Dance is one of six major collections of musical instruments in North America. The 2\,500-piece collection is internationally known and is a resource for musical and cultural education.
UID:3790-909244@events.umich.edu
URL:https://events.umich.edu/event/3790
CLASS:PUBLIC
STATUS:CONFIRMED
CATEGORIES:
LOCATION:Earl V. Moore Building
CONTACT:
END:VEVENT
BEGIN:VEVENT
DTSTAMP:20101111T175749
DTSTART;TZID=America/Detroit:20100324T100000
DTEND;TZID=America/Detroit:20100324T163000
SUMMARY:Other:The Healing Garden - Savor Nature's Restorative Powers
DESCRIPTION:This exhibit and display in the conservatory at Matthaei Botanical Gardens focuses  on the rejuvenating qualities of nature's scents\, colors\, and forms and on the  benefits of exercise and meditation. Interactive activities during the exhibit include  guided meditation\, aromatherapy station\, color and mood interpretation display\,  and meditative hikes. Also\, displays of bulbs and fresh-air plants. Cost inlcudes  admission to conservatory and above activities. Open Wednesday until 8 pm\; free  admission Wednesdays noon-8pm. Closed Mondays.
UID:1938-916791@events.umich.edu
URL:https://events.umich.edu/event/1938
CLASS:PUBLIC
STATUS:CONFIRMED
CATEGORIES:
LOCATION:
CONTACT:
END:VEVENT
BEGIN:VEVENT
DTSTAMP:20101111T175838
DTSTART;TZID=America/Detroit:20100324T113000
DTEND;TZID=America/Detroit:20100324T133000
SUMMARY:Lecture / Discussion:TRANSlating Experience: A brownbag educational and discussion series
DESCRIPTION:TRANSlating Experience is not Transgender 101. This series is meant to critically  engage communities around issues of the transgender experience at the University  of Michigan. TRANSlating Experience is not just about being trans\, it's about living\,  learning\, working\, dating and celebrating being TRANS. A light lunch will be served.\n\nNote: the above uses “TRANS” to encapsulate identities inclusive of those who  identify and/or present as gender-queer\, gender non-normative\, gender variant\,  non-gendered or transgender. While all are welcome to this series\, please note that  some topics may require existing comfort\, knowledge and fellowship with and  around the trans-identified community. This series is not intended to be an  introduction to the trans-identified community. This series is not intended to serve  as counseling or other types of therapy.\n\n**Go to Spectrum Center's website for a full list of the topics to be presented by  date**
UID:2590-920227@events.umich.edu
URL:https://events.umich.edu/event/2590
CLASS:PUBLIC
STATUS:CONFIRMED
CATEGORIES:
LOCATION:Michigan Union - 3909 (MSA Chambers)
CONTACT:
END:VEVENT
BEGIN:VEVENT
DTSTAMP:20100324T030002
DTSTART;TZID=America/Detroit:20100324T121500
SUMMARY:Other:Brown Bag Organ Series: Stephen Rush
DESCRIPTION:SMTD Professor Stephen Rush will present a unique approach to organ playing which will include music brand new\, ancient\, composed and improvised.  Special guests making sounds and moving through space will join him. Bring lunch or purchase at the Crossroads Cafe.
UID:1105-913059@events.umich.edu
URL:https://events.umich.edu/event/1105
CLASS:PUBLIC
STATUS:CONFIRMED
CATEGORIES:music
LOCATION:School of Public Health Bldg I and Crossroads and Tower - Community Lounge (Room 1680)
CONTACT:
END:VEVENT
BEGIN:VEVENT
DTSTAMP:20100309T105738
DTSTART;TZID=America/Detroit:20100324T161500
DTEND;TZID=America/Detroit:20100324T170000
SUMMARY:Other:Dealing With Procrastination: STOP PUTTING IT OFF!
DESCRIPTION:Learn approaches to dealing with avoidance and cutting down the amount of time you spend putting things off.
UID:854-912650@events.umich.edu
URL:https://events.umich.edu/event/854
CLASS:PUBLIC
STATUS:CONFIRMED
CATEGORIES:
LOCATION:Michigan Union - CAPS, Room 3100
CONTACT:
END:VEVENT
BEGIN:VEVENT
DTSTAMP:20101111T175833
DTSTART;TZID=America/Detroit:20100324T173000
DTEND;TZID=America/Detroit:20100324T193000
SUMMARY:Lecture / Discussion:Science Café: Evolutionary Science in Medicine: From Diseases to Doctor Training
DESCRIPTION:With Randolph Nesse\, M.D.\, U-M Departments of Psychology and Psychiatry\, and Institute for Social Research.  From research on antibiotic resistance in disease organisms\, to predicting flu epidemics\, to the importance of  training doctors to react to protect public health\, the evolutionary science pervades the field of medicine and has  been the focus of much recent research. Join us for a discussion of what some of the new research coming from  this emerging field may mean for health and public policy. \n\nJoin us for hors d'oeuvres at 5:30 and a brief presentation at 6:00 pm\, followed by discussion.? Participants must  be 21 to purchase alcoholic beverages.? Everyone is welcome and invited to purchase additional food and  beverages.
UID:2426-919866@events.umich.edu
URL:https://events.umich.edu/event/2426
CLASS:PUBLIC
STATUS:CONFIRMED
CATEGORIES:
LOCATION:
CONTACT:
END:VEVENT
BEGIN:VEVENT
DTSTAMP:20100319T161523
DTSTART;TZID=America/Detroit:20100324T180000
DTEND;TZID=America/Detroit:20100324T200000
SUMMARY:Lecture / Discussion:The Royal Shakespeare Company/U-M Creative Project
DESCRIPTION:RSC director\, actors\, and playwright discuss their insights gained from a three-day workshop at U-M devoted to a new play by Helen Edmundson based on the story of Sor Juana Inez de la Cruz\, a celebrated 17th-century\, South American nun\, who emerged as a key figure in the history of literature in the Western hemisphere. Sor Juana wrote plays\, essays\, and poetry\, and was highly controversial for her life and literary works.  Open to the public.  Seating is limited.
UID:1062-913728@events.umich.edu
URL:https://events.umich.edu/event/1062
CLASS:PUBLIC
STATUS:CONFIRMED
CATEGORIES:theater
LOCATION:Ross School of Business - Blau Auditorium
CONTACT:
END:VEVENT
BEGIN:VEVENT
DTSTAMP:20100309T152226
DTSTART;TZID=America/Detroit:20100324T190000
DTEND;TZID=America/Detroit:20100324T203000
SUMMARY:Other:OCD Across the Lifespan
DESCRIPTION:The University of Michigan Institute for Clinical & Health Research\, the U-M Health Science Libraries\, and the Ann Arbor District Library invite you to a symposium on the diagnosis and treatment of Obsessive Compulsive Disorder\,and the affect it has on people of all ages. Keynote Speakers: Gregory Hanna\, PhD\, MSW Associate Professor of Psychiatry\, Joseph A. Himle\, MD Associate Professor of Social Work and Associate Professor of Psychiatry\, and James Abelson\, MD\, PhD Professor\, Department of Psychiatry\; Director\, Anxiety Disorders Clinic\; Co-Director\, Trauma\, Stress and Anxiety Research Group\; University of Michigan – Dr. Abelson studies trauma\, stress\, and anxiety\, and has been a co-investigator on NIMH funded neuroimaging studies of OCD.
UID:705-912384@events.umich.edu
URL:https://events.umich.edu/event/705
CLASS:PUBLIC
STATUS:CONFIRMED
CATEGORIES:
LOCATION:
CONTACT:
END:VEVENT
BEGIN:VEVENT
DTSTAMP:20101111T175711
DTSTART;TZID=America/Detroit:20100324T200000
SUMMARY:Performance:Adrian Legg
DESCRIPTION:
UID:1420-914393@events.umich.edu
URL:https://events.umich.edu/event/1420
CLASS:PUBLIC
STATUS:CONFIRMED
CATEGORIES:music
LOCATION:
CONTACT:
END:VEVENT
BEGIN:VEVENT
DTSTAMP:20100324T030002
DTSTART;TZID=America/Detroit:20100324T200000
SUMMARY:Other:Harpsichord Studio Recital
DESCRIPTION:Students of Professor Edward Parmentier.
UID:583-911103@events.umich.edu
URL:https://events.umich.edu/event/583
CLASS:PUBLIC
STATUS:CONFIRMED
CATEGORIES:music
LOCATION:Earl V. Moore Building - Blanche Anderson Moore Hall
CONTACT:
END:VEVENT
BEGIN:VEVENT
DTSTAMP:20100324T030002
DTSTART;TZID=America/Detroit:20100324T200000
SUMMARY:Other:Second Dissertation Recital:  Joel Ayau\, collaborative piano
DESCRIPTION:PROGRAM:  Poulenc - Sonate pour violoncelle et piano\; Britten - Cello Sonata in C\, Op. 65\; Prokofiev - Sonata for Piano and Cello\, Op. 119
UID:2895-920699@events.umich.edu
URL:https://events.umich.edu/event/2895
CLASS:PUBLIC
STATUS:CONFIRMED
CATEGORIES:music
LOCATION:Earl V. Moore Building - Britton Recital Hall
CONTACT:
END:VEVENT
END:VCALENDAR