BEGIN:VCALENDAR
VERSION:2.0
PRODID:-//UM//UM*Events//EN
CALSCALE:GREGORIAN
BEGIN:VTIMEZONE
TZID:America/Detroit
TZURL:http://tzurl.org/zoneinfo/America/Detroit
X-LIC-LOCATION:America/Detroit
BEGIN:DAYLIGHT
TZOFFSETFROM:-0500
TZOFFSETTO:-0400
TZNAME:EDT
DTSTART:20070311T020000
RRULE:FREQ=YEARLY;BYMONTH=3;BYDAY=2SU
END:DAYLIGHT
BEGIN:STANDARD
TZOFFSETFROM:-0400
TZOFFSETTO:-0500
TZNAME:EST
DTSTART:20071104T020000
RRULE:FREQ=YEARLY;BYMONTH=11;BYDAY=1SU
END:STANDARD
END:VTIMEZONE
BEGIN:VEVENT
DTSTAMP:20101111T175829
DTSTART;TZID=America/Detroit:20100325T000000
SUMMARY:Other:A2Fiber ”˜Call to Action’ to the University Community
DESCRIPTION:The University of Michigan and the city of Ann Arbor have teamed up to convince  Google to pick Ann Arbor for Google's Fiber for Communities trial. One of the key  components of Google's selection process is applicants must demonstrate strong  community support and participation. You can play an important supporting role!\n\nBy March 26\, please show your support by taking one or more of the following steps:\n\n-- Become an A2 Fiber Facebook fan: www.facebook.com/a2fiber -- Sign up to receive A2 Fiber e-mail notifications: www.a2gov.org/services/Pages/E-  mailAlertSubscription.aspx -- Submit a community group and resident nomination form:  www.google.com/appserve/fiberrfi/public/options -- Create your own video on YouTube: www.youtube.com/a2fiber.  -- Follow A2 Fiber on Twitter: www.twitter.com/a2fiber.  --Spread the word! \n\nLearn more at www.a2fiber.com
UID:2321-919631@events.umich.edu
URL:https://events.umich.edu/event/2321
CLASS:PUBLIC
STATUS:CONFIRMED
CATEGORIES:
LOCATION:
CONTACT:
END:VEVENT
BEGIN:VEVENT
DTSTAMP:20101111T175629
DTSTART;TZID=America/Detroit:20100325T000000
SUMMARY:Exhibition:Exhibit of Recent Aquisitions
DESCRIPTION:This exhibit includes an extraordinarily wide variety of primary source material collected to support current and  future research.  Among the items on display are:  a watercolor “portrait” of a railroad bridge built in Prague in  1850\, original artwork by local artist Tom Pohrt for a children's book written by Justice Sandra Day O'Connor\, a  diary and photographs from a female UM student who hitchhiked from Ann Arbor to San Francisco in 1923\, a  Spanish text from 1693 for those studying to be soldiers\, and Dante's Divine Comedy with illustrations by  Salvador Dali.  \n\nNew archival collections with samples on display include the papers of film director Robert Altman and writers  Nicholas Delbanco and Richard Tillinghast\, as well as four separate women involved in radical causes such as  Clarence Darrow's 1907 defense of union leaders accused of murder and the ecological costs of technology.   This is the first opportunity for the public to see materials from the Altman Collection\, which is estimated to be  1\,000 linear feet in size and is now being sorted and processed for use.
UID:748-911469@events.umich.edu
URL:https://events.umich.edu/event/748
CLASS:PUBLIC
STATUS:CONFIRMED
CATEGORIES:visual arts
LOCATION:Hatcher Graduate Library - 7th Floor Special Collections Library
CONTACT:
END:VEVENT
BEGIN:VEVENT
DTSTAMP:20101111T175620
DTSTART;TZID=America/Detroit:20100325T000000
SUMMARY:Exhibition:Permanent Exhibits at the Exhibit Museum of Natural History
DESCRIPTION:The Hall of Evolution houses Michigan's largest display of prehistoric life. More than 600 million years of life on Earth are traced through fossils\, models and dioramas. The Michigan Wildlife Gallery has a large collection of native Great Lakes birds\, mammals\, reptiles\, and amphibians\, with taxidermy mounts\, habitat scenes\, and the largest mastodon trackway on display in the world. There are also displays about some of the environmental problems faced in this region today. The Anthropology Displays feature artifacts from human cultures around the world. The Geology Displays on the fourth floor offer a large selection of rocks\, minerals and gems. These displays are updated periodically. For more information go to www.lsa.umich.edu/exhibitmuseum/exhibits/permexhibits or call 734-764-0480.
UID:452-910630@events.umich.edu
URL:https://events.umich.edu/event/452
CLASS:PUBLIC
STATUS:CONFIRMED
CATEGORIES:
LOCATION:Ruthven Museums Building
CONTACT:
END:VEVENT
BEGIN:VEVENT
DTSTAMP:20100318T170051
DTSTART;TZID=America/Detroit:20100325T080000
SUMMARY:Exhibition:Exhibit: The Ghost Army
DESCRIPTION:This exhibit tells the story of the Ghost Army from WWII. In June of 1944\, an  exceptional U.S. Army unit went into action in Normandy. Its weapons included  hundreds of inflatable tanks and a one-of-a-kind collection of sound effects  records\, and it carried out its battlefield mission without firing a shot. The unit was  officially called the 23rd Headquarters Special Troops\, but it was known to its men  as The Ghost Army.\n\nMembers of The Ghost Army adhered to a decades-long gag order\; many never  told their families about their extraordinary military service. Sixty-five years after  this top-secret group went into action\, the University of Michigan's Hatcher Library  will unveil the first public exhibit of this captivating group of materials documenting  The Ghost Army. \n\nThis exhibit is available during library hours. See http://www.lib.umich.edu/hatcher- graduate-library.
UID:1124-913930@events.umich.edu
URL:https://events.umich.edu/event/1124
CLASS:PUBLIC
STATUS:CONFIRMED
CATEGORIES:visual arts
LOCATION:Hatcher Graduate Library - Gallery in Room 100
CONTACT:
END:VEVENT
BEGIN:VEVENT
DTSTAMP:20101111T175759
DTSTART;TZID=America/Detroit:20100325T080000
DTEND;TZID=America/Detroit:20100325T170000
SUMMARY:Exhibition:History of Dentistry exhibits at the Sindecuse Museum of Dentistry
DESCRIPTION:Exhibits at the Sindecuse Museum of Dentistry include Dental Operatories of the 1860s to 1930s\, St. Apollonia-Patron Saint of Dentistry and more. Call 763-0767 or go to www.dent.umich.edu/museum for more information.
UID:3856-917513@events.umich.edu
URL:https://events.umich.edu/event/3856
CLASS:PUBLIC
STATUS:CONFIRMED
CATEGORIES:
LOCATION:Dental & W.K. Kellogg Institute
CONTACT:
END:VEVENT
BEGIN:VEVENT
DTSTAMP:20100329T161307
DTSTART;TZID=America/Detroit:20100325T083000
DTEND;TZID=America/Detroit:20100325T190000
SUMMARY:Exhibition:A History of the Bible from Ancient Papyri to King James
DESCRIPTION:This exhibit\, from the Special Collections Library\, shows a path of documents that  led to the creation of the 1611 King James Version of the Bible – from ancient  Egyptian manuscripts on papyrus to Medieval manuscripts to the printed book.\n\nThe earliest documents on display are Egyptian papyri\, including examples of a  census record from the year 119 and the oldest known copy of part of the New  Testament. Medieval manuscripts document the preservation of the text until the  invention of movable type printing by Gutenberg around 1450. The early printed  Bibles include versions in Latin and Greek\, and several that show the struggles  among various political factions and church reformers to control the translating of  the Scriptures into the language of the people. See the King James Bible of 1611  that became the accepted standard.\n\nFor Audubon Room hours\, see https://www.lib.umich.edu/audubon-room
UID:2220-918660@events.umich.edu
URL:https://events.umich.edu/event/2220
CLASS:PUBLIC
STATUS:CONFIRMED
CATEGORIES:visual arts
LOCATION:Hatcher Graduate Library - Audubon Room/First Floor
CONTACT:
END:VEVENT
BEGIN:VEVENT
DTSTAMP:20090722T143534
DTSTART;TZID=America/Detroit:20100325T090000
DTEND;TZID=America/Detroit:20100325T170000
SUMMARY:Exhibition:Ida: Darwinius masillae
DESCRIPTION:\"Ida\,\" a new exhibit in the Exhibit Museum's Rotunda\, displays a high-resolution cast of an extremely rare  fossil discovered in 1983 near Messel\, Germany\, but only recently made available for study. The fossil has  proven to be a “link” between the prosimian and simian (\"anthropoid\") primate lineages. It has \"advanced\"  front teeth (incisors and canines) and second toes like those of monkeys\, and is broadly representative of what  human primate ancestors may have looked like during the Eocene epoch 47 million years ago.     Ida (prounded \"eeda\") is named after after the daughter of Dr JÃ¸rn Hurum\, the Norwegian vertebrate  paleontologist who secured one section of the fossil from an anonymous owner\, and led the research. Ida was  about eight months old\, or the equivalent of a six-year-old human.     Publication of a paper on the discovery was accompanied by a book\, The Link: Uncovering Our Earliest  Ancestors by Colin Tudge\, and a documentary shown on the History Channel (US)\, BBC One (UK)\,and various  stations in Germany and Norway.     U-M paleontologist Philip Gingerich and U-M anthropologist B. Holly Smith were two members of the \"dream  team\" invited to study Ida. The exhibit will be on display through May 2010.
UID:2124-918265@events.umich.edu
URL:https://events.umich.edu/event/2124
CLASS:PUBLIC
STATUS:CONFIRMED
CATEGORIES:welcome week,visual arts,multicultural
LOCATION:
CONTACT:
END:VEVENT
BEGIN:VEVENT
DTSTAMP:20101111T175734
DTSTART;TZID=America/Detroit:20100325T090000
DTEND;TZID=America/Detroit:20100325T170000
SUMMARY:Exhibition:Scott Hocking Installation
DESCRIPTION:Scott Hocking explores the abandoned buildings and sites of Detroit like a  newfangled scientist. He gathers raw data in his excavations\, and records his  findings using a wholly unique and modern process and method that he intuitively  formulates as he goes along. In his ongoing study of a city so rooted in a dense  past\, and the emotional attachments that accompany it\, Hocking is  uncompromising and unflinching\, and refuses to buy into the hype. His visual  essays chronicling urban markings of modern day ruin are not the stuff of tragedy  or fodder for magazine centerfolds\, but proof of a renaissance in real time.  Hocking's work is fully alive\, and honors the world going past and us moving forward  along with it\, exhilarated by industrial parks returning to fallow land\, and strawberry  bushes growing in the cracked concrete.
UID:1793-915916@events.umich.edu
URL:https://events.umich.edu/event/1793
CLASS:PUBLIC
STATUS:CONFIRMED
CATEGORIES:visual arts
LOCATION:202 S. Thayer - 1010
CONTACT:
END:VEVENT
BEGIN:VEVENT
DTSTAMP:20101111T175741
DTSTART;TZID=America/Detroit:20100325T090000
DTEND;TZID=America/Detroit:20100325T180000
SUMMARY:Other:Support Dance Marathon by Shopping U-M Computer Showcase
DESCRIPTION:When you purchase any featured Apple product at the Computer Showcase from  March 1-26\, we'll donate a percentage of the sale to support Dance Marathon at the  University of Michigan!\n\nPlus! Get a FREE printer when you purchase any MacBook\, MacBook Pro\, or iMac.\n\nLearn more here: http://showcase.itcs.umich.edu/news/dance-marathon.php
UID:1663-916353@events.umich.edu
URL:https://events.umich.edu/event/1663
CLASS:PUBLIC
STATUS:CONFIRMED
CATEGORIES:
LOCATION:Michigan Union
CONTACT:
END:VEVENT
BEGIN:VEVENT
DTSTAMP:20101111T175600
DTSTART;TZID=America/Detroit:20100325T100000
DTEND;TZID=America/Detroit:20100325T170000
SUMMARY:Exhibition:Stearns Collection of Music
DESCRIPTION:The Stearns Collection at the School of Music\, Theatre & Dance is one of six major collections of musical instruments in North America. The 2\,500-piece collection is internationally known and is a resource for musical and cultural education.
UID:3790-909245@events.umich.edu
URL:https://events.umich.edu/event/3790
CLASS:PUBLIC
STATUS:CONFIRMED
CATEGORIES:
LOCATION:Earl V. Moore Building
CONTACT:
END:VEVENT
BEGIN:VEVENT
DTSTAMP:20101111T175749
DTSTART;TZID=America/Detroit:20100325T100000
DTEND;TZID=America/Detroit:20100325T163000
SUMMARY:Other:The Healing Garden - Savor Nature's Restorative Powers
DESCRIPTION:This exhibit and display in the conservatory at Matthaei Botanical Gardens focuses  on the rejuvenating qualities of nature's scents\, colors\, and forms and on the  benefits of exercise and meditation. Interactive activities during the exhibit include  guided meditation\, aromatherapy station\, color and mood interpretation display\,  and meditative hikes. Also\, displays of bulbs and fresh-air plants. Cost inlcudes  admission to conservatory and above activities. Open Wednesday until 8 pm\; free  admission Wednesdays noon-8pm. Closed Mondays.
UID:1938-916792@events.umich.edu
URL:https://events.umich.edu/event/1938
CLASS:PUBLIC
STATUS:CONFIRMED
CATEGORIES:
LOCATION:
CONTACT:
END:VEVENT
BEGIN:VEVENT
DTSTAMP:20101111T175820
DTSTART;TZID=America/Detroit:20100325T110000
DTEND;TZID=America/Detroit:20100325T130000
SUMMARY:Performance:Beats N' Eats
DESCRIPTION:Enjoy the relaxing sounds of talented U-M student performers over lunch! Beats N' Eats takes place every Thursday from 11a-1p in either the Union MUG or League Underground. Interested in performance opportunities? Contact University Unions Arts & Programs at uuap@umich.edu or 734-763-3202.
UID:2470-919146@events.umich.edu
URL:https://events.umich.edu/event/2470
CLASS:PUBLIC
STATUS:CONFIRMED
CATEGORIES:music
LOCATION:Michigan Union - MUG
CONTACT:
END:VEVENT
BEGIN:VEVENT
DTSTAMP:20091209T120827
DTSTART;TZID=America/Detroit:20100325T120000
DTEND;TZID=America/Detroit:20100325T130000
SUMMARY:Lecture / Discussion:Inquilism and Domestic Enslavement on a Coral Reef:
DESCRIPTION:Paul Dunlap\, Professor\, Ecology & Evolutionary Biology\, The University of Michigan
UID:968-912766@events.umich.edu
URL:https://events.umich.edu/event/968
CLASS:PUBLIC
STATUS:CONFIRMED
CATEGORIES:
LOCATION:School of Social Work Building - 1636
CONTACT:
END:VEVENT
BEGIN:VEVENT
DTSTAMP:20101111T175712
DTSTART;TZID=America/Detroit:20100325T120000
DTEND;TZID=America/Detroit:20100325T133000
SUMMARY:Lecture / Discussion:Somewhere between boundaries and assumptions: Improving TBLG inclusivity in social work practice
DESCRIPTION:Rainbow Network and the TBLG Matters Initiative brings you...\n\nSomewhere between boundaries and assumptions: Improving TBLG inclusivity in  social work practice\n\nThursday March 25th at 12pm in room 2816 at the School of Social Work\n\nThis brown-bag lunch session brings experienced social worker PJ Two Ravens for a  presentation and exploration in ways to improve TBLG inclusivity in social work  practice\, how to create a more welcoming environment\, and avoid assumptions  about identity.\n\nPJ Two Ravens is a licensed clinical/macro social worker currently working in the  University of Michigan HIV/AIDS Treatment Program providing mental health  services to HIV infected and affected individuals.  PJ has done trainings\, teaching\,  and advocacy work over the last 20 years related to HIV\, gender identity issues\,  Native American issues\, LGBT health\, cultural competency\, community organization\,  sexuality\, sexual orientation\, and stress management.
UID:1430-914406@events.umich.edu
URL:https://events.umich.edu/event/1430
CLASS:PUBLIC
STATUS:CONFIRMED
CATEGORIES:
LOCATION:School of Social Work Building - 2816
CONTACT:
END:VEVENT
BEGIN:VEVENT
DTSTAMP:20100309T105718
DTSTART;TZID=America/Detroit:20100325T131500
DTEND;TZID=America/Detroit:20100325T144500
SUMMARY:Other:Coping Skills for College Students
DESCRIPTION:
UID:2062-917103@events.umich.edu
URL:https://events.umich.edu/event/2062
CLASS:PUBLIC
STATUS:CONFIRMED
CATEGORIES:
LOCATION:Michigan Union - CAPS, Room 3100
CONTACT:
END:VEVENT
BEGIN:VEVENT
DTSTAMP:20091102T150050
DTSTART;TZID=America/Detroit:20100325T153000
DTEND;TZID=America/Detroit:20100325T173000
SUMMARY:Lecture / Discussion:Department of Astronomy Colloquia Series
DESCRIPTION:A weekly lecture series with Astronomy or Astrophysics related topics. Please see  department website for featured speaker and lecture topic. There will be a brief  reception with light refreshments preceding the lecture in room 845 Dennison from  3:30-4:00 pm.
UID:1689-915675@events.umich.edu
URL:https://events.umich.edu/event/1689
CLASS:PUBLIC
STATUS:CONFIRMED
CATEGORIES:
LOCATION:Weiser Hall - 807
CONTACT:
END:VEVENT
BEGIN:VEVENT
DTSTAMP:20101111T175905
DTSTART;TZID=America/Detroit:20100325T160000
DTEND;TZID=America/Detroit:20100325T173000
SUMMARY:Lecture / Discussion:Conversations on Europe.
DESCRIPTION:Sebastiaan Faber\, professor and chair of Hispanic studies\, Oberlin College. \n\nAbstract: For the first couple of decades following Spain's transition to democracy\, academic historians held something of a monopoly on the legitimate\, objective representation of the country's twentieth-century past. In the last ten years\, their hegemony has been eroded by a remarkable wave of non-academic\, politicized\, and at times emphatically subjective studies\, documentaries\, debates\, reportage\, novels\, and fiction films about the Republic\, the Civil War\, and Francoism–a wave that in itself indicates a shift in the public's needs and sensibilities when it comes to learning about the past and thinking about its connection to the present. How have Spanish historians dealt with these developments? To what extent are non-academic accounts of the past legitimate\, useful\, or even indispensable as Spain comes to terms with the Civil War and Francoism? And what specific role can literary fiction play in this process?   Sebastiaan Faber is the author and editor of four books\, including Exile and Cultural Hegemony: Spanish Intellectuals in Mexico\, 1939-1975 (Vanderbilt\, 2002) and Anglo-American Hispanists and the Spanish Civil War: Hispanophilia\, Commitment\, and Discipline (Palgrave\, 2008)\, as well as some fifty articles on Spanish and Latin American cultural history. His areas of interest include the Spanish Civil War\, political exile\, historical memory\, the institutional history of Hispanism\, contemporary Spanish fiction and film\, and the theory of ideology.  Born and raised in the Netherlands\, he holds degrees from the University of Amsterdam and U.C. Davis. He has been teaching at Oberlin College since 1999.
UID:2975-921864@events.umich.edu
URL:https://events.umich.edu/event/2975
CLASS:PUBLIC
STATUS:CONFIRMED
CATEGORIES:
LOCATION:School of Social Work Building - 1636
CONTACT:
END:VEVENT
BEGIN:VEVENT
DTSTAMP:20101111T175903
DTSTART;TZID=America/Detroit:20100325T160000
DTEND;TZID=America/Detroit:20100325T180000
SUMMARY:Lecture / Discussion:Distinguished University Innovator Award Ceremony and Lecture
DESCRIPTION:Professor Victor Strecher has been named the 4th University of Michigan Distinguished University Innovator for 2010\; a prize that recognizes his development of innovative health behavior change technologies and their application through HealthMedia\, Inc.\, a company he founded. The University will recognize Professor Strecher's accomplishments at a ceremony and he will also give a public address on his work.
UID:2933-921711@events.umich.edu
URL:https://events.umich.edu/event/2933
CLASS:PUBLIC
STATUS:CONFIRMED
CATEGORIES:
LOCATION:Taubman Biomedical Science Research Building - Auditorium
CONTACT:
END:VEVENT
BEGIN:VEVENT
DTSTAMP:20101111T175653
DTSTART;TZID=America/Detroit:20100325T160000
DTEND;TZID=America/Detroit:20100325T170000
SUMMARY:Workshop / Seminar:Travel Workshop: Europe
DESCRIPTION:Event description: Peer advisors who have traveled abroad extensively will pass along tips from their first-hand experiences. An expert travel agent from STA Travel (in the Michigan Union\, 734.769.2555 or umi_agents@statravel.com) will provide information on student airfares\, railpasses and budget accommodations.\n\nTopics to be covered include:\n\n    Important information to know before you go\, such as passports\, visas\, student ID cards\, insurance\, travel advisories\, and what embassies can and cannot do for you abroad.     Cheapest and best airfares     Travel budget and how to save money overseas.     Transportation\, accommodations\, food.      Last-minute options for working and volunteering abroad.     Adjusting to life overseas\, such a language barriers\, women traveling alone\, general safety and avoiding theft and other potential dangers abroad.\n\nProgram Sponsors: International Center and STA Travel\n\nQuestions: For more information contact the International Center Education Abroad Office at ic-abroad@umich.ed
UID:790-913160@events.umich.edu
URL:https://events.umich.edu/event/790
CLASS:PUBLIC
STATUS:CONFIRMED
CATEGORIES:
LOCATION:
CONTACT:
END:VEVENT
BEGIN:VEVENT
DTSTAMP:20101111T175803
DTSTART;TZID=America/Detroit:20100325T170000
DTEND;TZID=America/Detroit:20100325T180000
SUMMARY:Presentation:Lorna Goodison and V. V. Ganeshananthan
DESCRIPTION:Lorna Goodison is one of the Caribbean's most distinguished contemporary poets.  Her work appears in the Norton Anthology of World Masterpieces and her many  honors include the Commonwealth Poetry Prize\, Americas Region and the Musgrave  Gold Medal. She is the author of numerous books of poetry\, including Controlling  the Silver\, Goldengrove: New and Selected Poems\, Travelling Mercies (2001) and  Turn Thanks: Poems (1999)\, as well as two collections of short stories and an  acclaimed memoir\, From Harvey River: A Memoir of My Mother and Her People  which was a finalist for the Charles Taylor Prize for Literary Non-Fiction and the  Trillium Award\, and won the B.C. Award for Canadian Non-Fiction. Her work\,  translated into many languages\, is widely published and anthologized. Born in  Jamaica\, Goodison has taught at the University of Toronto and now teaches at the  University of Michigan. She divides her time between Ann Arbor and Toronto.\n\nV.V. Ganeshananthan\, a fiction writer and journalist\, is the author of Love Marriage  (Random House\, 2008). Set in Sri Lanka and its diaspora\, the novel was named  one of Washington Post Book World's Best Books of 2008\, selected for the Barnes  & Noble Discover Great New Writers program\, and longlisted for the Orange Prize.  Ganeshananthan is a graduate of Harvard College\, the Iowa Writers' Workshop\,  and the new MA program at Columbia University's Graduate School of Journalism\,  where she was a Bollinger Fellow specializing in arts and culture. Her short fiction  has appeared in Granta\, on Esquire.com\, and in Himal Southasian magazine. Her  journalism and essays have appeared in The Atlantic Monthly\, The Wall Street  Journal\, and The Washington Post\, among others. A former vice president of the  South Asian Journalists Association\, she presently serves on the board of the Asian  American Writers' Workshop and on the graduate board of The Harvard Crimson.  She is a past recipient of Phillips Exeter's Bennett Fellowship and residency\, and has  taught at Skidmore College. She is now the Zell Visiting Professor of Creative  Writing at the University of Michigan.
UID:2006-918000@events.umich.edu
URL:https://events.umich.edu/event/2006
CLASS:PUBLIC
STATUS:CONFIRMED
CATEGORIES:literary arts
LOCATION:Museum of Art - Helmut Stern Auditorium
CONTACT:
END:VEVENT
BEGIN:VEVENT
DTSTAMP:20101111T175800
DTSTART;TZID=America/Detroit:20100325T183000
DTEND;TZID=America/Detroit:20100325T203000
SUMMARY:Workshop / Seminar:MOLS Tents\, Tarps\, and Shelters
DESCRIPTION:Looking to learn the ins and outs of setting up a variety of shelters? Simply wondering about  tent set up basics? Or maybe how to decide where to put your shelter in the first place? In this  clinic you will be exposed to a variety of tent types\, practice hanging tarps\, discuss other  options for shelter\, and learn how to select a (relatively) comfortable and low–impact  campsite for any shelter type.
UID:1911-917821@events.umich.edu
URL:https://events.umich.edu/event/1911
CLASS:PUBLIC
STATUS:CONFIRMED
CATEGORIES:
LOCATION:
CONTACT:
END:VEVENT
BEGIN:VEVENT
DTSTAMP:20101111T175643
DTSTART;TZID=America/Detroit:20100325T190000
DTEND;TZID=America/Detroit:20100325T210000
SUMMARY:Meeting:MGender Discussion Group
DESCRIPTION:MGender is a six-week dialogue/discussion group offered during the fall and winter  terms about the multiple realities and possibilities surrounding gender identity and  gender expression. Through the use of conversation\, experiential learning\, and  other forms of expression\, we will share\, explore and challenge notions of gender.  It is our goal to create a climate of support and understanding for all participants in  order to engage in a deeper exploration and understanding of gender identity and  gender expression. This dialogue intends to provide a space for the celebration and  recognition of various forms of gender identity and gender expression. The  dialogues will include exercises\, various opportunities for personal expression\, and  interactive discussions in order to explore the construct of gender. The maximum  number of participants is limited to twelve. Participants must pre-register for the  dialogues and are expected to attend all sessions. The dialogues will be closed to  only the participants who attend the first dialogue. Participation is open to students\,  staff\, faculty\, and community members. Participation will be free of cost and  voluntary. Ground rules and expectations to guide our interactions will be created at  the beginning of the first session.\n\nIf you are interested in participating in this program please contact Timothy  Corvidae at corvidae@umich.edu.
UID:820-912579@events.umich.edu
URL:https://events.umich.edu/event/820
CLASS:PUBLIC
STATUS:CONFIRMED
CATEGORIES:
LOCATION:Michigan Union - 3200
CONTACT:
END:VEVENT
BEGIN:VEVENT
DTSTAMP:20101111T175806
DTSTART;TZID=America/Detroit:20100325T190000
SUMMARY:Performance:Sing & Variety 2010
DESCRIPTION:Annual Sing and Dance competition to end Greek Week!
UID:2106-918155@events.umich.edu
URL:https://events.umich.edu/event/2106
CLASS:PUBLIC
STATUS:CONFIRMED
CATEGORIES:dance,music,visual arts
LOCATION:Hill Auditorium
CONTACT:
END:VEVENT
BEGIN:VEVENT
DTSTAMP:20100325T030003
DTSTART;TZID=America/Detroit:20100325T193000
SUMMARY:Other:Spring Opera: Armide
DESCRIPTION:University Opera Theatre and the University Philharmonia Orchestra Music by Gluck.  Directed by Joshua Major\, Conducted by Douglas Kinney Frost.  Gluck’s neglected masterpiece about the power of unrequited love. Sung in French with projected English translations. Tickets available at the League Ticket Office 734-764-2538.
UID:1284-914168@events.umich.edu
URL:https://events.umich.edu/event/1284
CLASS:PUBLIC
STATUS:CONFIRMED
CATEGORIES:theater,music
LOCATION:Lydia Mendelssohn Theatre -  
CONTACT:
END:VEVENT
BEGIN:VEVENT
DTSTAMP:20100325T030003
DTSTART;TZID=America/Detroit:20100325T200000
SUMMARY:Other:Second Dissertation Recital:  SunAh Lee\, piano
DESCRIPTION:Jacobs Tod und BegrÃ¤bniss PROGRAM:  Kuhnau - Biblical Sonata No. 6 La Tomba di Giacob
UID:1297-914929@events.umich.edu
URL:https://events.umich.edu/event/1297
CLASS:PUBLIC
STATUS:CONFIRMED
CATEGORIES:music
LOCATION:Earl V. Moore Building - Britton Recital Hall
CONTACT:
END:VEVENT
BEGIN:VEVENT
DTSTAMP:20100325T030003
DTSTART;TZID=America/Detroit:20100325T200000
SUMMARY:Other:Student Small Brass Ensembles Recital
DESCRIPTION:PROGRAM:  Plog - Mosaics\; Dauprat - Six Quartets for Four Horns\, Op. 8B\; Arnold - Brass Quintet No. 1\, Op. 73\; Sampson - Morning Music\; Bozza - Suite pour quatre cors en fa\;  Ewazen - Frost Fire
UID:1342-914215@events.umich.edu
URL:https://events.umich.edu/event/1342
CLASS:PUBLIC
STATUS:CONFIRMED
CATEGORIES:music
LOCATION:Walgreen Drama Center - Stamps Auditorium
CONTACT:
END:VEVENT
BEGIN:VEVENT
DTSTAMP:20101111T175754
DTSTART;TZID=America/Detroit:20100325T203000
DTEND;TZID=America/Detroit:20100325T223000
SUMMARY:Performance:Jazz Jam
DESCRIPTION:Ever wish you could study to the soothing sounds of a live jazz quartet? Now you can! Come grab a seat\, a FREE cup of coffee\, and enjoy the jammin' sounds of student musicians from the Department of Jazz and Contemporary Improvisation. Play an instrument or sing? This is also an open jam session! Bring your instrument(s) of choice and sign up to get your turn playing alongside the house band--you call the tunes!
UID:2128-917190@events.umich.edu
URL:https://events.umich.edu/event/2128
CLASS:PUBLIC
STATUS:CONFIRMED
CATEGORIES:music
LOCATION:Pierpont Commons - Leonardo&#039;s (across from Quizno&#039;s)
CONTACT:
END:VEVENT
BEGIN:VEVENT
DTSTAMP:20101111T175813
DTSTART;TZID=America/Detroit:20100325T210000
SUMMARY:Performance:Night at the Museum with Oveous Maximus
DESCRIPTION:Poetry Slam collaboration brings Oveous Maximus to feature.
UID:2297-918815@events.umich.edu
URL:https://events.umich.edu/event/2297
CLASS:PUBLIC
STATUS:CONFIRMED
CATEGORIES:literary arts,multicultural
LOCATION:Museum of Art
CONTACT:
END:VEVENT
END:VCALENDAR