BEGIN:VCALENDAR
VERSION:2.0
PRODID:-//UM//UM*Events//EN
CALSCALE:GREGORIAN
BEGIN:VTIMEZONE
TZID:America/Detroit
TZURL:http://tzurl.org/zoneinfo/America/Detroit
X-LIC-LOCATION:America/Detroit
BEGIN:DAYLIGHT
TZOFFSETFROM:-0500
TZOFFSETTO:-0400
TZNAME:EDT
DTSTART:20070311T020000
RRULE:FREQ=YEARLY;BYMONTH=3;BYDAY=2SU
END:DAYLIGHT
BEGIN:STANDARD
TZOFFSETFROM:-0400
TZOFFSETTO:-0500
TZNAME:EST
DTSTART:20071104T020000
RRULE:FREQ=YEARLY;BYMONTH=11;BYDAY=1SU
END:STANDARD
END:VTIMEZONE
BEGIN:VEVENT
DTSTAMP:20101111T175629
DTSTART;TZID=America/Detroit:20100328T000000
SUMMARY:Exhibition:Exhibit of Recent Aquisitions
DESCRIPTION:This exhibit includes an extraordinarily wide variety of primary source material collected to support current and  future research.  Among the items on display are:  a watercolor “portrait” of a railroad bridge built in Prague in  1850\, original artwork by local artist Tom Pohrt for a children's book written by Justice Sandra Day O'Connor\, a  diary and photographs from a female UM student who hitchhiked from Ann Arbor to San Francisco in 1923\, a  Spanish text from 1693 for those studying to be soldiers\, and Dante's Divine Comedy with illustrations by  Salvador Dali.  \n\nNew archival collections with samples on display include the papers of film director Robert Altman and writers  Nicholas Delbanco and Richard Tillinghast\, as well as four separate women involved in radical causes such as  Clarence Darrow's 1907 defense of union leaders accused of murder and the ecological costs of technology.   This is the first opportunity for the public to see materials from the Altman Collection\, which is estimated to be  1\,000 linear feet in size and is now being sorted and processed for use.
UID:748-911472@events.umich.edu
URL:https://events.umich.edu/event/748
CLASS:PUBLIC
STATUS:CONFIRMED
CATEGORIES:visual arts
LOCATION:Hatcher Graduate Library - 7th Floor Special Collections Library
CONTACT:
END:VEVENT
BEGIN:VEVENT
DTSTAMP:20101111T175620
DTSTART;TZID=America/Detroit:20100328T000000
SUMMARY:Exhibition:Permanent Exhibits at the Exhibit Museum of Natural History
DESCRIPTION:The Hall of Evolution houses Michigan's largest display of prehistoric life. More than 600 million years of life on Earth are traced through fossils\, models and dioramas. The Michigan Wildlife Gallery has a large collection of native Great Lakes birds\, mammals\, reptiles\, and amphibians\, with taxidermy mounts\, habitat scenes\, and the largest mastodon trackway on display in the world. There are also displays about some of the environmental problems faced in this region today. The Anthropology Displays feature artifacts from human cultures around the world. The Geology Displays on the fourth floor offer a large selection of rocks\, minerals and gems. These displays are updated periodically. For more information go to www.lsa.umich.edu/exhibitmuseum/exhibits/permexhibits or call 734-764-0480.
UID:452-910633@events.umich.edu
URL:https://events.umich.edu/event/452
CLASS:PUBLIC
STATUS:CONFIRMED
CATEGORIES:
LOCATION:Ruthven Museums Building
CONTACT:
END:VEVENT
BEGIN:VEVENT
DTSTAMP:20100318T170051
DTSTART;TZID=America/Detroit:20100328T080000
SUMMARY:Exhibition:Exhibit: The Ghost Army
DESCRIPTION:This exhibit tells the story of the Ghost Army from WWII. In June of 1944\, an  exceptional U.S. Army unit went into action in Normandy. Its weapons included  hundreds of inflatable tanks and a one-of-a-kind collection of sound effects  records\, and it carried out its battlefield mission without firing a shot. The unit was  officially called the 23rd Headquarters Special Troops\, but it was known to its men  as The Ghost Army.\n\nMembers of The Ghost Army adhered to a decades-long gag order\; many never  told their families about their extraordinary military service. Sixty-five years after  this top-secret group went into action\, the University of Michigan's Hatcher Library  will unveil the first public exhibit of this captivating group of materials documenting  The Ghost Army. \n\nThis exhibit is available during library hours. See http://www.lib.umich.edu/hatcher- graduate-library.
UID:1124-913933@events.umich.edu
URL:https://events.umich.edu/event/1124
CLASS:PUBLIC
STATUS:CONFIRMED
CATEGORIES:visual arts
LOCATION:Hatcher Graduate Library - Gallery in Room 100
CONTACT:
END:VEVENT
BEGIN:VEVENT
DTSTAMP:20100329T161307
DTSTART;TZID=America/Detroit:20100328T083000
DTEND;TZID=America/Detroit:20100328T190000
SUMMARY:Exhibition:A History of the Bible from Ancient Papyri to King James
DESCRIPTION:This exhibit\, from the Special Collections Library\, shows a path of documents that  led to the creation of the 1611 King James Version of the Bible – from ancient  Egyptian manuscripts on papyrus to Medieval manuscripts to the printed book.\n\nThe earliest documents on display are Egyptian papyri\, including examples of a  census record from the year 119 and the oldest known copy of part of the New  Testament. Medieval manuscripts document the preservation of the text until the  invention of movable type printing by Gutenberg around 1450. The early printed  Bibles include versions in Latin and Greek\, and several that show the struggles  among various political factions and church reformers to control the translating of  the Scriptures into the language of the people. See the King James Bible of 1611  that became the accepted standard.\n\nFor Audubon Room hours\, see https://www.lib.umich.edu/audubon-room
UID:2220-918663@events.umich.edu
URL:https://events.umich.edu/event/2220
CLASS:PUBLIC
STATUS:CONFIRMED
CATEGORIES:visual arts
LOCATION:Hatcher Graduate Library - Audubon Room/First Floor
CONTACT:
END:VEVENT
BEGIN:VEVENT
DTSTAMP:20090722T143534
DTSTART;TZID=America/Detroit:20100328T090000
DTEND;TZID=America/Detroit:20100328T170000
SUMMARY:Exhibition:Ida: Darwinius masillae
DESCRIPTION:\"Ida\,\" a new exhibit in the Exhibit Museum's Rotunda\, displays a high-resolution cast of an extremely rare  fossil discovered in 1983 near Messel\, Germany\, but only recently made available for study. The fossil has  proven to be a “link” between the prosimian and simian (\"anthropoid\") primate lineages. It has \"advanced\"  front teeth (incisors and canines) and second toes like those of monkeys\, and is broadly representative of what  human primate ancestors may have looked like during the Eocene epoch 47 million years ago.     Ida (prounded \"eeda\") is named after after the daughter of Dr JÃ¸rn Hurum\, the Norwegian vertebrate  paleontologist who secured one section of the fossil from an anonymous owner\, and led the research. Ida was  about eight months old\, or the equivalent of a six-year-old human.     Publication of a paper on the discovery was accompanied by a book\, The Link: Uncovering Our Earliest  Ancestors by Colin Tudge\, and a documentary shown on the History Channel (US)\, BBC One (UK)\,and various  stations in Germany and Norway.     U-M paleontologist Philip Gingerich and U-M anthropologist B. Holly Smith were two members of the \"dream  team\" invited to study Ida. The exhibit will be on display through May 2010.
UID:2124-918268@events.umich.edu
URL:https://events.umich.edu/event/2124
CLASS:PUBLIC
STATUS:CONFIRMED
CATEGORIES:multicultural,visual arts,welcome week
LOCATION:
CONTACT:
END:VEVENT
BEGIN:VEVENT
DTSTAMP:20101111T175749
DTSTART;TZID=America/Detroit:20100328T100000
DTEND;TZID=America/Detroit:20100328T163000
SUMMARY:Other:The Healing Garden - Savor Nature's Restorative Powers
DESCRIPTION:This exhibit and display in the conservatory at Matthaei Botanical Gardens focuses  on the rejuvenating qualities of nature's scents\, colors\, and forms and on the  benefits of exercise and meditation. Interactive activities during the exhibit include  guided meditation\, aromatherapy station\, color and mood interpretation display\,  and meditative hikes. Also\, displays of bulbs and fresh-air plants. Cost inlcudes  admission to conservatory and above activities. Open Wednesday until 8 pm\; free  admission Wednesdays noon-8pm. Closed Mondays.
UID:1938-916795@events.umich.edu
URL:https://events.umich.edu/event/1938
CLASS:PUBLIC
STATUS:CONFIRMED
CATEGORIES:
LOCATION:
CONTACT:
END:VEVENT
BEGIN:VEVENT
DTSTAMP:20100328T030002
DTSTART;TZID=America/Detroit:20100328T140000
SUMMARY:Other:Gamelan Ensemble and Percussion Ensemble
DESCRIPTION:The Javanese Gamelan Ensemble Meets the Music of the South Seas.  A concert of traditional Javanese gamelan music and world premiere of a composition by New Zealand composer Gareth Farr.
UID:1762-916587@events.umich.edu
URL:https://events.umich.edu/event/1762
CLASS:PUBLIC
STATUS:CONFIRMED
CATEGORIES:music
LOCATION:Hill Auditorium -  
CONTACT:
END:VEVENT
BEGIN:VEVENT
DTSTAMP:20100328T030002
DTSTART;TZID=America/Detroit:20100328T140000
SUMMARY:Other:Spring Opera: Armide
DESCRIPTION:University Opera Theatre and the University Philharmonia Orchestra Music by Gluck.  Directed by Joshua Major\, Conducted by Douglas Kinney Frost.  Gluck’s neglected masterpiece about the power of unrequited love. Sung in French with projected English translations. Tickets available at the League Ticket Office 734-764-2538.
UID:1411-914384@events.umich.edu
URL:https://events.umich.edu/event/1411
CLASS:PUBLIC
STATUS:CONFIRMED
CATEGORIES:music
LOCATION:Lydia Mendelssohn Theatre -  
CONTACT:
END:VEVENT
BEGIN:VEVENT
DTSTAMP:20100328T030002
DTSTART;TZID=America/Detroit:20100328T160000
SUMMARY:Other:Abe Torchinsky Memorial Celebration
DESCRIPTION:Abe Torchinsky (1920-2009)Abe was a renowned performer\, and one of the most influential teachers for a generation of tuba and euphonium students.  His genial\, outgoing nature was much beloved by all those who encountered him. He taught tuba and euphonium at the University of Michigan from 1972-89.  Under his tutelage\, his students achieved excellence as orchestral and military band musicians\, teachers\, and employment in a host of other related and unrelated careers.PROGRAM:  Besozzi - Sonata\; Messiaen - Vocalise\; Mr T\; Strauss - Nocturne\; Tomasi - To Be or Not to Be\; Moussorgsky - “The Great Gate of Kiev” from Pictures at an Exhibition\; Dona Nobis Pacem
UID:2540-919254@events.umich.edu
URL:https://events.umich.edu/event/2540
CLASS:PUBLIC
STATUS:CONFIRMED
CATEGORIES:music
LOCATION:Earl V. Moore Building - Britton Recital Hall
CONTACT:
END:VEVENT
BEGIN:VEVENT
DTSTAMP:20100328T030002
DTSTART;TZID=America/Detroit:20100328T170000
SUMMARY:Other:First Dissertation Recital:  Joohee Cecilia Kang\, clarinet
DESCRIPTION:PROGRAM:  Richardson - Inundation\; BartÃ³k - Music Contrasts Messiaen -  Quartet for the End of Time
UID:1574-915412@events.umich.edu
URL:https://events.umich.edu/event/1574
CLASS:PUBLIC
STATUS:CONFIRMED
CATEGORIES:music
LOCATION:Earl V. Moore Building - McIntosh Theatre
CONTACT:
END:VEVENT
BEGIN:VEVENT
DTSTAMP:20100328T030002
DTSTART;TZID=America/Detroit:20100328T200000
SUMMARY:Other:Jazz Showcase Concert
DESCRIPTION:
UID:2399-919742@events.umich.edu
URL:https://events.umich.edu/event/2399
CLASS:PUBLIC
STATUS:CONFIRMED
CATEGORIES:music
LOCATION:Walgreen Drama Center - Stamps Auditorium
CONTACT:
END:VEVENT
BEGIN:VEVENT
DTSTAMP:20100328T030002
DTSTART;TZID=America/Detroit:20100328T200000
SUMMARY:Other:Senior Recital:  Conner Howell\, bassoon
DESCRIPTION:PROGRAM:  Previn - Sonata for Bassoon and Piano\; Roumain - Lecolion Loops\; Wolfgang - 3 Short Stories\; Gordon - The Low Quartet\; Mockert - Suite Argentina para jugar con Andrea
UID:2240-917482@events.umich.edu
URL:https://events.umich.edu/event/2240
CLASS:PUBLIC
STATUS:CONFIRMED
CATEGORIES:music
LOCATION:Earl V. Moore Building - Britton Recital Hall
CONTACT:
END:VEVENT
BEGIN:VEVENT
DTSTAMP:20100328T030002
DTSTART;TZID=America/Detroit:20100328T200000
SUMMARY:Other:Senior Recital:  Landres Bryant\, tuba
DESCRIPTION:PROGRAM:  Kraft - Ecounters II\; Schumann - Drei Romanzen Op. 94\; Plog - Three Miniatures\; Shostakovich - String Quartet No. 12 in D-flat Major\, Op. 133
UID:697-911347@events.umich.edu
URL:https://events.umich.edu/event/697
CLASS:PUBLIC
STATUS:CONFIRMED
CATEGORIES:music
LOCATION:Earl V. Moore Building - McIntosh Theatre
CONTACT:
END:VEVENT
BEGIN:VEVENT
DTSTAMP:20100301T134658
DTSTART;TZID=America/Detroit:20100328T213000
SUMMARY:Film Screening:Film: Herb and Dorothy
DESCRIPTION:Herb and Dorothy tells the extraordinary story of Herbert Vogel\, a postal clerk\, and Dorothy Vogel\, a librarian\, who managed to build one of the most important contemporary art collections in history with very modest means. They collected artworks guided by two rules: the piece had to be affordable\, and it had to be small enough to fit in their one-bedroom Manhattan apartment. Most of those they supported and befriended in this process went on to become world-renowned artists\, including Sol LeWitt\, Christo and Jeanne-Claude\, Richard Tuttle\, and Chuck Close. Directed by Megumi Sasaki.
UID:2716-921052@events.umich.edu
URL:https://events.umich.edu/event/2716
CLASS:PUBLIC
STATUS:CONFIRMED
CATEGORIES:
LOCATION:Museum of Art - Helmut Stern Auditorium
CONTACT:
END:VEVENT
END:VCALENDAR