BEGIN:VCALENDAR
VERSION:2.0
PRODID:-//UM//UM*Events//EN
CALSCALE:GREGORIAN
BEGIN:VTIMEZONE
TZID:America/Detroit
TZURL:http://tzurl.org/zoneinfo/America/Detroit
X-LIC-LOCATION:America/Detroit
BEGIN:DAYLIGHT
TZOFFSETFROM:-0500
TZOFFSETTO:-0400
TZNAME:EDT
DTSTART:20070311T020000
RRULE:FREQ=YEARLY;BYMONTH=3;BYDAY=2SU
END:DAYLIGHT
BEGIN:STANDARD
TZOFFSETFROM:-0400
TZOFFSETTO:-0500
TZNAME:EST
DTSTART:20071104T020000
RRULE:FREQ=YEARLY;BYMONTH=11;BYDAY=1SU
END:STANDARD
END:VTIMEZONE
BEGIN:VEVENT
DTSTAMP:20101111T175629
DTSTART;TZID=America/Detroit:20100330T000000
SUMMARY:Exhibition:Exhibit of Recent Aquisitions
DESCRIPTION:This exhibit includes an extraordinarily wide variety of primary source material collected to support current and  future research.  Among the items on display are:  a watercolor “portrait” of a railroad bridge built in Prague in  1850\, original artwork by local artist Tom Pohrt for a children's book written by Justice Sandra Day O'Connor\, a  diary and photographs from a female UM student who hitchhiked from Ann Arbor to San Francisco in 1923\, a  Spanish text from 1693 for those studying to be soldiers\, and Dante's Divine Comedy with illustrations by  Salvador Dali.  \n\nNew archival collections with samples on display include the papers of film director Robert Altman and writers  Nicholas Delbanco and Richard Tillinghast\, as well as four separate women involved in radical causes such as  Clarence Darrow's 1907 defense of union leaders accused of murder and the ecological costs of technology.   This is the first opportunity for the public to see materials from the Altman Collection\, which is estimated to be  1\,000 linear feet in size and is now being sorted and processed for use.
UID:748-911474@events.umich.edu
URL:https://events.umich.edu/event/748
CLASS:PUBLIC
STATUS:CONFIRMED
CATEGORIES:visual arts
LOCATION:Hatcher Graduate Library - 7th Floor Special Collections Library
CONTACT:
END:VEVENT
BEGIN:VEVENT
DTSTAMP:20101111T175620
DTSTART;TZID=America/Detroit:20100330T000000
SUMMARY:Exhibition:Permanent Exhibits at the Exhibit Museum of Natural History
DESCRIPTION:The Hall of Evolution houses Michigan's largest display of prehistoric life. More than 600 million years of life on Earth are traced through fossils\, models and dioramas. The Michigan Wildlife Gallery has a large collection of native Great Lakes birds\, mammals\, reptiles\, and amphibians\, with taxidermy mounts\, habitat scenes\, and the largest mastodon trackway on display in the world. There are also displays about some of the environmental problems faced in this region today. The Anthropology Displays feature artifacts from human cultures around the world. The Geology Displays on the fourth floor offer a large selection of rocks\, minerals and gems. These displays are updated periodically. For more information go to www.lsa.umich.edu/exhibitmuseum/exhibits/permexhibits or call 734-764-0480.
UID:452-910635@events.umich.edu
URL:https://events.umich.edu/event/452
CLASS:PUBLIC
STATUS:CONFIRMED
CATEGORIES:
LOCATION:Ruthven Museums Building
CONTACT:
END:VEVENT
BEGIN:VEVENT
DTSTAMP:20100318T170051
DTSTART;TZID=America/Detroit:20100330T080000
SUMMARY:Exhibition:Exhibit: The Ghost Army
DESCRIPTION:This exhibit tells the story of the Ghost Army from WWII. In June of 1944\, an  exceptional U.S. Army unit went into action in Normandy. Its weapons included  hundreds of inflatable tanks and a one-of-a-kind collection of sound effects  records\, and it carried out its battlefield mission without firing a shot. The unit was  officially called the 23rd Headquarters Special Troops\, but it was known to its men  as The Ghost Army.\n\nMembers of The Ghost Army adhered to a decades-long gag order\; many never  told their families about their extraordinary military service. Sixty-five years after  this top-secret group went into action\, the University of Michigan's Hatcher Library  will unveil the first public exhibit of this captivating group of materials documenting  The Ghost Army. \n\nThis exhibit is available during library hours. See http://www.lib.umich.edu/hatcher- graduate-library.
UID:1124-913935@events.umich.edu
URL:https://events.umich.edu/event/1124
CLASS:PUBLIC
STATUS:CONFIRMED
CATEGORIES:visual arts
LOCATION:Hatcher Graduate Library - Gallery in Room 100
CONTACT:
END:VEVENT
BEGIN:VEVENT
DTSTAMP:20101111T175759
DTSTART;TZID=America/Detroit:20100330T080000
DTEND;TZID=America/Detroit:20100330T170000
SUMMARY:Exhibition:History of Dentistry exhibits at the Sindecuse Museum of Dentistry
DESCRIPTION:Exhibits at the Sindecuse Museum of Dentistry include Dental Operatories of the 1860s to 1930s\, St. Apollonia-Patron Saint of Dentistry and more. Call 763-0767 or go to www.dent.umich.edu/museum for more information.
UID:3856-917516@events.umich.edu
URL:https://events.umich.edu/event/3856
CLASS:PUBLIC
STATUS:CONFIRMED
CATEGORIES:
LOCATION:Dental & W.K. Kellogg Institute
CONTACT:
END:VEVENT
BEGIN:VEVENT
DTSTAMP:20100329T161307
DTSTART;TZID=America/Detroit:20100330T083000
DTEND;TZID=America/Detroit:20100330T190000
SUMMARY:Exhibition:A History of the Bible from Ancient Papyri to King James
DESCRIPTION:This exhibit\, from the Special Collections Library\, shows a path of documents that  led to the creation of the 1611 King James Version of the Bible – from ancient  Egyptian manuscripts on papyrus to Medieval manuscripts to the printed book.\n\nThe earliest documents on display are Egyptian papyri\, including examples of a  census record from the year 119 and the oldest known copy of part of the New  Testament. Medieval manuscripts document the preservation of the text until the  invention of movable type printing by Gutenberg around 1450. The early printed  Bibles include versions in Latin and Greek\, and several that show the struggles  among various political factions and church reformers to control the translating of  the Scriptures into the language of the people. See the King James Bible of 1611  that became the accepted standard.\n\nFor Audubon Room hours\, see https://www.lib.umich.edu/audubon-room
UID:2220-918665@events.umich.edu
URL:https://events.umich.edu/event/2220
CLASS:PUBLIC
STATUS:CONFIRMED
CATEGORIES:visual arts
LOCATION:Hatcher Graduate Library - Audubon Room/First Floor
CONTACT:
END:VEVENT
BEGIN:VEVENT
DTSTAMP:20090722T143534
DTSTART;TZID=America/Detroit:20100330T090000
DTEND;TZID=America/Detroit:20100330T170000
SUMMARY:Exhibition:Ida: Darwinius masillae
DESCRIPTION:\"Ida\,\" a new exhibit in the Exhibit Museum's Rotunda\, displays a high-resolution cast of an extremely rare  fossil discovered in 1983 near Messel\, Germany\, but only recently made available for study. The fossil has  proven to be a “link” between the prosimian and simian (\"anthropoid\") primate lineages. It has \"advanced\"  front teeth (incisors and canines) and second toes like those of monkeys\, and is broadly representative of what  human primate ancestors may have looked like during the Eocene epoch 47 million years ago.     Ida (prounded \"eeda\") is named after after the daughter of Dr JÃ¸rn Hurum\, the Norwegian vertebrate  paleontologist who secured one section of the fossil from an anonymous owner\, and led the research. Ida was  about eight months old\, or the equivalent of a six-year-old human.     Publication of a paper on the discovery was accompanied by a book\, The Link: Uncovering Our Earliest  Ancestors by Colin Tudge\, and a documentary shown on the History Channel (US)\, BBC One (UK)\,and various  stations in Germany and Norway.     U-M paleontologist Philip Gingerich and U-M anthropologist B. Holly Smith were two members of the \"dream  team\" invited to study Ida. The exhibit will be on display through May 2010.
UID:2124-918270@events.umich.edu
URL:https://events.umich.edu/event/2124
CLASS:PUBLIC
STATUS:CONFIRMED
CATEGORIES:welcome week,visual arts,multicultural
LOCATION:
CONTACT:
END:VEVENT
BEGIN:VEVENT
DTSTAMP:20101111T175734
DTSTART;TZID=America/Detroit:20100330T090000
DTEND;TZID=America/Detroit:20100330T170000
SUMMARY:Exhibition:Scott Hocking Installation
DESCRIPTION:Scott Hocking explores the abandoned buildings and sites of Detroit like a  newfangled scientist. He gathers raw data in his excavations\, and records his  findings using a wholly unique and modern process and method that he intuitively  formulates as he goes along. In his ongoing study of a city so rooted in a dense  past\, and the emotional attachments that accompany it\, Hocking is  uncompromising and unflinching\, and refuses to buy into the hype. His visual  essays chronicling urban markings of modern day ruin are not the stuff of tragedy  or fodder for magazine centerfolds\, but proof of a renaissance in real time.  Hocking's work is fully alive\, and honors the world going past and us moving forward  along with it\, exhilarated by industrial parks returning to fallow land\, and strawberry  bushes growing in the cracked concrete.
UID:1793-915919@events.umich.edu
URL:https://events.umich.edu/event/1793
CLASS:PUBLIC
STATUS:CONFIRMED
CATEGORIES:visual arts
LOCATION:202 S. Thayer - 1010
CONTACT:
END:VEVENT
BEGIN:VEVENT
DTSTAMP:20101111T175600
DTSTART;TZID=America/Detroit:20100330T100000
DTEND;TZID=America/Detroit:20100330T170000
SUMMARY:Exhibition:Stearns Collection of Music
DESCRIPTION:The Stearns Collection at the School of Music\, Theatre & Dance is one of six major collections of musical instruments in North America. The 2\,500-piece collection is internationally known and is a resource for musical and cultural education.
UID:3790-909248@events.umich.edu
URL:https://events.umich.edu/event/3790
CLASS:PUBLIC
STATUS:CONFIRMED
CATEGORIES:
LOCATION:Earl V. Moore Building
CONTACT:
END:VEVENT
BEGIN:VEVENT
DTSTAMP:20101111T175749
DTSTART;TZID=America/Detroit:20100330T100000
DTEND;TZID=America/Detroit:20100330T163000
SUMMARY:Other:The Healing Garden - Savor Nature's Restorative Powers
DESCRIPTION:This exhibit and display in the conservatory at Matthaei Botanical Gardens focuses  on the rejuvenating qualities of nature's scents\, colors\, and forms and on the  benefits of exercise and meditation. Interactive activities during the exhibit include  guided meditation\, aromatherapy station\, color and mood interpretation display\,  and meditative hikes. Also\, displays of bulbs and fresh-air plants. Cost inlcudes  admission to conservatory and above activities. Open Wednesday until 8 pm\; free  admission Wednesdays noon-8pm. Closed Mondays.
UID:1938-916796@events.umich.edu
URL:https://events.umich.edu/event/1938
CLASS:PUBLIC
STATUS:CONFIRMED
CATEGORIES:
LOCATION:
CONTACT:
END:VEVENT
BEGIN:VEVENT
DTSTAMP:20101111T175709
DTSTART;TZID=America/Detroit:20100330T120000
DTEND;TZID=America/Detroit:20100330T133000
SUMMARY:Lecture / Discussion:Institute for the Humanities Brown Bag Lecture: Zora Neale Hurston's Environmental History
DESCRIPTION:There has been a strong tendency in scholarship on African America to associate  rural southern nature\, and the folk cultures which emerged in close response to  such a nature\, as evolutionarily prior to northern\, urban meccas of cultural  maturation. By contrast\, as Zora Neale Hurston traveled off and on from 1927 to  1937 in the part-southern\, part-Caribbean quasi-frontier wilderness of early  twentieth-century Florida\, she came to see rural life as by no means quaint and  unchanging\, but rather\, mercurial\, violent\, and temporary.  Hurston saw diasporic  African culture in the Americas as existing primarily in the convulsive tropical and  semi-tropical zones of the hurricane.  She saw the hubris of engineering projects  such as the draining of the Everglades and the diking of Okeechobee\; she saw too  how the devastating effects of this hubris particularly affected black communities–in  the catastrophic 1928 Okeechobee flood\, but also in other rural environments that  put working blacks closer to the flash points where extractive and agrarian  technologies contested with a volatile nature.  In her most famous work\, Their Eyes  Were Watching God\, she uses this hurricane and flood to draw a circle around  a “real” historical symptom of an environment\, and a history\, of disturbance.  As  such\, Hurston would have demurred from the new theory of nature as a self- stabilizing and well-programmed ecosystem developed in the 1940s by the father  of modern ecology\, Eugene P. Odum. \n\n Susan Scott Parrish is an Associate Professor in the Department of English  Language and Literature at the University of Michigan.  Her first book\, American  Curiosity: Cultures of Natural History in the Colonial British Atlantic World\, was  published in 2006.  Her current projects involve thinking through the conjunction of  environmental history\, racial experience\, and scientific epistemologies in the  Atlantic world from the seventeenth through the twentieth centuries\, with special  emphasis on the Caribbean and the U.S. Gulf Coast.
UID:1346-914220@events.umich.edu
URL:https://events.umich.edu/event/1346
CLASS:PUBLIC
STATUS:CONFIRMED
CATEGORIES:social justice,multicultural,literary arts
LOCATION:202 S. Thayer - 2022
CONTACT:
END:VEVENT
BEGIN:VEVENT
DTSTAMP:20101111T175639
DTSTART;TZID=America/Detroit:20100330T160000
DTEND;TZID=America/Detroit:20100330T170000
SUMMARY:Workshop / Seminar:Stress Management and How it Affects Your Health
DESCRIPTION:Pride Network Health Awareness Week 2010 Kathleen Robertson will discuss Stress Managment
UID:670-912331@events.umich.edu
URL:https://events.umich.edu/event/670
CLASS:PUBLIC
STATUS:CONFIRMED
CATEGORIES:
LOCATION:University Hospitals - 2C108-UH
CONTACT:
END:VEVENT
BEGIN:VEVENT
DTSTAMP:20101111T175832
DTSTART;TZID=America/Detroit:20100330T183000
SUMMARY:Lecture / Discussion:The Royal Shakespeare Company/U-M Creative Project
DESCRIPTION:INSIGHT for Written on the Heart (King James Bible play\, by David Edgar):\n\nRSC director\, actors and playwright discuss their insights gained from a three-day workshop at U-M devoted to “Written on the Heart\,” a play by David Edgar on the role of Lancelot Andrewes in the formation and publication of the King James Bible. Andrewes played a central and controversial role in the religious life of the times.  Open to the public.
UID:2402-919796@events.umich.edu
URL:https://events.umich.edu/event/2402
CLASS:PUBLIC
STATUS:CONFIRMED
CATEGORIES:literary arts,theater
LOCATION:Ross School of Business - Blau Auditorium
CONTACT:
END:VEVENT
BEGIN:VEVENT
DTSTAMP:20100330T030002
DTSTART;TZID=America/Detroit:20100330T190000
SUMMARY:Other:Jessye Norman Master Class:  Samuel Ramey
DESCRIPTION:This Jessye Norman Master Class will feature Samuel Ramey\, one of the music world's foremost interpreters of bass and bass-baritone operatic and concert repertoire\, who will work with voice students from the School of Music\, Theatre & Dance. The Jessye Norman Master Class is made possible through funding from the Charles H. Gershenson Trust\, Maurice Binkow\, Trustee
UID:2190-917441@events.umich.edu
URL:https://events.umich.edu/event/2190
CLASS:PUBLIC
STATUS:CONFIRMED
CATEGORIES:music
LOCATION:Hill Auditorium -  
CONTACT:
END:VEVENT
BEGIN:VEVENT
DTSTAMP:20091211T154016
DTSTART;TZID=America/Detroit:20100330T200000
DTEND;TZID=America/Detroit:20100330T230000
SUMMARY:Other:Artsbreak
DESCRIPTION:Artsbreak is a FREE arts and crafts night every Tuesday from 8pm-11pm in the MUG (Michigan Union Ground floor). Examples of crafts we've done in the past are: painting pumpkins\, decorating small canvas tote bags\, wire photo holders\, polar fleece scarves\, and jewelry making. For the most updated craft list or to suggest a craft\, email artsbreak-uuap@umich.edu to get on our weekly listserv\, or check out UUAP's website.
UID:1256-914143@events.umich.edu
URL:https://events.umich.edu/event/1256
CLASS:PUBLIC
STATUS:CONFIRMED
CATEGORIES:visual arts
LOCATION:Michigan Union - MUG
CONTACT:
END:VEVENT
BEGIN:VEVENT
DTSTAMP:20101111T175822
DTSTART;TZID=America/Detroit:20100330T200000
SUMMARY:Performance:Celtic Crossroads
DESCRIPTION:
UID:2504-919192@events.umich.edu
URL:https://events.umich.edu/event/2504
CLASS:PUBLIC
STATUS:CONFIRMED
CATEGORIES:music
LOCATION:
CONTACT:
END:VEVENT
BEGIN:VEVENT
DTSTAMP:20100330T030002
DTSTART;TZID=America/Detroit:20100330T200000
SUMMARY:Other:Faculty Recital: Chamber Music with Harp
DESCRIPTION:Joan Raeburn Holland (harp)\, Amy Porter (flute)\, Kathryn Votapek (violin)\, Yizhak Schotten (viola)\, Anthony Elliott (cello)\, Diana Gannett (bass).  PROGRAM:  J.S. Bach - Sonata No. 1\; Ibert - Trio for violin\, cello and harp\; Debussy - Trio for flute\, viola and harp\; Ropartz - Prelude\, Marine and Chansons
UID:2904-920706@events.umich.edu
URL:https://events.umich.edu/event/2904
CLASS:PUBLIC
STATUS:CONFIRMED
CATEGORIES:music
LOCATION:Earl V. Moore Building - Britton Recital Hall
CONTACT:
END:VEVENT
BEGIN:VEVENT
DTSTAMP:20100330T030002
DTSTART;TZID=America/Detroit:20100330T200000
SUMMARY:Other:Masters Recital:  Leslie Weinstein\, clarinet
DESCRIPTION:PROGRAM:  Ravel - Piece en Forme de Habanera\; Kovacs - Hommage to Manuel de Falla\; Poulenc - Sonata for Clarinet and Piano\; Bruns - Trio fur Oboe\, Klarinette und Fagott Op. 49\; Weber - Grand Duo Concertant Op. 48
UID:2877-920691@events.umich.edu
URL:https://events.umich.edu/event/2877
CLASS:PUBLIC
STATUS:CONFIRMED
CATEGORIES:music
LOCATION:Walgreen Drama Center - Stamps Auditorium
CONTACT:
END:VEVENT
BEGIN:VEVENT
DTSTAMP:20100330T030002
DTSTART;TZID=America/Detroit:20100330T200000
SUMMARY:Other:Third Dissertation Recital:  Susan Nelson\, bassoon
DESCRIPTION:PROGRAM:  Hoover - Journey\; Galbraith -  Aeolian Muses\; Gubaidulina - Duo Sonata\; Gotkovsky - Variations Concertantes
UID:1219-914052@events.umich.edu
URL:https://events.umich.edu/event/1219
CLASS:PUBLIC
STATUS:CONFIRMED
CATEGORIES:music
LOCATION:Earl V. Moore Building - McIntosh Theatre
CONTACT:
END:VEVENT
END:VCALENDAR