BEGIN:VCALENDAR
VERSION:2.0
PRODID:-//UM//UM*Events//EN
CALSCALE:GREGORIAN
BEGIN:VTIMEZONE
TZID:America/Detroit
TZURL:http://tzurl.org/zoneinfo/America/Detroit
X-LIC-LOCATION:America/Detroit
BEGIN:DAYLIGHT
TZOFFSETFROM:-0500
TZOFFSETTO:-0400
TZNAME:EDT
DTSTART:20070311T020000
RRULE:FREQ=YEARLY;BYMONTH=3;BYDAY=2SU
END:DAYLIGHT
BEGIN:STANDARD
TZOFFSETFROM:-0400
TZOFFSETTO:-0500
TZNAME:EST
DTSTART:20071104T020000
RRULE:FREQ=YEARLY;BYMONTH=11;BYDAY=1SU
END:STANDARD
END:VTIMEZONE
BEGIN:VEVENT
DTSTAMP:20101111T175629
DTSTART;TZID=America/Detroit:20100402T000000
SUMMARY:Exhibition:Exhibit of Recent Aquisitions
DESCRIPTION:This exhibit includes an extraordinarily wide variety of primary source material collected to support current and  future research.  Among the items on display are:  a watercolor “portrait” of a railroad bridge built in Prague in  1850\, original artwork by local artist Tom Pohrt for a children's book written by Justice Sandra Day O'Connor\, a  diary and photographs from a female UM student who hitchhiked from Ann Arbor to San Francisco in 1923\, a  Spanish text from 1693 for those studying to be soldiers\, and Dante's Divine Comedy with illustrations by  Salvador Dali.  \n\nNew archival collections with samples on display include the papers of film director Robert Altman and writers  Nicholas Delbanco and Richard Tillinghast\, as well as four separate women involved in radical causes such as  Clarence Darrow's 1907 defense of union leaders accused of murder and the ecological costs of technology.   This is the first opportunity for the public to see materials from the Altman Collection\, which is estimated to be  1\,000 linear feet in size and is now being sorted and processed for use.
UID:748-911477@events.umich.edu
URL:https://events.umich.edu/event/748
CLASS:PUBLIC
STATUS:CONFIRMED
CATEGORIES:visual arts
LOCATION:Hatcher Graduate Library - 7th Floor Special Collections Library
CONTACT:
END:VEVENT
BEGIN:VEVENT
DTSTAMP:20101111T175620
DTSTART;TZID=America/Detroit:20100402T000000
SUMMARY:Exhibition:Permanent Exhibits at the Exhibit Museum of Natural History
DESCRIPTION:The Hall of Evolution houses Michigan's largest display of prehistoric life. More than 600 million years of life on Earth are traced through fossils\, models and dioramas. The Michigan Wildlife Gallery has a large collection of native Great Lakes birds\, mammals\, reptiles\, and amphibians\, with taxidermy mounts\, habitat scenes\, and the largest mastodon trackway on display in the world. There are also displays about some of the environmental problems faced in this region today. The Anthropology Displays feature artifacts from human cultures around the world. The Geology Displays on the fourth floor offer a large selection of rocks\, minerals and gems. These displays are updated periodically. For more information go to www.lsa.umich.edu/exhibitmuseum/exhibits/permexhibits or call 734-764-0480.
UID:452-910638@events.umich.edu
URL:https://events.umich.edu/event/452
CLASS:PUBLIC
STATUS:CONFIRMED
CATEGORIES:
LOCATION:Ruthven Museums Building
CONTACT:
END:VEVENT
BEGIN:VEVENT
DTSTAMP:20100318T170051
DTSTART;TZID=America/Detroit:20100402T080000
SUMMARY:Exhibition:Exhibit: The Ghost Army
DESCRIPTION:This exhibit tells the story of the Ghost Army from WWII. In June of 1944\, an  exceptional U.S. Army unit went into action in Normandy. Its weapons included  hundreds of inflatable tanks and a one-of-a-kind collection of sound effects  records\, and it carried out its battlefield mission without firing a shot. The unit was  officially called the 23rd Headquarters Special Troops\, but it was known to its men  as The Ghost Army.\n\nMembers of The Ghost Army adhered to a decades-long gag order\; many never  told their families about their extraordinary military service. Sixty-five years after  this top-secret group went into action\, the University of Michigan's Hatcher Library  will unveil the first public exhibit of this captivating group of materials documenting  The Ghost Army. \n\nThis exhibit is available during library hours. See http://www.lib.umich.edu/hatcher- graduate-library.
UID:1124-913938@events.umich.edu
URL:https://events.umich.edu/event/1124
CLASS:PUBLIC
STATUS:CONFIRMED
CATEGORIES:visual arts
LOCATION:Hatcher Graduate Library - Gallery in Room 100
CONTACT:
END:VEVENT
BEGIN:VEVENT
DTSTAMP:20101111T175759
DTSTART;TZID=America/Detroit:20100402T080000
DTEND;TZID=America/Detroit:20100402T170000
SUMMARY:Exhibition:History of Dentistry exhibits at the Sindecuse Museum of Dentistry
DESCRIPTION:Exhibits at the Sindecuse Museum of Dentistry include Dental Operatories of the 1860s to 1930s\, St. Apollonia-Patron Saint of Dentistry and more. Call 763-0767 or go to www.dent.umich.edu/museum for more information.
UID:3856-917519@events.umich.edu
URL:https://events.umich.edu/event/3856
CLASS:PUBLIC
STATUS:CONFIRMED
CATEGORIES:
LOCATION:Dental & W.K. Kellogg Institute
CONTACT:
END:VEVENT
BEGIN:VEVENT
DTSTAMP:20100329T161307
DTSTART;TZID=America/Detroit:20100402T083000
DTEND;TZID=America/Detroit:20100402T190000
SUMMARY:Exhibition:A History of the Bible from Ancient Papyri to King James
DESCRIPTION:This exhibit\, from the Special Collections Library\, shows a path of documents that  led to the creation of the 1611 King James Version of the Bible – from ancient  Egyptian manuscripts on papyrus to Medieval manuscripts to the printed book.\n\nThe earliest documents on display are Egyptian papyri\, including examples of a  census record from the year 119 and the oldest known copy of part of the New  Testament. Medieval manuscripts document the preservation of the text until the  invention of movable type printing by Gutenberg around 1450. The early printed  Bibles include versions in Latin and Greek\, and several that show the struggles  among various political factions and church reformers to control the translating of  the Scriptures into the language of the people. See the King James Bible of 1611  that became the accepted standard.\n\nFor Audubon Room hours\, see https://www.lib.umich.edu/audubon-room
UID:2220-918668@events.umich.edu
URL:https://events.umich.edu/event/2220
CLASS:PUBLIC
STATUS:CONFIRMED
CATEGORIES:visual arts
LOCATION:Hatcher Graduate Library - Audubon Room/First Floor
CONTACT:
END:VEVENT
BEGIN:VEVENT
DTSTAMP:20090722T143534
DTSTART;TZID=America/Detroit:20100402T090000
DTEND;TZID=America/Detroit:20100402T170000
SUMMARY:Exhibition:Ida: Darwinius masillae
DESCRIPTION:\"Ida\,\" a new exhibit in the Exhibit Museum's Rotunda\, displays a high-resolution cast of an extremely rare  fossil discovered in 1983 near Messel\, Germany\, but only recently made available for study. The fossil has  proven to be a “link” between the prosimian and simian (\"anthropoid\") primate lineages. It has \"advanced\"  front teeth (incisors and canines) and second toes like those of monkeys\, and is broadly representative of what  human primate ancestors may have looked like during the Eocene epoch 47 million years ago.     Ida (prounded \"eeda\") is named after after the daughter of Dr JÃ¸rn Hurum\, the Norwegian vertebrate  paleontologist who secured one section of the fossil from an anonymous owner\, and led the research. Ida was  about eight months old\, or the equivalent of a six-year-old human.     Publication of a paper on the discovery was accompanied by a book\, The Link: Uncovering Our Earliest  Ancestors by Colin Tudge\, and a documentary shown on the History Channel (US)\, BBC One (UK)\,and various  stations in Germany and Norway.     U-M paleontologist Philip Gingerich and U-M anthropologist B. Holly Smith were two members of the \"dream  team\" invited to study Ida. The exhibit will be on display through May 2010.
UID:2124-918273@events.umich.edu
URL:https://events.umich.edu/event/2124
CLASS:PUBLIC
STATUS:CONFIRMED
CATEGORIES:welcome week,visual arts,multicultural
LOCATION:
CONTACT:
END:VEVENT
BEGIN:VEVENT
DTSTAMP:20100323T151148
DTSTART;TZID=America/Detroit:20100402T090000
DTEND;TZID=America/Detroit:20100402T160000
SUMMARY:Rally / Mass Meeting:March of Dimes Diag Day
DESCRIPTION:Our biggest fundraiser of the year\, March for Babies\, is approaching quickly! It is on Sunday\, April 25th (more  details in a separate event). We will be handing out information about the March of Dimes and recruiting members  for the walk. We have started a team that we would like to be school-wide (Wolverines for Babies). We will also  be taking orders for t-shirts for the organization/walk/students (need not be a member/walker!).\n\nThe first 500 people interested in more info/signing up for the walk will get free goodies!
UID:2236-917479@events.umich.edu
URL:https://events.umich.edu/event/2236
CLASS:PUBLIC
STATUS:CONFIRMED
CATEGORIES:
LOCATION:
CONTACT:
END:VEVENT
BEGIN:VEVENT
DTSTAMP:20101111T175734
DTSTART;TZID=America/Detroit:20100402T090000
DTEND;TZID=America/Detroit:20100402T170000
SUMMARY:Exhibition:Scott Hocking Installation
DESCRIPTION:Scott Hocking explores the abandoned buildings and sites of Detroit like a  newfangled scientist. He gathers raw data in his excavations\, and records his  findings using a wholly unique and modern process and method that he intuitively  formulates as he goes along. In his ongoing study of a city so rooted in a dense  past\, and the emotional attachments that accompany it\, Hocking is  uncompromising and unflinching\, and refuses to buy into the hype. His visual  essays chronicling urban markings of modern day ruin are not the stuff of tragedy  or fodder for magazine centerfolds\, but proof of a renaissance in real time.  Hocking's work is fully alive\, and honors the world going past and us moving forward  along with it\, exhilarated by industrial parks returning to fallow land\, and strawberry  bushes growing in the cracked concrete.
UID:1793-915922@events.umich.edu
URL:https://events.umich.edu/event/1793
CLASS:PUBLIC
STATUS:CONFIRMED
CATEGORIES:visual arts
LOCATION:202 S. Thayer - 1010
CONTACT:
END:VEVENT
BEGIN:VEVENT
DTSTAMP:20101111T175600
DTSTART;TZID=America/Detroit:20100402T100000
DTEND;TZID=America/Detroit:20100402T170000
SUMMARY:Exhibition:Stearns Collection of Music
DESCRIPTION:The Stearns Collection at the School of Music\, Theatre & Dance is one of six major collections of musical instruments in North America. The 2\,500-piece collection is internationally known and is a resource for musical and cultural education.
UID:3790-909251@events.umich.edu
URL:https://events.umich.edu/event/3790
CLASS:PUBLIC
STATUS:CONFIRMED
CATEGORIES:
LOCATION:Earl V. Moore Building
CONTACT:
END:VEVENT
BEGIN:VEVENT
DTSTAMP:20101111T175749
DTSTART;TZID=America/Detroit:20100402T100000
DTEND;TZID=America/Detroit:20100402T163000
SUMMARY:Other:The Healing Garden - Savor Nature's Restorative Powers
DESCRIPTION:This exhibit and display in the conservatory at Matthaei Botanical Gardens focuses  on the rejuvenating qualities of nature's scents\, colors\, and forms and on the  benefits of exercise and meditation. Interactive activities during the exhibit include  guided meditation\, aromatherapy station\, color and mood interpretation display\,  and meditative hikes. Also\, displays of bulbs and fresh-air plants. Cost inlcudes  admission to conservatory and above activities. Open Wednesday until 8 pm\; free  admission Wednesdays noon-8pm. Closed Mondays.
UID:1938-916798@events.umich.edu
URL:https://events.umich.edu/event/1938
CLASS:PUBLIC
STATUS:CONFIRMED
CATEGORIES:
LOCATION:
CONTACT:
END:VEVENT
BEGIN:VEVENT
DTSTAMP:20101111T175630
DTSTART;TZID=America/Detroit:20100402T120000
DTEND;TZID=America/Detroit:20100402T130000
SUMMARY:Workshop / Seminar:Food is Fuel: Healthy Eating and Weight Managment
DESCRIPTION:Pride Network Health Awareness Week 2010: Erica Wald will discuss Healthy Eating and Weight Management.
UID:396-911537@events.umich.edu
URL:https://events.umich.edu/event/396
CLASS:PUBLIC
STATUS:CONFIRMED
CATEGORIES:
LOCATION:University Hospitals - Danto Auditorium
CONTACT:
END:VEVENT
BEGIN:VEVENT
DTSTAMP:20101111T175843
DTSTART;TZID=America/Detroit:20100402T121500
DTEND;TZID=America/Detroit:20100402T130000
SUMMARY:Other:Relaxation Workshop Series
DESCRIPTION:Learn stress reduction techniques including deep muscle relaxation\, mental imagery\, mindfulness\, deep breathing and supportive \"self-talk\".
UID:2769-920488@events.umich.edu
URL:https://events.umich.edu/event/2769
CLASS:PUBLIC
STATUS:CONFIRMED
CATEGORIES:
LOCATION:Michigan Union - CAPS Library, Room 3100
CONTACT:
END:VEVENT
BEGIN:VEVENT
DTSTAMP:20100309T152829
DTSTART;TZID=America/Detroit:20100402T170000
DTEND;TZID=America/Detroit:20100402T190000
SUMMARY:Meeting:Asexuality Support Group
DESCRIPTION:Asexuality Support Group 5p-7p\, Spectrum Center\n\nAsexuality is defined as the lack of sexual attraction. An asexual is an individual  who is not sexually attracted to anyone. The Asexual Support Group's main focus is  to provide a safe space for asexuals to come together and talk about issues they  face with others who they identify with. By bringing a group of asexuals and allies  together\, the Asexual Support Group also aims to increase the visibility and  widespread knowledge of asexuality on campus. The group meets every Friday at  the Spectrum Center from 5 to 7 pm\, everyone is welcome- from out asexuals\, to  allies\, to those who are questioning\, and everyone in between.
UID:2685-921014@events.umich.edu
URL:https://events.umich.edu/event/2685
CLASS:PUBLIC
STATUS:CONFIRMED
CATEGORIES:
LOCATION:Michigan Union - 3200
CONTACT:
END:VEVENT
BEGIN:VEVENT
DTSTAMP:20100301T133741
DTSTART;TZID=America/Detroit:20100402T170000
SUMMARY:Conference / Symposium:International Symposium and Performance: Saying Yes to Say No: Art and Culture in Sixties Japan
DESCRIPTION:In conjunction with the exhibition Art\, Anti-Art\, Non-Art\, UMMA will present a two-day international symposium and performance considering experimental art of 1960s Japan in a broader cultural and geographical context. The symposium begins with a keynote lecture delivered by Reiko Tomii\, an independent scholar and leading authority on postwar Japanese art\, followed by a special performance by Ei Arakawa\, a New York-based artist (renowned for his inter-subjective group performances)\, who will reinterpret the legacy of the Japanese avant-garde.\n\nThe second day of the symposium features papers presented by an international host of speakers\, including Hiroko Ikegami (Osaka University\, Japan)\, Ryan Holmberg (University of Southern California)\, Jonathan Hall (Pomona College and Meiji Gakuin University)\, and Midori Yoshimoto (New Jersey City University).\n\nGenerously funded by the Center for Japanese Studies and the Department of History of Art\, this event is co-organized with the University of Michigan Museum of Art and Department of History of Art\, in association with PoNJA-GenKon\, a listserv group dedicated to contemporary Japanese art (www.ponja-genkon.net).\n\nKeynote lecture with Reiko Tomii: Friday\, April 2\, 5 pm\, Helmut Stern Auditorium\; Performance by Ei Arakawa: Friday\, April 2\, 6:30 pm\, Apse
UID:2093-917127@events.umich.edu
URL:https://events.umich.edu/event/2093
CLASS:PUBLIC
STATUS:CONFIRMED
CATEGORIES:
LOCATION:Museum of Art
CONTACT:
END:VEVENT
BEGIN:VEVENT
DTSTAMP:20100402T030002
DTSTART;TZID=America/Detroit:20100402T173000
SUMMARY:Other:Third Dissertation Recital:  Ilya Blinov\, piano
DESCRIPTION:PROGRAM:  Haydn - Sonata in E-flat Major Hob. XVI:49\; Mozart - Concerto in C Major K.467\; Mendelssohn-Bartholdy - 17 Variations Serieuses Op. 54\; Schubert/Prokofiev - Waltzes\; Chopin - Ballade No.1 in G Minor Op. 23
UID:1719-916527@events.umich.edu
URL:https://events.umich.edu/event/1719
CLASS:PUBLIC
STATUS:CONFIRMED
CATEGORIES:music
LOCATION:Earl V. Moore Building - Britton Recital Hall
CONTACT:
END:VEVENT
BEGIN:VEVENT
DTSTAMP:20100402T030002
DTSTART;TZID=America/Detroit:20100402T200000
SUMMARY:Other:Dance BFA Show
DESCRIPTION:
UID:502-911718@events.umich.edu
URL:https://events.umich.edu/event/502
CLASS:PUBLIC
STATUS:CONFIRMED
CATEGORIES:music,dance
LOCATION:Dance Building - Betty Pease Studio Theatre
CONTACT:
END:VEVENT
BEGIN:VEVENT
DTSTAMP:20101111T175834
DTSTART;TZID=America/Detroit:20100402T200000
SUMMARY:Performance:DanceThink Triathlon
DESCRIPTION:
UID:2458-919975@events.umich.edu
URL:https://events.umich.edu/event/2458
CLASS:PUBLIC
STATUS:CONFIRMED
CATEGORIES:music
LOCATION:Michigan League - Ballroom
CONTACT:
END:VEVENT
BEGIN:VEVENT
DTSTAMP:20100402T030002
DTSTART;TZID=America/Detroit:20100402T200000
SUMMARY:Other:Junior Recital:  Nathaniel May\, piano
DESCRIPTION:PROGRAM:  May - Naba's Lullaby (for the tremors in his rem cycles)\; May - The Sudoku Industry (for pixelbrain coagulation)\; May - The Human Plaything (for electromagnets with soul)\; Bernie\, Casey and Pinkard - Sweet Georgia Brown (for climbers of magnolia trees)\; traditional - John Henry (for my fellow Vandalians)
UID:2858-921581@events.umich.edu
URL:https://events.umich.edu/event/2858
CLASS:PUBLIC
STATUS:CONFIRMED
CATEGORIES:music
LOCATION:Stearns Building - Cady Room
CONTACT:
END:VEVENT
BEGIN:VEVENT
DTSTAMP:20100402T030002
DTSTART;TZID=America/Detroit:20100402T200000
SUMMARY:Other:Pre-Candidate Recital:  Ana Maria Otamendi\, collaborative piano
DESCRIPTION:PROGRAM:  Polenc - La FraÃ®cheur et le Feu\; Wolf - From MÃ¶rike Lieder\; Granados - La Maja y el RuiseÃ±or (from the opera Goyescas)\; Rachmaninoff - Various Selections\; Brahms - Sonata for Piano and Violoncello Op. 99 in F Major
UID:1769-916630@events.umich.edu
URL:https://events.umich.edu/event/1769
CLASS:PUBLIC
STATUS:CONFIRMED
CATEGORIES:music
LOCATION:Earl V. Moore Building - Britton Recital Hall
CONTACT:
END:VEVENT
BEGIN:VEVENT
DTSTAMP:20100402T030002
DTSTART;TZID=America/Detroit:20100402T200000
SUMMARY:Other:Trafford Tanzi
DESCRIPTION:Dept. of Theatre & Drama  by Claire LuckhamLondon Daily Mail: “The most splendid\, dynamic piece of raucous\, musical entertainment since The Rocky Horror Picture Show”.  Tickets available at the League Ticket Office 734-764-2538.
UID:702-912378@events.umich.edu
URL:https://events.umich.edu/event/702
CLASS:PUBLIC
STATUS:CONFIRMED
CATEGORIES:theater,music
LOCATION:Walgreen Drama Center - Arthur Miller Theatre
CONTACT:
END:VEVENT
BEGIN:VEVENT
DTSTAMP:20100301T134658
DTSTART;TZID=America/Detroit:20100402T213000
SUMMARY:Film Screening:Film: Herb and Dorothy
DESCRIPTION:Herb and Dorothy tells the extraordinary story of Herbert Vogel\, a postal clerk\, and Dorothy Vogel\, a librarian\, who managed to build one of the most important contemporary art collections in history with very modest means. They collected artworks guided by two rules: the piece had to be affordable\, and it had to be small enough to fit in their one-bedroom Manhattan apartment. Most of those they supported and befriended in this process went on to become world-renowned artists\, including Sol LeWitt\, Christo and Jeanne-Claude\, Richard Tuttle\, and Chuck Close. Directed by Megumi Sasaki.
UID:2716-921053@events.umich.edu
URL:https://events.umich.edu/event/2716
CLASS:PUBLIC
STATUS:CONFIRMED
CATEGORIES:
LOCATION:Museum of Art - Helmut Stern Auditorium
CONTACT:
END:VEVENT
BEGIN:VEVENT
DTSTAMP:20101111T175736
DTSTART;TZID=America/Detroit:20100402T220000
DTEND;TZID=America/Detroit:20100402T020000
SUMMARY:Other:UMix-April 2
DESCRIPTION:Witt's End will be performing at 10 followed by a showing of the movie\, \"Youth in  Revolt.\" There will be an Open Mic Night and Human bowling and golf!! Also\,  karaoke will be all night with a Deli bar coming out at midnight! See you at 10 at  the Union\, Friday\, April 2nd.
UID:1880-916031@events.umich.edu
URL:https://events.umich.edu/event/1880
CLASS:PUBLIC
STATUS:CONFIRMED
CATEGORIES:
LOCATION:Michigan Union
CONTACT:
END:VEVENT
END:VCALENDAR