BEGIN:VCALENDAR
VERSION:2.0
PRODID:-//UM//UM*Events//EN
CALSCALE:GREGORIAN
BEGIN:VTIMEZONE
TZID:America/Detroit
TZURL:http://tzurl.org/zoneinfo/America/Detroit
X-LIC-LOCATION:America/Detroit
BEGIN:DAYLIGHT
TZOFFSETFROM:-0500
TZOFFSETTO:-0400
TZNAME:EDT
DTSTART:20070311T020000
RRULE:FREQ=YEARLY;BYMONTH=3;BYDAY=2SU
END:DAYLIGHT
BEGIN:STANDARD
TZOFFSETFROM:-0400
TZOFFSETTO:-0500
TZNAME:EST
DTSTART:20071104T020000
RRULE:FREQ=YEARLY;BYMONTH=11;BYDAY=1SU
END:STANDARD
END:VTIMEZONE
BEGIN:VEVENT
DTSTAMP:20101111T175629
DTSTART;TZID=America/Detroit:20100403T000000
SUMMARY:Exhibition:Exhibit of Recent Aquisitions
DESCRIPTION:This exhibit includes an extraordinarily wide variety of primary source material collected to support current and  future research.  Among the items on display are:  a watercolor “portrait” of a railroad bridge built in Prague in  1850\, original artwork by local artist Tom Pohrt for a children's book written by Justice Sandra Day O'Connor\, a  diary and photographs from a female UM student who hitchhiked from Ann Arbor to San Francisco in 1923\, a  Spanish text from 1693 for those studying to be soldiers\, and Dante's Divine Comedy with illustrations by  Salvador Dali.  \n\nNew archival collections with samples on display include the papers of film director Robert Altman and writers  Nicholas Delbanco and Richard Tillinghast\, as well as four separate women involved in radical causes such as  Clarence Darrow's 1907 defense of union leaders accused of murder and the ecological costs of technology.   This is the first opportunity for the public to see materials from the Altman Collection\, which is estimated to be  1\,000 linear feet in size and is now being sorted and processed for use.
UID:748-911478@events.umich.edu
URL:https://events.umich.edu/event/748
CLASS:PUBLIC
STATUS:CONFIRMED
CATEGORIES:visual arts
LOCATION:Hatcher Graduate Library - 7th Floor Special Collections Library
CONTACT:
END:VEVENT
BEGIN:VEVENT
DTSTAMP:20101111T175620
DTSTART;TZID=America/Detroit:20100403T000000
SUMMARY:Exhibition:Permanent Exhibits at the Exhibit Museum of Natural History
DESCRIPTION:The Hall of Evolution houses Michigan's largest display of prehistoric life. More than 600 million years of life on Earth are traced through fossils\, models and dioramas. The Michigan Wildlife Gallery has a large collection of native Great Lakes birds\, mammals\, reptiles\, and amphibians\, with taxidermy mounts\, habitat scenes\, and the largest mastodon trackway on display in the world. There are also displays about some of the environmental problems faced in this region today. The Anthropology Displays feature artifacts from human cultures around the world. The Geology Displays on the fourth floor offer a large selection of rocks\, minerals and gems. These displays are updated periodically. For more information go to www.lsa.umich.edu/exhibitmuseum/exhibits/permexhibits or call 734-764-0480.
UID:452-910639@events.umich.edu
URL:https://events.umich.edu/event/452
CLASS:PUBLIC
STATUS:CONFIRMED
CATEGORIES:
LOCATION:Ruthven Museums Building
CONTACT:
END:VEVENT
BEGIN:VEVENT
DTSTAMP:20100318T170051
DTSTART;TZID=America/Detroit:20100403T080000
SUMMARY:Exhibition:Exhibit: The Ghost Army
DESCRIPTION:This exhibit tells the story of the Ghost Army from WWII. In June of 1944\, an  exceptional U.S. Army unit went into action in Normandy. Its weapons included  hundreds of inflatable tanks and a one-of-a-kind collection of sound effects  records\, and it carried out its battlefield mission without firing a shot. The unit was  officially called the 23rd Headquarters Special Troops\, but it was known to its men  as The Ghost Army.\n\nMembers of The Ghost Army adhered to a decades-long gag order\; many never  told their families about their extraordinary military service. Sixty-five years after  this top-secret group went into action\, the University of Michigan's Hatcher Library  will unveil the first public exhibit of this captivating group of materials documenting  The Ghost Army. \n\nThis exhibit is available during library hours. See http://www.lib.umich.edu/hatcher- graduate-library.
UID:1124-913939@events.umich.edu
URL:https://events.umich.edu/event/1124
CLASS:PUBLIC
STATUS:CONFIRMED
CATEGORIES:visual arts
LOCATION:Hatcher Graduate Library - Gallery in Room 100
CONTACT:
END:VEVENT
BEGIN:VEVENT
DTSTAMP:20100329T161307
DTSTART;TZID=America/Detroit:20100403T083000
DTEND;TZID=America/Detroit:20100403T190000
SUMMARY:Exhibition:A History of the Bible from Ancient Papyri to King James
DESCRIPTION:This exhibit\, from the Special Collections Library\, shows a path of documents that  led to the creation of the 1611 King James Version of the Bible – from ancient  Egyptian manuscripts on papyrus to Medieval manuscripts to the printed book.\n\nThe earliest documents on display are Egyptian papyri\, including examples of a  census record from the year 119 and the oldest known copy of part of the New  Testament. Medieval manuscripts document the preservation of the text until the  invention of movable type printing by Gutenberg around 1450. The early printed  Bibles include versions in Latin and Greek\, and several that show the struggles  among various political factions and church reformers to control the translating of  the Scriptures into the language of the people. See the King James Bible of 1611  that became the accepted standard.\n\nFor Audubon Room hours\, see https://www.lib.umich.edu/audubon-room
UID:2220-918669@events.umich.edu
URL:https://events.umich.edu/event/2220
CLASS:PUBLIC
STATUS:CONFIRMED
CATEGORIES:visual arts
LOCATION:Hatcher Graduate Library - Audubon Room/First Floor
CONTACT:
END:VEVENT
BEGIN:VEVENT
DTSTAMP:20090722T143534
DTSTART;TZID=America/Detroit:20100403T090000
DTEND;TZID=America/Detroit:20100403T170000
SUMMARY:Exhibition:Ida: Darwinius masillae
DESCRIPTION:\"Ida\,\" a new exhibit in the Exhibit Museum's Rotunda\, displays a high-resolution cast of an extremely rare  fossil discovered in 1983 near Messel\, Germany\, but only recently made available for study. The fossil has  proven to be a “link” between the prosimian and simian (\"anthropoid\") primate lineages. It has \"advanced\"  front teeth (incisors and canines) and second toes like those of monkeys\, and is broadly representative of what  human primate ancestors may have looked like during the Eocene epoch 47 million years ago.     Ida (prounded \"eeda\") is named after after the daughter of Dr JÃ¸rn Hurum\, the Norwegian vertebrate  paleontologist who secured one section of the fossil from an anonymous owner\, and led the research. Ida was  about eight months old\, or the equivalent of a six-year-old human.     Publication of a paper on the discovery was accompanied by a book\, The Link: Uncovering Our Earliest  Ancestors by Colin Tudge\, and a documentary shown on the History Channel (US)\, BBC One (UK)\,and various  stations in Germany and Norway.     U-M paleontologist Philip Gingerich and U-M anthropologist B. Holly Smith were two members of the \"dream  team\" invited to study Ida. The exhibit will be on display through May 2010.
UID:2124-918274@events.umich.edu
URL:https://events.umich.edu/event/2124
CLASS:PUBLIC
STATUS:CONFIRMED
CATEGORIES:welcome week,visual arts,multicultural
LOCATION:
CONTACT:
END:VEVENT
BEGIN:VEVENT
DTSTAMP:20101111T175608
DTSTART;TZID=America/Detroit:20100403T093000
DTEND;TZID=America/Detroit:20100403T170000
SUMMARY:Conference / Symposium:International Symposium and Performance: Saying Yes to Say No: Art and Culture in Sixties Japan
DESCRIPTION:In conjunction with the exhibition Art\, Anti-Art\, Non-Art\, UMMA will present a two-day international symposium and performance considering experimental art of 1960s Japan in a broader cultural and geographical context. The symposium begins with a keynote lecture delivered by Reiko Tomii\, an independent scholar and leading authority on postwar Japanese art\, followed by a special performance by Ei Arakawa\, a New York-based artist (renowned for his inter-subjective group performances)\, who will reinterpret the legacy of the Japanese avant-garde.\n\nThe second day of the symposium features papers presented by an international host of speakers\, including Hiroko Ikegami (Osaka University\, Japan)\, Ryan Holmberg (University of Southern California)\, Jonathan Hall (Pomona College and Meiji Gakuin University)\, and Midori Yoshimoto (New Jersey City University).\n\nGenerously funded by the Center for Japanese Studies and the Department of History of Art\, this event is co-organized with the University of Michigan Museum of Art and Department of History of Art\, in association with PoNJA-GenKon\, a listserv group dedicated to contemporary Japanese art (www.ponja-genkon.net).\n\nPapers Saturday\, April 3\, 9:30 am–5 pm Helmut Stern Auditorium\n\nAll events are free and open to the public.
UID:348-909815@events.umich.edu
URL:https://events.umich.edu/event/348
CLASS:PUBLIC
STATUS:CONFIRMED
CATEGORIES:visual arts
LOCATION:Museum of Art
CONTACT:
END:VEVENT
BEGIN:VEVENT
DTSTAMP:20101111T175749
DTSTART;TZID=America/Detroit:20100403T100000
DTEND;TZID=America/Detroit:20100403T163000
SUMMARY:Other:The Healing Garden - Savor Nature's Restorative Powers
DESCRIPTION:This exhibit and display in the conservatory at Matthaei Botanical Gardens focuses  on the rejuvenating qualities of nature's scents\, colors\, and forms and on the  benefits of exercise and meditation. Interactive activities during the exhibit include  guided meditation\, aromatherapy station\, color and mood interpretation display\,  and meditative hikes. Also\, displays of bulbs and fresh-air plants. Cost inlcudes  admission to conservatory and above activities. Open Wednesday until 8 pm\; free  admission Wednesdays noon-8pm. Closed Mondays.
UID:1938-916799@events.umich.edu
URL:https://events.umich.edu/event/1938
CLASS:PUBLIC
STATUS:CONFIRMED
CATEGORIES:
LOCATION:
CONTACT:
END:VEVENT
BEGIN:VEVENT
DTSTAMP:20100403T030004
DTSTART;TZID=America/Detroit:20100403T140000
SUMMARY:Other:Masters Recital:  Tim Abbott\, bassoon
DESCRIPTION:PROGRAM:  Dutilleux - Sarabande et Cortège\; Bach - Partita for solo flute in A Minor\, BWV 1013\; Vivaldi - Concerto for Flute\, Oboe\, Violin\, Bassoon and Continuo in G Minor\, RV 107\; Bruns - Kliene Suite No. 1\, Op. 55\; Koechlin - Trois Pièces\, Op. 34\; Montano - Duo Concertante
UID:1992-916915@events.umich.edu
URL:https://events.umich.edu/event/1992
CLASS:PUBLIC
STATUS:CONFIRMED
CATEGORIES:music
LOCATION:Walgreen Drama Center - Stamps Auditorium
CONTACT:
END:VEVENT
BEGIN:VEVENT
DTSTAMP:20100403T030004
DTSTART;TZID=America/Detroit:20100403T150000
SUMMARY:Other:Percussion Ensemble
DESCRIPTION:\"Introductions\"--an eclectic and exciting program of works that bring together musical instruments rarely heard in combination. The program will include \"Moto Perpetuo for Viola and Percussion Ensemble\,\" by Braxton Blake and  \"Pukul II\" by Gareth Farr for Javanese gamelan instruments and Western percussion.  UM saxophone Professor Donald Sinta and UM Oboe Professor Nancy Ambrose King will perform as soloists on Akira Nishimura's \"Voice of the Sun\".  Along with these three pieces\, the Ensemble--under the direction of Joseph Gramley--will perform several other \"Introductions\,\" eventually acquainting a whole series of instruments with the ones in the percussion family. The resulting sounds promise to be unexpected and exhilarating.
UID:2878-921625@events.umich.edu
URL:https://events.umich.edu/event/2878
CLASS:PUBLIC
STATUS:CONFIRMED
CATEGORIES:music
LOCATION:Earl V. Moore Building - McIntosh Theatre
CONTACT:
END:VEVENT
BEGIN:VEVENT
DTSTAMP:20100403T030004
DTSTART;TZID=America/Detroit:20100403T160000
SUMMARY:Other:Senior Recital:  Josh Teitelbaum\, drums
DESCRIPTION:PROGRAM:  Teitelbaum - Motif Max\; Teitelbaum - Earth Count\; Teitelbaum/Kenowitz - NO Groove\; Teitelbaum/Kenowitz - 3 Movements of Paul Klee\; Teitelbaum - Earth Count One\; Shorter/Blakey - One By One\; Teitelbaum - Jump Stop
UID:2898-921652@events.umich.edu
URL:https://events.umich.edu/event/2898
CLASS:PUBLIC
STATUS:CONFIRMED
CATEGORIES:music
LOCATION:Stearns Building - Cady Room
CONTACT:
END:VEVENT
BEGIN:VEVENT
DTSTAMP:20100403T030004
DTSTART;TZID=America/Detroit:20100403T170000
SUMMARY:Other:Third Dissertation Recital: Monique Holmes\, mezzo-soprano
DESCRIPTION:PROGRAM:  Copland - Simple Songs\; Barber - Op. 10\; de Falla - Siete canciones populares espaÃ±olas\; Montsalvatge - Cinco canciones negras\; Swanson - Heavy Songs\; Bonds - The Negro Speaks of Rivers\; Hayes -  Roun' About de Mountain\; Johnson - Witness
UID:1429-915119@events.umich.edu
URL:https://events.umich.edu/event/1429
CLASS:PUBLIC
STATUS:CONFIRMED
CATEGORIES:music
LOCATION:Earl V. Moore Building - Britton Recital Hall
CONTACT:
END:VEVENT
BEGIN:VEVENT
DTSTAMP:20100403T030004
DTSTART;TZID=America/Detroit:20100403T190000
SUMMARY:Other:Senior Recital:  Leah Hodge\, trumpet
DESCRIPTION:PROGRAM:  Honegger - Intrada\; Haydn - Concerto in E-flat\; Hindemith - Sonata\; Stravinsky - Octet
UID:931-912727@events.umich.edu
URL:https://events.umich.edu/event/931
CLASS:PUBLIC
STATUS:CONFIRMED
CATEGORIES:music
LOCATION:Earl V. Moore Building - McIntosh Theatre
CONTACT:
END:VEVENT
BEGIN:VEVENT
DTSTAMP:20100403T030004
DTSTART;TZID=America/Detroit:20100403T200000
SUMMARY:Other:Baroque Chamber Ensemble
DESCRIPTION:Directed by Aaron Berofsky and Edward Parmentier.
UID:1049-913711@events.umich.edu
URL:https://events.umich.edu/event/1049
CLASS:PUBLIC
STATUS:CONFIRMED
CATEGORIES:music
LOCATION:Earl V. Moore Building - Britton Recital Hall
CONTACT:
END:VEVENT
BEGIN:VEVENT
DTSTAMP:20100403T030004
DTSTART;TZID=America/Detroit:20100403T200000
SUMMARY:Other:Dance BFA Show
DESCRIPTION:
UID:1680-916470@events.umich.edu
URL:https://events.umich.edu/event/1680
CLASS:PUBLIC
STATUS:CONFIRMED
CATEGORIES:music,dance
LOCATION:Dance Building - Betty Pease Studio Theatre
CONTACT:
END:VEVENT
BEGIN:VEVENT
DTSTAMP:20100403T030004
DTSTART;TZID=America/Detroit:20100403T200000
SUMMARY:Other:Student Recital:  Brittany Cooper and Christina Garmon
DESCRIPTION:PROGRAM:  Bozza - Sur Les Cimes\; Strauss - Thema und Variationen\, Op. 13\; Cherubini - Sonata No. 2 in F for Horn\; Buyanovsky - Espana\; Gliere - Four Short Pieces Op. 35\; Beethoven - Sextet for 2 Horns and String Quartet in E-flat Major Op. 81b
UID:2724-920441@events.umich.edu
URL:https://events.umich.edu/event/2724
CLASS:PUBLIC
STATUS:CONFIRMED
CATEGORIES:music
LOCATION:Stearns Building - Cady Room
CONTACT:
END:VEVENT
BEGIN:VEVENT
DTSTAMP:20100403T030004
DTSTART;TZID=America/Detroit:20100403T200000
SUMMARY:Other:Trafford Tanzi
DESCRIPTION:Dept. of Theatre & Drama  by Claire LuckhamLondon Daily Mail: “The most splendid\, dynamic piece of raucous\, musical entertainment since The Rocky Horror Picture Show”.  Tickets available at the League Ticket Office 734-764-2538.
UID:1872-916708@events.umich.edu
URL:https://events.umich.edu/event/1872
CLASS:PUBLIC
STATUS:CONFIRMED
CATEGORIES:theater,music
LOCATION:Walgreen Drama Center - Arthur Miller Theatre
CONTACT:
END:VEVENT
END:VCALENDAR