BEGIN:VCALENDAR
VERSION:2.0
PRODID:-//UM//UM*Events//EN
CALSCALE:GREGORIAN
BEGIN:VTIMEZONE
TZID:America/Detroit
TZURL:http://tzurl.org/zoneinfo/America/Detroit
X-LIC-LOCATION:America/Detroit
BEGIN:DAYLIGHT
TZOFFSETFROM:-0500
TZOFFSETTO:-0400
TZNAME:EDT
DTSTART:20070311T020000
RRULE:FREQ=YEARLY;BYMONTH=3;BYDAY=2SU
END:DAYLIGHT
BEGIN:STANDARD
TZOFFSETFROM:-0400
TZOFFSETTO:-0500
TZNAME:EST
DTSTART:20071104T020000
RRULE:FREQ=YEARLY;BYMONTH=11;BYDAY=1SU
END:STANDARD
END:VTIMEZONE
BEGIN:VEVENT
DTSTAMP:20101111T175629
DTSTART;TZID=America/Detroit:20100406T000000
SUMMARY:Exhibition:Exhibit of Recent Aquisitions
DESCRIPTION:This exhibit includes an extraordinarily wide variety of primary source material collected to support current and  future research.  Among the items on display are:  a watercolor “portrait” of a railroad bridge built in Prague in  1850\, original artwork by local artist Tom Pohrt for a children's book written by Justice Sandra Day O'Connor\, a  diary and photographs from a female UM student who hitchhiked from Ann Arbor to San Francisco in 1923\, a  Spanish text from 1693 for those studying to be soldiers\, and Dante's Divine Comedy with illustrations by  Salvador Dali.  \n\nNew archival collections with samples on display include the papers of film director Robert Altman and writers  Nicholas Delbanco and Richard Tillinghast\, as well as four separate women involved in radical causes such as  Clarence Darrow's 1907 defense of union leaders accused of murder and the ecological costs of technology.   This is the first opportunity for the public to see materials from the Altman Collection\, which is estimated to be  1\,000 linear feet in size and is now being sorted and processed for use.
UID:748-911481@events.umich.edu
URL:https://events.umich.edu/event/748
CLASS:PUBLIC
STATUS:CONFIRMED
CATEGORIES:visual arts
LOCATION:Hatcher Graduate Library - 7th Floor Special Collections Library
CONTACT:
END:VEVENT
BEGIN:VEVENT
DTSTAMP:20101111T175620
DTSTART;TZID=America/Detroit:20100406T000000
SUMMARY:Exhibition:Permanent Exhibits at the Exhibit Museum of Natural History
DESCRIPTION:The Hall of Evolution houses Michigan's largest display of prehistoric life. More than 600 million years of life on Earth are traced through fossils\, models and dioramas. The Michigan Wildlife Gallery has a large collection of native Great Lakes birds\, mammals\, reptiles\, and amphibians\, with taxidermy mounts\, habitat scenes\, and the largest mastodon trackway on display in the world. There are also displays about some of the environmental problems faced in this region today. The Anthropology Displays feature artifacts from human cultures around the world. The Geology Displays on the fourth floor offer a large selection of rocks\, minerals and gems. These displays are updated periodically. For more information go to www.lsa.umich.edu/exhibitmuseum/exhibits/permexhibits or call 734-764-0480.
UID:452-910642@events.umich.edu
URL:https://events.umich.edu/event/452
CLASS:PUBLIC
STATUS:CONFIRMED
CATEGORIES:
LOCATION:Ruthven Museums Building
CONTACT:
END:VEVENT
BEGIN:VEVENT
DTSTAMP:20100318T170051
DTSTART;TZID=America/Detroit:20100406T080000
SUMMARY:Exhibition:Exhibit: The Ghost Army
DESCRIPTION:This exhibit tells the story of the Ghost Army from WWII. In June of 1944\, an  exceptional U.S. Army unit went into action in Normandy. Its weapons included  hundreds of inflatable tanks and a one-of-a-kind collection of sound effects  records\, and it carried out its battlefield mission without firing a shot. The unit was  officially called the 23rd Headquarters Special Troops\, but it was known to its men  as The Ghost Army.\n\nMembers of The Ghost Army adhered to a decades-long gag order\; many never  told their families about their extraordinary military service. Sixty-five years after  this top-secret group went into action\, the University of Michigan's Hatcher Library  will unveil the first public exhibit of this captivating group of materials documenting  The Ghost Army. \n\nThis exhibit is available during library hours. See http://www.lib.umich.edu/hatcher- graduate-library.
UID:1124-913942@events.umich.edu
URL:https://events.umich.edu/event/1124
CLASS:PUBLIC
STATUS:CONFIRMED
CATEGORIES:visual arts
LOCATION:Hatcher Graduate Library - Gallery in Room 100
CONTACT:
END:VEVENT
BEGIN:VEVENT
DTSTAMP:20101111T175759
DTSTART;TZID=America/Detroit:20100406T080000
DTEND;TZID=America/Detroit:20100406T170000
SUMMARY:Exhibition:History of Dentistry exhibits at the Sindecuse Museum of Dentistry
DESCRIPTION:Exhibits at the Sindecuse Museum of Dentistry include Dental Operatories of the 1860s to 1930s\, St. Apollonia-Patron Saint of Dentistry and more. Call 763-0767 or go to www.dent.umich.edu/museum for more information.
UID:3856-917521@events.umich.edu
URL:https://events.umich.edu/event/3856
CLASS:PUBLIC
STATUS:CONFIRMED
CATEGORIES:
LOCATION:Dental & W.K. Kellogg Institute
CONTACT:
END:VEVENT
BEGIN:VEVENT
DTSTAMP:20090722T143534
DTSTART;TZID=America/Detroit:20100406T090000
DTEND;TZID=America/Detroit:20100406T170000
SUMMARY:Exhibition:Ida: Darwinius masillae
DESCRIPTION:\"Ida\,\" a new exhibit in the Exhibit Museum's Rotunda\, displays a high-resolution cast of an extremely rare  fossil discovered in 1983 near Messel\, Germany\, but only recently made available for study. The fossil has  proven to be a “link” between the prosimian and simian (\"anthropoid\") primate lineages. It has \"advanced\"  front teeth (incisors and canines) and second toes like those of monkeys\, and is broadly representative of what  human primate ancestors may have looked like during the Eocene epoch 47 million years ago.     Ida (prounded \"eeda\") is named after after the daughter of Dr JÃ¸rn Hurum\, the Norwegian vertebrate  paleontologist who secured one section of the fossil from an anonymous owner\, and led the research. Ida was  about eight months old\, or the equivalent of a six-year-old human.     Publication of a paper on the discovery was accompanied by a book\, The Link: Uncovering Our Earliest  Ancestors by Colin Tudge\, and a documentary shown on the History Channel (US)\, BBC One (UK)\,and various  stations in Germany and Norway.     U-M paleontologist Philip Gingerich and U-M anthropologist B. Holly Smith were two members of the \"dream  team\" invited to study Ida. The exhibit will be on display through May 2010.
UID:2124-918277@events.umich.edu
URL:https://events.umich.edu/event/2124
CLASS:PUBLIC
STATUS:CONFIRMED
CATEGORIES:welcome week,visual arts,multicultural
LOCATION:
CONTACT:
END:VEVENT
BEGIN:VEVENT
DTSTAMP:20101111T175734
DTSTART;TZID=America/Detroit:20100406T090000
DTEND;TZID=America/Detroit:20100406T170000
SUMMARY:Exhibition:Scott Hocking Installation
DESCRIPTION:Scott Hocking explores the abandoned buildings and sites of Detroit like a  newfangled scientist. He gathers raw data in his excavations\, and records his  findings using a wholly unique and modern process and method that he intuitively  formulates as he goes along. In his ongoing study of a city so rooted in a dense  past\, and the emotional attachments that accompany it\, Hocking is  uncompromising and unflinching\, and refuses to buy into the hype. His visual  essays chronicling urban markings of modern day ruin are not the stuff of tragedy  or fodder for magazine centerfolds\, but proof of a renaissance in real time.  Hocking's work is fully alive\, and honors the world going past and us moving forward  along with it\, exhilarated by industrial parks returning to fallow land\, and strawberry  bushes growing in the cracked concrete.
UID:1793-915924@events.umich.edu
URL:https://events.umich.edu/event/1793
CLASS:PUBLIC
STATUS:CONFIRMED
CATEGORIES:visual arts
LOCATION:202 S. Thayer - 1010
CONTACT:
END:VEVENT
BEGIN:VEVENT
DTSTAMP:20101111T175600
DTSTART;TZID=America/Detroit:20100406T100000
DTEND;TZID=America/Detroit:20100406T170000
SUMMARY:Exhibition:Stearns Collection of Music
DESCRIPTION:The Stearns Collection at the School of Music\, Theatre & Dance is one of six major collections of musical instruments in North America. The 2\,500-piece collection is internationally known and is a resource for musical and cultural education.
UID:3790-909253@events.umich.edu
URL:https://events.umich.edu/event/3790
CLASS:PUBLIC
STATUS:CONFIRMED
CATEGORIES:
LOCATION:Earl V. Moore Building
CONTACT:
END:VEVENT
BEGIN:VEVENT
DTSTAMP:20101111T175748
DTSTART;TZID=America/Detroit:20100406T113000
DTEND;TZID=America/Detroit:20100406T130000
SUMMARY:Other:My Brothers: A Lunch Series for Self-Identified Men of Color
DESCRIPTION:Invited Speakers will facilitate rousing\, animated discussions on topics that impact men of color.
UID:1920-916748@events.umich.edu
URL:https://events.umich.edu/event/1920
CLASS:PUBLIC
STATUS:CONFIRMED
CATEGORIES:
LOCATION:Michigan Union - MSA Chambers
CONTACT:
END:VEVENT
BEGIN:VEVENT
DTSTAMP:20101111T175603
DTSTART;TZID=America/Detroit:20100406T113000
DTEND;TZID=America/Detroit:20100406T131500
SUMMARY:Lecture / Discussion:myBROTHERS: a lunch series for self-identified men of color
DESCRIPTION:What does it mean to be a man of color at Michigan?\n\nThrough reflections and discussion on this complex question\, you will have a chance to  express your experiences here at UofM and build connections with other brothers on  campus. MY BROTHERS is a safe space open to all self-identified men of color at the  University of Michigan. \n\nLunch will be served followed by a speaker and small group discussion.
UID:193-909473@events.umich.edu
URL:https://events.umich.edu/event/193
CLASS:PUBLIC
STATUS:CONFIRMED
CATEGORIES:multicultural,social justice
LOCATION:Michigan Union - MSA Chambers
CONTACT:
END:VEVENT
BEGIN:VEVENT
DTSTAMP:20101111T175725
DTSTART;TZID=America/Detroit:20100406T121500
DTEND;TZID=America/Detroit:20100406T130000
SUMMARY:Other:Introduction to Mindfulness Meditation
DESCRIPTION:Practice different forms of meditation and explore various mindfulness concepts and techniques to help quiet your busy mind.
UID:1498-915196@events.umich.edu
URL:https://events.umich.edu/event/1498
CLASS:PUBLIC
STATUS:CONFIRMED
CATEGORIES:
LOCATION:Michigan Union - CAPS Library, Room 3100
CONTACT:
END:VEVENT
BEGIN:VEVENT
DTSTAMP:20091102T150050
DTSTART;TZID=America/Detroit:20100406T153000
DTEND;TZID=America/Detroit:20100406T173000
SUMMARY:Lecture / Discussion:Department of Astronomy Colloquia Series
DESCRIPTION:A weekly lecture series with Astronomy or Astrophysics related topics. Please see  department website for featured speaker and lecture topic. There will be a brief  reception with light refreshments preceding the lecture in room 845 Dennison from  3:30-4:00 pm.
UID:1689-915677@events.umich.edu
URL:https://events.umich.edu/event/1689
CLASS:PUBLIC
STATUS:CONFIRMED
CATEGORIES:
LOCATION:Weiser Hall - 807
CONTACT:
END:VEVENT
BEGIN:VEVENT
DTSTAMP:20100331T111236
DTSTART;TZID=America/Detroit:20100406T190000
SUMMARY:Film Screening:M-agination Films presents \"Kind of a Big Deal\"
DESCRIPTION:M-agination Films presents their annual showcase of student films\, \"Kind of a Big  Deal\" 2010\, at the Michigan Theater. Admission is FREE\, so come and support U of  M film-making and enjoy a night out at the movies.\n\nM-agination Films is a student-run film group at the Uinversity of Michigan. In  production\, students are responsible for writing\, directing\, camera work\, editing\, and  everything in between. For more information visit www.m-agination.com.
UID:1994-916918@events.umich.edu
URL:https://events.umich.edu/event/1994
CLASS:PUBLIC
STATUS:CONFIRMED
CATEGORIES:film,visual arts
LOCATION:
CONTACT:
END:VEVENT
BEGIN:VEVENT
DTSTAMP:20101111T175854
DTSTART;TZID=America/Detroit:20100406T190000
SUMMARY:Other:Speak Out
DESCRIPTION:Join us for a quiet\, intimate evening discussing our experiences with sexual assault.  Our mission is to provide a safe and supportive space for survivors to talk about  how sexual assualt has affected each of us. After we have shared our stories\, we will  discuss sexual assault in a broader sense\, including the effects on our campus and  community. Survivors and survivor supporters are welcome. Feel free to bring your  favorite blanket\, pillow\, snuggie\, or onesie!
UID:2746-921126@events.umich.edu
URL:https://events.umich.edu/event/2746
CLASS:PUBLIC
STATUS:CONFIRMED
CATEGORIES:social justice
LOCATION:Michigan League - Kalamazoo Room
CONTACT:
END:VEVENT
BEGIN:VEVENT
DTSTAMP:20100406T030002
DTSTART;TZID=America/Detroit:20100406T190000
SUMMARY:Other:Third Dissertation Recital:  Brian Tanner\, tenor
DESCRIPTION:PROGRAM:  Gomes - Quem Sabe?\; Nepomuceno - Trovas\; Braga - Ã“ KinimbÃ¡\; Braga - Engenho Novo\; Vila-Lobos - Seréstas\; Ovalle = Vai\, AzulÃ£o\; Guarnieri - Vai\, AzulÃ£o\; Guarnieri - TrÃªs CanÃ§Ãµes Brasileiras
UID:2086-917121@events.umich.edu
URL:https://events.umich.edu/event/2086
CLASS:PUBLIC
STATUS:CONFIRMED
CATEGORIES:music
LOCATION:
CONTACT:
END:VEVENT
BEGIN:VEVENT
DTSTAMP:20100406T030002
DTSTART;TZID=America/Detroit:20100406T193000
SUMMARY:Other:Opera Studio:  Die Zauberflote
DESCRIPTION:Opera Studio students present a mini version of Mozart's Die ZauberflÃ¶te in German (with supertitles)  Robert Swedberg\, Director\; Kathryn Grayson Music Director.  Presented as a Green Opera in collaboration with Theater\, Conducting\, German\, Engineering\, and Environmental Science Departments.
UID:1587-915426@events.umich.edu
URL:https://events.umich.edu/event/1587
CLASS:PUBLIC
STATUS:CONFIRMED
CATEGORIES:music
LOCATION:Walgreen Drama Center - Stamps Auditorium
CONTACT:
END:VEVENT
BEGIN:VEVENT
DTSTAMP:20100329T030004
DTSTART;TZID=America/Detroit:20100406T193000
SUMMARY:Other:Saxophone Studio Recital
DESCRIPTION:Students of Professor Donald Sinta.
UID:2291-919491@events.umich.edu
URL:https://events.umich.edu/event/2291
CLASS:PUBLIC
STATUS:CONFIRMED
CATEGORIES:music
LOCATION:Earl V. Moore Building - Britton Recital Hall
CONTACT:
END:VEVENT
BEGIN:VEVENT
DTSTAMP:20100406T030002
DTSTART;TZID=America/Detroit:20100406T200000
SUMMARY:Other:Arts Chorale
DESCRIPTION:PROGRAM:  Bach - Cantata 198\, Trauer-Ode \;  Thompson - The Last Words of David\; Shank - David’s Lamentation\; Billings - I am the rose of Sharon\; Young - How sweet the moonlight sleeps\; Arr. Morrow - Got a mind to do right\; American Folksong - Shenandoah\; Copland - Ching-a-ring Chaw\; Stroope - I am not yours					Z. Randall Stroope (b. 1953)
UID:2838-920606@events.umich.edu
URL:https://events.umich.edu/event/2838
CLASS:PUBLIC
STATUS:CONFIRMED
CATEGORIES:music
LOCATION:Hill Auditorium -  
CONTACT:
END:VEVENT
BEGIN:VEVENT
DTSTAMP:20091211T154016
DTSTART;TZID=America/Detroit:20100406T200000
DTEND;TZID=America/Detroit:20100406T230000
SUMMARY:Other:Artsbreak
DESCRIPTION:Artsbreak is a FREE arts and crafts night every Tuesday from 8pm-11pm in the MUG (Michigan Union Ground floor). Examples of crafts we've done in the past are: painting pumpkins\, decorating small canvas tote bags\, wire photo holders\, polar fleece scarves\, and jewelry making. For the most updated craft list or to suggest a craft\, email artsbreak-uuap@umich.edu to get on our weekly listserv\, or check out UUAP's website.
UID:1256-914144@events.umich.edu
URL:https://events.umich.edu/event/1256
CLASS:PUBLIC
STATUS:CONFIRMED
CATEGORIES:visual arts
LOCATION:Michigan Union - MUG
CONTACT:
END:VEVENT
END:VCALENDAR