BEGIN:VCALENDAR
VERSION:2.0
PRODID:-//UM//UM*Events//EN
CALSCALE:GREGORIAN
BEGIN:VTIMEZONE
TZID:America/Detroit
TZURL:http://tzurl.org/zoneinfo/America/Detroit
X-LIC-LOCATION:America/Detroit
BEGIN:DAYLIGHT
TZOFFSETFROM:-0500
TZOFFSETTO:-0400
TZNAME:EDT
DTSTART:20070311T020000
RRULE:FREQ=YEARLY;BYMONTH=3;BYDAY=2SU
END:DAYLIGHT
BEGIN:STANDARD
TZOFFSETFROM:-0400
TZOFFSETTO:-0500
TZNAME:EST
DTSTART:20071104T020000
RRULE:FREQ=YEARLY;BYMONTH=11;BYDAY=1SU
END:STANDARD
END:VTIMEZONE
BEGIN:VEVENT
DTSTAMP:20101111T175629
DTSTART;TZID=America/Detroit:20100407T000000
SUMMARY:Exhibition:Exhibit of Recent Aquisitions
DESCRIPTION:This exhibit includes an extraordinarily wide variety of primary source material collected to support current and  future research.  Among the items on display are:  a watercolor “portrait” of a railroad bridge built in Prague in  1850\, original artwork by local artist Tom Pohrt for a children's book written by Justice Sandra Day O'Connor\, a  diary and photographs from a female UM student who hitchhiked from Ann Arbor to San Francisco in 1923\, a  Spanish text from 1693 for those studying to be soldiers\, and Dante's Divine Comedy with illustrations by  Salvador Dali.  \n\nNew archival collections with samples on display include the papers of film director Robert Altman and writers  Nicholas Delbanco and Richard Tillinghast\, as well as four separate women involved in radical causes such as  Clarence Darrow's 1907 defense of union leaders accused of murder and the ecological costs of technology.   This is the first opportunity for the public to see materials from the Altman Collection\, which is estimated to be  1\,000 linear feet in size and is now being sorted and processed for use.
UID:748-911482@events.umich.edu
URL:https://events.umich.edu/event/748
CLASS:PUBLIC
STATUS:CONFIRMED
CATEGORIES:visual arts
LOCATION:Hatcher Graduate Library - 7th Floor Special Collections Library
CONTACT:
END:VEVENT
BEGIN:VEVENT
DTSTAMP:20101111T175620
DTSTART;TZID=America/Detroit:20100407T000000
SUMMARY:Exhibition:Permanent Exhibits at the Exhibit Museum of Natural History
DESCRIPTION:The Hall of Evolution houses Michigan's largest display of prehistoric life. More than 600 million years of life on Earth are traced through fossils\, models and dioramas. The Michigan Wildlife Gallery has a large collection of native Great Lakes birds\, mammals\, reptiles\, and amphibians\, with taxidermy mounts\, habitat scenes\, and the largest mastodon trackway on display in the world. There are also displays about some of the environmental problems faced in this region today. The Anthropology Displays feature artifacts from human cultures around the world. The Geology Displays on the fourth floor offer a large selection of rocks\, minerals and gems. These displays are updated periodically. For more information go to www.lsa.umich.edu/exhibitmuseum/exhibits/permexhibits or call 734-764-0480.
UID:452-910643@events.umich.edu
URL:https://events.umich.edu/event/452
CLASS:PUBLIC
STATUS:CONFIRMED
CATEGORIES:
LOCATION:Ruthven Museums Building
CONTACT:
END:VEVENT
BEGIN:VEVENT
DTSTAMP:20100318T170051
DTSTART;TZID=America/Detroit:20100407T080000
SUMMARY:Exhibition:Exhibit: The Ghost Army
DESCRIPTION:This exhibit tells the story of the Ghost Army from WWII. In June of 1944\, an  exceptional U.S. Army unit went into action in Normandy. Its weapons included  hundreds of inflatable tanks and a one-of-a-kind collection of sound effects  records\, and it carried out its battlefield mission without firing a shot. The unit was  officially called the 23rd Headquarters Special Troops\, but it was known to its men  as The Ghost Army.\n\nMembers of The Ghost Army adhered to a decades-long gag order\; many never  told their families about their extraordinary military service. Sixty-five years after  this top-secret group went into action\, the University of Michigan's Hatcher Library  will unveil the first public exhibit of this captivating group of materials documenting  The Ghost Army. \n\nThis exhibit is available during library hours. See http://www.lib.umich.edu/hatcher- graduate-library.
UID:1124-913943@events.umich.edu
URL:https://events.umich.edu/event/1124
CLASS:PUBLIC
STATUS:CONFIRMED
CATEGORIES:visual arts
LOCATION:Hatcher Graduate Library - Gallery in Room 100
CONTACT:
END:VEVENT
BEGIN:VEVENT
DTSTAMP:20101111T175759
DTSTART;TZID=America/Detroit:20100407T080000
DTEND;TZID=America/Detroit:20100407T170000
SUMMARY:Exhibition:History of Dentistry exhibits at the Sindecuse Museum of Dentistry
DESCRIPTION:Exhibits at the Sindecuse Museum of Dentistry include Dental Operatories of the 1860s to 1930s\, St. Apollonia-Patron Saint of Dentistry and more. Call 763-0767 or go to www.dent.umich.edu/museum for more information.
UID:3856-917522@events.umich.edu
URL:https://events.umich.edu/event/3856
CLASS:PUBLIC
STATUS:CONFIRMED
CATEGORIES:
LOCATION:Dental & W.K. Kellogg Institute
CONTACT:
END:VEVENT
BEGIN:VEVENT
DTSTAMP:20100204T083520
DTSTART;TZID=America/Detroit:20100407T083000
DTEND;TZID=America/Detroit:20100407T160000
SUMMARY:Conference / Symposium:2010 M-CASTL Transportation Research & Education Conference
DESCRIPTION:2010 Transportation Research and Education Conference\n\nSave the Date:\n\nM-CASTL is now planning the 2010 Transportation Research and Education Conference. \n\nWednesday\, April 7\, 2010\n\nMichigan League ~ University of Michigan\, 911 N. University Ave.\, Ann Arbor\, MI 48109-1265\n\nProposed topics for the conference include: ”¢ Gender differences ”¢ Access & disparities ”¢ Law enforcement ”¢ Emergency department interventions ”¢ Medical conditions ”¢ Commercial Driver Issues ”¢ Mobility management and transitions ”¢ Technology
UID:874-913327@events.umich.edu
URL:https://events.umich.edu/event/874
CLASS:PUBLIC
STATUS:CONFIRMED
CATEGORIES:
LOCATION:Michigan League - The Ballroom
CONTACT:
END:VEVENT
BEGIN:VEVENT
DTSTAMP:20100407T151643
DTSTART;TZID=America/Detroit:20100407T083000
DTEND;TZID=America/Detroit:20100407T190000
SUMMARY:Exhibition:Exhibit: Treasures of the Library
DESCRIPTION:Step into the Audubon Room in the University of Michigan's Hatcher Graduate  Library to view a collection of library treasures.  The collection includes:  a 2250- year-old papyrus document from ancient Philadelphia\, reporting the loss of a  donkey\; a 400-year-old manuscript by Galileo\, in which he explains the usefulness  of the telescope\; and the first book purchased by the Board of Regents\, \"The Birds of  America\,\" published in 1838\, with original drawings by John James Audubon. \n\nHours: Mon-Fri 8:30am-7pm\, Sat 10am-6pm\,  Sun 1-7pm.
UID:2332-918891@events.umich.edu
URL:https://events.umich.edu/event/2332
CLASS:PUBLIC
STATUS:CONFIRMED
CATEGORIES:visual arts,literary arts
LOCATION:Hatcher Graduate Library - Audubon Room
CONTACT:
END:VEVENT
BEGIN:VEVENT
DTSTAMP:20090722T143534
DTSTART;TZID=America/Detroit:20100407T090000
DTEND;TZID=America/Detroit:20100407T170000
SUMMARY:Exhibition:Ida: Darwinius masillae
DESCRIPTION:\"Ida\,\" a new exhibit in the Exhibit Museum's Rotunda\, displays a high-resolution cast of an extremely rare  fossil discovered in 1983 near Messel\, Germany\, but only recently made available for study. The fossil has  proven to be a “link” between the prosimian and simian (\"anthropoid\") primate lineages. It has \"advanced\"  front teeth (incisors and canines) and second toes like those of monkeys\, and is broadly representative of what  human primate ancestors may have looked like during the Eocene epoch 47 million years ago.     Ida (prounded \"eeda\") is named after after the daughter of Dr JÃ¸rn Hurum\, the Norwegian vertebrate  paleontologist who secured one section of the fossil from an anonymous owner\, and led the research. Ida was  about eight months old\, or the equivalent of a six-year-old human.     Publication of a paper on the discovery was accompanied by a book\, The Link: Uncovering Our Earliest  Ancestors by Colin Tudge\, and a documentary shown on the History Channel (US)\, BBC One (UK)\,and various  stations in Germany and Norway.     U-M paleontologist Philip Gingerich and U-M anthropologist B. Holly Smith were two members of the \"dream  team\" invited to study Ida. The exhibit will be on display through May 2010.
UID:2124-918278@events.umich.edu
URL:https://events.umich.edu/event/2124
CLASS:PUBLIC
STATUS:CONFIRMED
CATEGORIES:visual arts,multicultural,welcome week
LOCATION:
CONTACT:
END:VEVENT
BEGIN:VEVENT
DTSTAMP:20101111T175734
DTSTART;TZID=America/Detroit:20100407T090000
DTEND;TZID=America/Detroit:20100407T170000
SUMMARY:Exhibition:Scott Hocking Installation
DESCRIPTION:Scott Hocking explores the abandoned buildings and sites of Detroit like a  newfangled scientist. He gathers raw data in his excavations\, and records his  findings using a wholly unique and modern process and method that he intuitively  formulates as he goes along. In his ongoing study of a city so rooted in a dense  past\, and the emotional attachments that accompany it\, Hocking is  uncompromising and unflinching\, and refuses to buy into the hype. His visual  essays chronicling urban markings of modern day ruin are not the stuff of tragedy  or fodder for magazine centerfolds\, but proof of a renaissance in real time.  Hocking's work is fully alive\, and honors the world going past and us moving forward  along with it\, exhilarated by industrial parks returning to fallow land\, and strawberry  bushes growing in the cracked concrete.
UID:1793-915925@events.umich.edu
URL:https://events.umich.edu/event/1793
CLASS:PUBLIC
STATUS:CONFIRMED
CATEGORIES:visual arts
LOCATION:202 S. Thayer - 1010
CONTACT:
END:VEVENT
BEGIN:VEVENT
DTSTAMP:20101111T175600
DTSTART;TZID=America/Detroit:20100407T100000
DTEND;TZID=America/Detroit:20100407T170000
SUMMARY:Exhibition:Stearns Collection of Music
DESCRIPTION:The Stearns Collection at the School of Music\, Theatre & Dance is one of six major collections of musical instruments in North America. The 2\,500-piece collection is internationally known and is a resource for musical and cultural education.
UID:3790-909254@events.umich.edu
URL:https://events.umich.edu/event/3790
CLASS:PUBLIC
STATUS:CONFIRMED
CATEGORIES:
LOCATION:Earl V. Moore Building
CONTACT:
END:VEVENT
BEGIN:VEVENT
DTSTAMP:20101111T175838
DTSTART;TZID=America/Detroit:20100407T113000
DTEND;TZID=America/Detroit:20100407T133000
SUMMARY:Lecture / Discussion:TRANSlating Experience: A brownbag educational and discussion series
DESCRIPTION:TRANSlating Experience is not Transgender 101. This series is meant to critically  engage communities around issues of the transgender experience at the University  of Michigan. TRANSlating Experience is not just about being trans\, it's about living\,  learning\, working\, dating and celebrating being TRANS. A light lunch will be served.\n\nNote: the above uses “TRANS” to encapsulate identities inclusive of those who  identify and/or present as gender-queer\, gender non-normative\, gender variant\,  non-gendered or transgender. While all are welcome to this series\, please note that  some topics may require existing comfort\, knowledge and fellowship with and  around the trans-identified community. This series is not intended to be an  introduction to the trans-identified community. This series is not intended to serve  as counseling or other types of therapy.\n\n**Go to Spectrum Center's website for a full list of the topics to be presented by  date**
UID:2590-920228@events.umich.edu
URL:https://events.umich.edu/event/2590
CLASS:PUBLIC
STATUS:CONFIRMED
CATEGORIES:
LOCATION:Michigan Union - 3909 (MSA Chambers)
CONTACT:
END:VEVENT
BEGIN:VEVENT
DTSTAMP:20100406T030002
DTSTART;TZID=America/Detroit:20100407T121500
SUMMARY:Other:Brown Bag Organ Series: John Beresford
DESCRIPTION:Thirty minutes of organ solo music performed by local musicians.  Bring lunch or purchase at the Crossroads Cafe.
UID:2193-917444@events.umich.edu
URL:https://events.umich.edu/event/2193
CLASS:PUBLIC
STATUS:CONFIRMED
CATEGORIES:music
LOCATION:School of Public Health Bldg I and Crossroads and Tower - Community Lounge (Room 1680)
CONTACT:
END:VEVENT
BEGIN:VEVENT
DTSTAMP:20100329T102459
DTSTART;TZID=America/Detroit:20100407T180000
DTEND;TZID=America/Detroit:20100407T073000
SUMMARY:Fair / Festival:InFocus-Don't Ask Don't Tell Policy
DESCRIPTION:What's your opinion? Heard about the Don't Ask Don't Tell Policy and controversies  surrounding it but want to know more? Want to develop an informed view on the  subject? Join us for a student panel discussion on the Don't Ask Don't Tell Policy. The  participating panelists will be from a variety of campus organizations and student  groups including the  Spectrum Center\, College Socialists\, College Democrats\, and the ICC diversity  committee. Following the panel will be a showing of clips from the film\, \"Ask Not.\"\n\nSee you Wednesday\, April 7th at 6 in the Vandenberg room of the Michigan  League!
UID:2324-918846@events.umich.edu
URL:https://events.umich.edu/event/2324
CLASS:PUBLIC
STATUS:CONFIRMED
CATEGORIES:social justice
LOCATION:Michigan League - Vandenberg Room
CONTACT:
END:VEVENT
BEGIN:VEVENT
DTSTAMP:20101111T175623
DTSTART;TZID=America/Detroit:20100407T190000
DTEND;TZID=America/Detroit:20100407T210000
SUMMARY:Lecture / Discussion:Eating Well on a Shrinking Planet: A Local Table Class and Earth Day Event
DESCRIPTION:All invited to hear U-M Professor Catherine Badgley talk about the challenges of  feeding the human population equitably and sustainably now and into the future– which can only happen with changes in the American diet. Discussion will focus on  how to effect such changes. Free\, but registration is requested. Event located at  Matthaei Botanical Gardens\, 1800 N. Dixboro Rd. 734-647-7600.
UID:518-911034@events.umich.edu
URL:https://events.umich.edu/event/518
CLASS:PUBLIC
STATUS:CONFIRMED
CATEGORIES:
LOCATION:
CONTACT:
END:VEVENT
BEGIN:VEVENT
DTSTAMP:20100310T113004
DTSTART;TZID=America/Detroit:20100407T193000
DTEND;TZID=America/Detroit:20100407T223000
SUMMARY:Performance:An evening with Broken Social Scene
DESCRIPTION:In anticipation of their new album\, \"FORGIVENESS ROCK RECORD\,\" to be released on May 4\, 2010...\n\nUNIVERSITY UNIONS ARTS AND PROGRAMS & NEW BEAT HAPPENING PRESENT:\n\nAn evening with BROKEN SOCIAL SCENE\n\nWednesday\, April 7\, 2010 – Show @ 7:30pm The Michigan Theater 603 East Liberty Street Ann Arbor\, MI 48104\n\n***STUDENT-ONLY PRE-SALE STARTS MONDAY\, MARCH 8 @ MUTO!$16.50/$19.50 Limit 2 tickets per valid UMID. Pre-sale ends Saturday\, March 13.***\n\nTICKETS ON SALE TO THE PUBLIC STARTING MARCH 14 @ TICKETMASTER.COM & ALL TICKETMASTER OUTLETS (Monday\, March 15 @ MUTO) General Public: $27 premium seating (best 500 seats)\, $24 general seating\n\nTicketmaster: http://www.ticketmaster.com/event/08004459C82E5613?artistid=881789&majorcatid=10001&minorcatid=1\n\nIn anticipation of their new album to be released May 4\, 2010\, Broken Social Scene will be performing a concert in Ann Arbor\, MI brought to you by University of Michigan student-run concert committee New Beat Happening. Broken Social Scene\, renowned indie rock group from Toronto\, has performed at festivals and shows around the world. The band's core members\, Kevin Drew and Brendan Canning\, have performed and recorded alongside other rising stars including Leslie Feist\, Metric's Emily Haines\, and Stars' Evan Cranley. Their experimental sound and structure is orchestrated for a large number of instrumentals\, and is occasionally described as ”˜baroque pop.' In their live performances\, Broken Social Scene exhibits the intricate production and powerful delivery that characterizes their music. This performance will feature at least eight members of the group who are still regularly touring. For more information about Broken Social Scene\, please visit http://www.brokensocialscene.ca/\n\nNew Beat Happening is a student-run concert committee sponsored by University Unions Arts & Programs (UUAP) at the University of Michigan\, and has brought past shows to campus such as: COMMON (featuring Slum Village)\, The Walkmen\, Girl Talk\, The Hard Lessons\, and Tally Hall. For more information about UUAP\, please visit http://www.umich.edu/~uuap/
UID:2377-919706@events.umich.edu
URL:https://events.umich.edu/event/2377
CLASS:PUBLIC
STATUS:CONFIRMED
CATEGORIES:music
LOCATION:
CONTACT:
END:VEVENT
BEGIN:VEVENT
DTSTAMP:20101111T175735
DTSTART;TZID=America/Detroit:20100407T193000
SUMMARY:Performance:Broken Social Scene
DESCRIPTION:New Beat Happening is proud to present Broken Social Scene\, and Indie-Rock Band about to release a new album in May\, 2010.\n\nRecording of any kind is prohibited.
UID:1833-915993@events.umich.edu
URL:https://events.umich.edu/event/1833
CLASS:PUBLIC
STATUS:CONFIRMED
CATEGORIES:music
LOCATION:
CONTACT:
END:VEVENT
BEGIN:VEVENT
DTSTAMP:20101111T175637
DTSTART;TZID=America/Detroit:20100407T193000
DTEND;TZID=America/Detroit:20100407T220000
SUMMARY:Film Screening:Filim Connections: “La vendedora de rosas”
DESCRIPTION:UUAP and Sigma Lambda Gamma are collaborating to bring you the film \"La vendedora de rosas\". Refreshments will be provided\, and a discussion will follow the film screening.\n\n\"La vendedora de rosas\" is a Colombian film about the life of children who are forced to live their lives on the streets.  They sell flowers to people who have the money\, as this is there only way of supporting themselves.  The film shows the violations  of basic human rights.  By showing this film we hope to bring awareness to the community on campus to these sufferings in hopes that it will draw support and open-mindedness when it comes to  human rights issues.
UID:611-912174@events.umich.edu
URL:https://events.umich.edu/event/611
CLASS:PUBLIC
STATUS:CONFIRMED
CATEGORIES:social justice
LOCATION:Pierpont Commons - Boulevard Room
CONTACT:
END:VEVENT
BEGIN:VEVENT
DTSTAMP:20101111T175611
DTSTART;TZID=America/Detroit:20100407T193000
SUMMARY:Other:Opera Workshop:  A Midsummer Night s Dream
DESCRIPTION:by Benjamin Britten.  Joshua Major\, director\; Timothy Cheek\, music director.
UID:97-909980@events.umich.edu
URL:https://events.umich.edu/event/97
CLASS:PUBLIC
STATUS:CONFIRMED
CATEGORIES:music
LOCATION:Earl V. Moore Building - McIntosh Theatre
CONTACT:
END:VEVENT
BEGIN:VEVENT
DTSTAMP:20100406T030002
DTSTART;TZID=America/Detroit:20100407T200000
SUMMARY:Other:Jazz Lab Ensemble
DESCRIPTION:Dennis Wilson\, director.
UID:1984-916908@events.umich.edu
URL:https://events.umich.edu/event/1984
CLASS:PUBLIC
STATUS:CONFIRMED
CATEGORIES:music
LOCATION:Rackham Graduate School (Horace H.) - Auditorium
CONTACT:
END:VEVENT
BEGIN:VEVENT
DTSTAMP:20100406T030002
DTSTART;TZID=America/Detroit:20100407T200000
SUMMARY:Other:Pre-candidate Recital:  Chi-Hui Lai
DESCRIPTION:PROGRAM:  FrancÅ“ur - Cello Sonata in E Major\; Fauré - Violin Sonata in A Major\, Op. 13\; Messiaen - Thème et variations pour violon et piano\; Ravel - Tzigane\; Poulenc - Trio for piano\, oboe\, and bassoon\, Op. 43
UID:158-910078@events.umich.edu
URL:https://events.umich.edu/event/158
CLASS:PUBLIC
STATUS:CONFIRMED
CATEGORIES:music
LOCATION:Walgreen Drama Center - Stamps Auditorium
CONTACT:
END:VEVENT
BEGIN:VEVENT
DTSTAMP:20101111T175615
DTSTART;TZID=America/Detroit:20100407T200000
DTEND;TZID=America/Detroit:20100407T211500
SUMMARY:Lecture / Discussion:Race\, Religion\, & Politics in America
DESCRIPTION:Dr. Mark Noll\, professor of history at Notre Dame and a leading historian on the history  of religion in America\, explores the complex interplay between race and religion in the  American political scene.
UID:277-910236@events.umich.edu
URL:https://events.umich.edu/event/277
CLASS:PUBLIC
STATUS:CONFIRMED
CATEGORIES:social justice,multicultural
LOCATION:Rackham Graduate School (Horace H.) - Amphitheater
CONTACT:
END:VEVENT
END:VCALENDAR