BEGIN:VCALENDAR
VERSION:2.0
PRODID:-//UM//UM*Events//EN
CALSCALE:GREGORIAN
BEGIN:VTIMEZONE
TZID:America/Detroit
TZURL:http://tzurl.org/zoneinfo/America/Detroit
X-LIC-LOCATION:America/Detroit
BEGIN:DAYLIGHT
TZOFFSETFROM:-0500
TZOFFSETTO:-0400
TZNAME:EDT
DTSTART:20070311T020000
RRULE:FREQ=YEARLY;BYMONTH=3;BYDAY=2SU
END:DAYLIGHT
BEGIN:STANDARD
TZOFFSETFROM:-0400
TZOFFSETTO:-0500
TZNAME:EST
DTSTART:20071104T020000
RRULE:FREQ=YEARLY;BYMONTH=11;BYDAY=1SU
END:STANDARD
END:VTIMEZONE
BEGIN:VEVENT
DTSTAMP:20101111T175629
DTSTART;TZID=America/Detroit:20100408T000000
SUMMARY:Exhibition:Exhibit of Recent Aquisitions
DESCRIPTION:This exhibit includes an extraordinarily wide variety of primary source material collected to support current and  future research.  Among the items on display are:  a watercolor “portrait” of a railroad bridge built in Prague in  1850\, original artwork by local artist Tom Pohrt for a children's book written by Justice Sandra Day O'Connor\, a  diary and photographs from a female UM student who hitchhiked from Ann Arbor to San Francisco in 1923\, a  Spanish text from 1693 for those studying to be soldiers\, and Dante's Divine Comedy with illustrations by  Salvador Dali.  \n\nNew archival collections with samples on display include the papers of film director Robert Altman and writers  Nicholas Delbanco and Richard Tillinghast\, as well as four separate women involved in radical causes such as  Clarence Darrow's 1907 defense of union leaders accused of murder and the ecological costs of technology.   This is the first opportunity for the public to see materials from the Altman Collection\, which is estimated to be  1\,000 linear feet in size and is now being sorted and processed for use.
UID:748-911483@events.umich.edu
URL:https://events.umich.edu/event/748
CLASS:PUBLIC
STATUS:CONFIRMED
CATEGORIES:visual arts
LOCATION:Hatcher Graduate Library - 7th Floor Special Collections Library
CONTACT:
END:VEVENT
BEGIN:VEVENT
DTSTAMP:20101111T175620
DTSTART;TZID=America/Detroit:20100408T000000
SUMMARY:Exhibition:Permanent Exhibits at the Exhibit Museum of Natural History
DESCRIPTION:The Hall of Evolution houses Michigan's largest display of prehistoric life. More than 600 million years of life on Earth are traced through fossils\, models and dioramas. The Michigan Wildlife Gallery has a large collection of native Great Lakes birds\, mammals\, reptiles\, and amphibians\, with taxidermy mounts\, habitat scenes\, and the largest mastodon trackway on display in the world. There are also displays about some of the environmental problems faced in this region today. The Anthropology Displays feature artifacts from human cultures around the world. The Geology Displays on the fourth floor offer a large selection of rocks\, minerals and gems. These displays are updated periodically. For more information go to www.lsa.umich.edu/exhibitmuseum/exhibits/permexhibits or call 734-764-0480.
UID:452-910644@events.umich.edu
URL:https://events.umich.edu/event/452
CLASS:PUBLIC
STATUS:CONFIRMED
CATEGORIES:
LOCATION:Ruthven Museums Building
CONTACT:
END:VEVENT
BEGIN:VEVENT
DTSTAMP:20100405T150735
DTSTART;TZID=America/Detroit:20100408T000000
SUMMARY:Exhibition:The EXhibit: Journey to Freedom
DESCRIPTION:Hillel Arts' first annual art show\, The EXhibit: Journey to Freedom\, is a student run  exhibit featuring the work of students with a variety of ethnic and religious  backgrounds. It is related to the holiday of Passover (the Jewish Exodus from  Egypt)\, as well as overaching themes of spring and change\, encompassed into the  title \"Journey to Freedom.\"  The artwork in this exhibit allows students to delve into  their own personal journeys as well as the journeys of others.   Come to Hillel at 8:00 pm on Thursday\, April 8 for an evening of dessert\, sparkling  cider\, entertainment and most importantly...ART! Prizes and awards will be  announced at 9:00 pm. **Attire: Formal**
UID:1924-917868@events.umich.edu
URL:https://events.umich.edu/event/1924
CLASS:PUBLIC
STATUS:CONFIRMED
CATEGORIES:visual arts,multicultural,literary arts
LOCATION:
CONTACT:
END:VEVENT
BEGIN:VEVENT
DTSTAMP:20100318T170051
DTSTART;TZID=America/Detroit:20100408T080000
SUMMARY:Exhibition:Exhibit: The Ghost Army
DESCRIPTION:This exhibit tells the story of the Ghost Army from WWII. In June of 1944\, an  exceptional U.S. Army unit went into action in Normandy. Its weapons included  hundreds of inflatable tanks and a one-of-a-kind collection of sound effects  records\, and it carried out its battlefield mission without firing a shot. The unit was  officially called the 23rd Headquarters Special Troops\, but it was known to its men  as The Ghost Army.\n\nMembers of The Ghost Army adhered to a decades-long gag order\; many never  told their families about their extraordinary military service. Sixty-five years after  this top-secret group went into action\, the University of Michigan's Hatcher Library  will unveil the first public exhibit of this captivating group of materials documenting  The Ghost Army. \n\nThis exhibit is available during library hours. See http://www.lib.umich.edu/hatcher- graduate-library.
UID:1124-913944@events.umich.edu
URL:https://events.umich.edu/event/1124
CLASS:PUBLIC
STATUS:CONFIRMED
CATEGORIES:visual arts
LOCATION:Hatcher Graduate Library - Gallery in Room 100
CONTACT:
END:VEVENT
BEGIN:VEVENT
DTSTAMP:20101111T175759
DTSTART;TZID=America/Detroit:20100408T080000
DTEND;TZID=America/Detroit:20100408T170000
SUMMARY:Exhibition:History of Dentistry exhibits at the Sindecuse Museum of Dentistry
DESCRIPTION:Exhibits at the Sindecuse Museum of Dentistry include Dental Operatories of the 1860s to 1930s\, St. Apollonia-Patron Saint of Dentistry and more. Call 763-0767 or go to www.dent.umich.edu/museum for more information.
UID:3856-917523@events.umich.edu
URL:https://events.umich.edu/event/3856
CLASS:PUBLIC
STATUS:CONFIRMED
CATEGORIES:
LOCATION:Dental & W.K. Kellogg Institute
CONTACT:
END:VEVENT
BEGIN:VEVENT
DTSTAMP:20100407T151643
DTSTART;TZID=America/Detroit:20100408T083000
DTEND;TZID=America/Detroit:20100408T190000
SUMMARY:Exhibition:Exhibit: Treasures of the Library
DESCRIPTION:Step into the Audubon Room in the University of Michigan's Hatcher Graduate  Library to view a collection of library treasures.  The collection includes:  a 2250- year-old papyrus document from ancient Philadelphia\, reporting the loss of a  donkey\; a 400-year-old manuscript by Galileo\, in which he explains the usefulness  of the telescope\; and the first book purchased by the Board of Regents\, \"The Birds of  America\,\" published in 1838\, with original drawings by John James Audubon. \n\nHours: Mon-Fri 8:30am-7pm\, Sat 10am-6pm\,  Sun 1-7pm.
UID:2332-918892@events.umich.edu
URL:https://events.umich.edu/event/2332
CLASS:PUBLIC
STATUS:CONFIRMED
CATEGORIES:visual arts,literary arts
LOCATION:Hatcher Graduate Library - Audubon Room
CONTACT:
END:VEVENT
BEGIN:VEVENT
DTSTAMP:20090722T143534
DTSTART;TZID=America/Detroit:20100408T090000
DTEND;TZID=America/Detroit:20100408T170000
SUMMARY:Exhibition:Ida: Darwinius masillae
DESCRIPTION:\"Ida\,\" a new exhibit in the Exhibit Museum's Rotunda\, displays a high-resolution cast of an extremely rare  fossil discovered in 1983 near Messel\, Germany\, but only recently made available for study. The fossil has  proven to be a “link” between the prosimian and simian (\"anthropoid\") primate lineages. It has \"advanced\"  front teeth (incisors and canines) and second toes like those of monkeys\, and is broadly representative of what  human primate ancestors may have looked like during the Eocene epoch 47 million years ago.     Ida (prounded \"eeda\") is named after after the daughter of Dr JÃ¸rn Hurum\, the Norwegian vertebrate  paleontologist who secured one section of the fossil from an anonymous owner\, and led the research. Ida was  about eight months old\, or the equivalent of a six-year-old human.     Publication of a paper on the discovery was accompanied by a book\, The Link: Uncovering Our Earliest  Ancestors by Colin Tudge\, and a documentary shown on the History Channel (US)\, BBC One (UK)\,and various  stations in Germany and Norway.     U-M paleontologist Philip Gingerich and U-M anthropologist B. Holly Smith were two members of the \"dream  team\" invited to study Ida. The exhibit will be on display through May 2010.
UID:2124-918279@events.umich.edu
URL:https://events.umich.edu/event/2124
CLASS:PUBLIC
STATUS:CONFIRMED
CATEGORIES:multicultural,visual arts,welcome week
LOCATION:
CONTACT:
END:VEVENT
BEGIN:VEVENT
DTSTAMP:20101111T175734
DTSTART;TZID=America/Detroit:20100408T090000
DTEND;TZID=America/Detroit:20100408T170000
SUMMARY:Exhibition:Scott Hocking Installation
DESCRIPTION:Scott Hocking explores the abandoned buildings and sites of Detroit like a  newfangled scientist. He gathers raw data in his excavations\, and records his  findings using a wholly unique and modern process and method that he intuitively  formulates as he goes along. In his ongoing study of a city so rooted in a dense  past\, and the emotional attachments that accompany it\, Hocking is  uncompromising and unflinching\, and refuses to buy into the hype. His visual  essays chronicling urban markings of modern day ruin are not the stuff of tragedy  or fodder for magazine centerfolds\, but proof of a renaissance in real time.  Hocking's work is fully alive\, and honors the world going past and us moving forward  along with it\, exhilarated by industrial parks returning to fallow land\, and strawberry  bushes growing in the cracked concrete.
UID:1793-915926@events.umich.edu
URL:https://events.umich.edu/event/1793
CLASS:PUBLIC
STATUS:CONFIRMED
CATEGORIES:visual arts
LOCATION:202 S. Thayer - 1010
CONTACT:
END:VEVENT
BEGIN:VEVENT
DTSTAMP:20101111T175600
DTSTART;TZID=America/Detroit:20100408T100000
DTEND;TZID=America/Detroit:20100408T170000
SUMMARY:Exhibition:Stearns Collection of Music
DESCRIPTION:The Stearns Collection at the School of Music\, Theatre & Dance is one of six major collections of musical instruments in North America. The 2\,500-piece collection is internationally known and is a resource for musical and cultural education.
UID:3790-909255@events.umich.edu
URL:https://events.umich.edu/event/3790
CLASS:PUBLIC
STATUS:CONFIRMED
CATEGORIES:
LOCATION:Earl V. Moore Building
CONTACT:
END:VEVENT
BEGIN:VEVENT
DTSTAMP:20101111T175820
DTSTART;TZID=America/Detroit:20100408T110000
DTEND;TZID=America/Detroit:20100408T130000
SUMMARY:Performance:Beats N' Eats
DESCRIPTION:Enjoy the relaxing sounds of talented U-M student performers over lunch! Beats N' Eats takes place every Thursday from 11a-1p in either the Union MUG or League Underground. Interested in performance opportunities? Contact University Unions Arts & Programs at uuap@umich.edu or 734-763-3202.
UID:2470-919147@events.umich.edu
URL:https://events.umich.edu/event/2470
CLASS:PUBLIC
STATUS:CONFIRMED
CATEGORIES:music
LOCATION:Michigan Union - MUG
CONTACT:
END:VEVENT
BEGIN:VEVENT
DTSTAMP:20101111T175616
DTSTART;TZID=America/Detroit:20100408T113000
DTEND;TZID=America/Detroit:20100408T130000
SUMMARY:Other:Nourish YourSELF 2010! A Lunch Series for Women of Color
DESCRIPTION:Invited speakers facilitate rousing\, animated discussions on topics that impact women of color.
UID:307-910254@events.umich.edu
URL:https://events.umich.edu/event/307
CLASS:PUBLIC
STATUS:CONFIRMED
CATEGORIES:
LOCATION:Michigan Union - MSA Chambers
CONTACT:
END:VEVENT
BEGIN:VEVENT
DTSTAMP:20100309T105619
DTSTART;TZID=America/Detroit:20100408T131500
DTEND;TZID=America/Detroit:20100408T144500
SUMMARY:Other:Coping Skills for College Students
DESCRIPTION:
UID:841-912598@events.umich.edu
URL:https://events.umich.edu/event/841
CLASS:PUBLIC
STATUS:CONFIRMED
CATEGORIES:
LOCATION:Michigan Union - CAPS, Room 3100
CONTACT:
END:VEVENT
BEGIN:VEVENT
DTSTAMP:20101111T175704
DTSTART;TZID=America/Detroit:20100408T160000
DTEND;TZID=America/Detroit:20100408T173000
SUMMARY:Lecture / Discussion:Conversations on Europe.
DESCRIPTION:The Center for European Studies-European Union Center (CES-EUC) at the University of Michigan is pleased to announce that Cem Ã–zdemir\, current Chairman of the German Green Party (Alliance '90/The Greens)\, will be coming to Ann Arbor on April 8 to discuss the current state of German politics and his party's vision for the future. Ã–zdemir will address changes in the German political landscape in recent years and the Green Party's strategies for bringing progressive and environmentally-focused politics to power.\n\nÃ–zdemir joined the Green Party in 1981 and was elected to the German Parliament in 1994\, becoming the first Member of Parliament of Turkish descent. Ã–zdemir served two consecutive legislative terms from 1994-2002\; during this time\, he was the Speaker on Internal Affairs for the Green Parliamentary Group\, where he was a strong advocate of reforms to the German citizenship laws passed in 2000.\n\nÃ–zdemir was an elected member of the European Parliament from 2004-09\, during which time he was a member of the Committee on Foreign Affairs and a proxy member of the Committee on Civil Liberties\, Justice and Home Affairs. Ã–zdemir was the European Parliament's rapporteur on Central Asia and second Vice-Chair of the Permanent ad-hoc Delegation for Relations with Iraq. He also served as Vice President of the European Parliament's CIA Committee\, a temporary committee dealing with alleged CIA activities in Europe whose final report was adopted by the European Parliament in February 2007.
UID:1130-913978@events.umich.edu
URL:https://events.umich.edu/event/1130
CLASS:PUBLIC
STATUS:CONFIRMED
CATEGORIES:
LOCATION:School of Social Work Building - 1636
CONTACT:
END:VEVENT
BEGIN:VEVENT
DTSTAMP:20101111T175628
DTSTART;TZID=America/Detroit:20100408T160000
DTEND;TZID=America/Detroit:20100408T180000
SUMMARY:Lecture / Discussion:Pride and Prejudice or Shpendazo Miinwaa Kchizheyaa
DESCRIPTION:\"PRIDE AND PREJUDICE OR SHPENDAZO MIINWAA KCHIZHEYAA.\" As part of the  Department of Comparative Literature's Year of Translation Series
UID:741-911396@events.umich.edu
URL:https://events.umich.edu/event/741
CLASS:PUBLIC
STATUS:CONFIRMED
CATEGORIES:
LOCATION:Angell Hall - Aud B
CONTACT:
END:VEVENT
BEGIN:VEVENT
DTSTAMP:20101111T175628
DTSTART;TZID=America/Detroit:20100408T180000
DTEND;TZID=America/Detroit:20100408T193000
SUMMARY:Lecture / Discussion:Lecture: Congresswoman Marcy Kaptur
DESCRIPTION:Congresswoman Marcy Kaptur\, M.U.P.(TCAUP)'74\, represents Northern Ohio's Ninth  Congressional District\, and is currently serving her fourteenth term in the U.S.  House of Representatives. She is the senior-most woman in the 111th Congress. \n\nCongresswoman Kaptur maintains a seat on the House Appropriations Committee.  She has risen in seniority and now serves as the senior Democratic woman on the  committee. She secured appointments to three important subcommittees:  Agriculture\, the leading industry in her state\; Transportation/Housing and Urban  Development (HUD)\; and Defense. Congresswoman Kaptur was also appointed by  party leadership to serve on the prestigious House Budget Committee and the  House Oversight and Government Reform Committee for the 111th Congress.  Kaptur is the first Democratic woman to serve on the Defense subcommittee. During  her legislative career\, she has also served on the banking and veterans affairs  committees.\n\nCongresswoman Kaptur address issues of economic development\, transportation\,  housing\, urban development\, social justice\, the environment and health care.\n\nThis event is part of the Urban and Regional Planning Preview Weekend and is  open to all current and prospective students.
UID:715-911367@events.umich.edu
URL:https://events.umich.edu/event/715
CLASS:PUBLIC
STATUS:CONFIRMED
CATEGORIES:
LOCATION:Art and Architecture Building - A+A Aud (Rm 2104)
CONTACT:
END:VEVENT
BEGIN:VEVENT
DTSTAMP:20101111T175619
DTSTART;TZID=America/Detroit:20100408T183000
DTEND;TZID=America/Detroit:20100408T203000
SUMMARY:Workshop / Seminar:MOLS Map and Compass Clinic
DESCRIPTION:Orienteering – just a fancy way of saying land navigation – is not as specialized or difficult a skill  as it is often made out to be. You too can be a wilderness navigation pro with just a little bit of  instruction with map and compass. Join Outdoor Adventures for the “map and compass” MOLS  clinic to see for yourself!
UID:424-910528@events.umich.edu
URL:https://events.umich.edu/event/424
CLASS:PUBLIC
STATUS:CONFIRMED
CATEGORIES:
LOCATION:
CONTACT:
END:VEVENT
BEGIN:VEVENT
DTSTAMP:20101111T175657
DTSTART;TZID=America/Detroit:20100408T190000
DTEND;TZID=America/Detroit:20100408T210000
SUMMARY:Rally / Mass Meeting:Take Back the Night Rally and March
DESCRIPTION:Take a stand against sexual assault! Join us at the University of Michigan Diag for  an inspirational rally starting at 7pm including music by L'Renee\, slam poetry by  Ber-Henda\, a keynote speech by Jennifer Pasquale\, and facts about sexual assault  from our TBTN crew! You will also get to know our emcee for the event\, Allyson from  96.3 radio!\n\nImmediately following the Rally (around 8pm) we will march the streets with signs\,  drums\, and megaphones to tell the Ann Arbor community that women and men  have a right to feel safe on our streets and in our homes. Our route goes through  downtown Ann Arbor\, and we end up back at the University of Michigan Diag for a  candlelight vigil.\n\nSurvivors\, survivor supporters\, women\, men\, children\, students\, community  members\, EVERYONE is invited!
UID:919-913481@events.umich.edu
URL:https://events.umich.edu/event/919
CLASS:PUBLIC
STATUS:CONFIRMED
CATEGORIES:social justice
LOCATION:
CONTACT:
END:VEVENT
BEGIN:VEVENT
DTSTAMP:20100408T121047
DTSTART;TZID=America/Detroit:20100408T193000
SUMMARY:Other:Opera Studio:  Die Zauberflote
DESCRIPTION:Opera Studio students present a mini version of Mozart's Die ZauberflÃ¶te in German (with supertitles)  Robert Swedberg\, Director\; Kathryn Goodson\, Music Director.  Presented as a Green Opera in collaboration with Theater\, Conducting\, German\, Engineering\, and Environmental Science Departments.
UID:2670-920307@events.umich.edu
URL:https://events.umich.edu/event/2670
CLASS:PUBLIC
STATUS:CONFIRMED
CATEGORIES:music
LOCATION:Walgreen Drama Center - Stamps Auditorium
CONTACT:
END:VEVENT
BEGIN:VEVENT
DTSTAMP:20100408T121047
DTSTART;TZID=America/Detroit:20100408T193000
SUMMARY:Other:Trafford Tanzi
DESCRIPTION:Dept. of Theatre & Drama  by Claire LuckhamLondon Daily Mail: “The most splendid\, dynamic piece of raucous\, musical entertainment since The Rocky Horror Picture Show”.  Tickets available at the League Ticket Office 734-764-2538.
UID:331-909777@events.umich.edu
URL:https://events.umich.edu/event/331
CLASS:PUBLIC
STATUS:CONFIRMED
CATEGORIES:music,theater
LOCATION:Walgreen Drama Center - Arthur Miller Theatre
CONTACT:
END:VEVENT
BEGIN:VEVENT
DTSTAMP:20100408T121047
DTSTART;TZID=America/Detroit:20100408T200000
SUMMARY:Other:Contemporary Directions Ensemble
DESCRIPTION:\"Songs and the Night\" Christopher James Lees\, conductor.  This final CDE program juxtaposes contemporary music inspired by song with a dynamically provocative look at music situated in the evening hours.  PROGRAM: Gubaidalina - Quasi Hoquetus\; Bermel - Tied Shifts\; Kernis - Before Sleep and Dreams\; Rush - L'extase d'Amour\; Ades - Living Toys
UID:814-912559@events.umich.edu
URL:https://events.umich.edu/event/814
CLASS:PUBLIC
STATUS:CONFIRMED
CATEGORIES:music
LOCATION:Earl V. Moore Building - Britton Recital Hall
CONTACT:
END:VEVENT
BEGIN:VEVENT
DTSTAMP:20101111T175621
DTSTART;TZID=America/Detroit:20100408T200000
SUMMARY:Performance:Patty Larkin
DESCRIPTION:
UID:471-910901@events.umich.edu
URL:https://events.umich.edu/event/471
CLASS:PUBLIC
STATUS:CONFIRMED
CATEGORIES:music
LOCATION:
CONTACT:
END:VEVENT
BEGIN:VEVENT
DTSTAMP:20101111T175658
DTSTART;TZID=America/Detroit:20100408T200000
DTEND;TZID=America/Detroit:20100408T220000
SUMMARY:Exhibition:The EXhibit: Journey to Freedom
DESCRIPTION:Hillel Arts' first annual art show\, The EXhibit: Journey to Freedom\, is a student run  exhibit featuring the work of students with a variety of ethnic and religious  backgrounds. It is related to the holiday of Passover (the Jewish Exodus from  Egypt)\, as well as overaching themes of spring and change\, encompassed into the  title \"Journey to Freedom.\"  The artwork in this exhibit allows students to delve into  their own personal journeys as well as the journeys of others.   Come to Hillel at 8:00 pm on Thursday\, April 8 for an evening of dessert\, sparkling  cider\, entertainment and most importantly...ART! Prizes and awards will be  announced at 9:00 pm. **Attire: Formal**
UID:951-913507@events.umich.edu
URL:https://events.umich.edu/event/951
CLASS:PUBLIC
STATUS:CONFIRMED
CATEGORIES:visual arts,multicultural,literary arts
LOCATION:
CONTACT:
END:VEVENT
BEGIN:VEVENT
DTSTAMP:20101111T175754
DTSTART;TZID=America/Detroit:20100408T203000
DTEND;TZID=America/Detroit:20100408T223000
SUMMARY:Performance:Jazz Jam
DESCRIPTION:Ever wish you could study to the soothing sounds of a live jazz quartet? Now you can! Come grab a seat\, a FREE cup of coffee\, and enjoy the jammin' sounds of student musicians from the Department of Jazz and Contemporary Improvisation. Play an instrument or sing? This is also an open jam session! Bring your instrument(s) of choice and sign up to get your turn playing alongside the house band--you call the tunes!
UID:2128-917191@events.umich.edu
URL:https://events.umich.edu/event/2128
CLASS:PUBLIC
STATUS:CONFIRMED
CATEGORIES:music
LOCATION:Pierpont Commons - Leonardo&#039;s (across from Quizno&#039;s)
CONTACT:
END:VEVENT
END:VCALENDAR