BEGIN:VCALENDAR
VERSION:2.0
PRODID:-//UM//UM*Events//EN
CALSCALE:GREGORIAN
BEGIN:VTIMEZONE
TZID:America/Detroit
TZURL:http://tzurl.org/zoneinfo/America/Detroit
X-LIC-LOCATION:America/Detroit
BEGIN:DAYLIGHT
TZOFFSETFROM:-0500
TZOFFSETTO:-0400
TZNAME:EDT
DTSTART:20070311T020000
RRULE:FREQ=YEARLY;BYMONTH=3;BYDAY=2SU
END:DAYLIGHT
BEGIN:STANDARD
TZOFFSETFROM:-0400
TZOFFSETTO:-0500
TZNAME:EST
DTSTART:20071104T020000
RRULE:FREQ=YEARLY;BYMONTH=11;BYDAY=1SU
END:STANDARD
END:VTIMEZONE
BEGIN:VEVENT
DTSTAMP:20101111T175629
DTSTART;TZID=America/Detroit:20100409T000000
SUMMARY:Exhibition:Exhibit of Recent Aquisitions
DESCRIPTION:This exhibit includes an extraordinarily wide variety of primary source material collected to support current and  future research.  Among the items on display are:  a watercolor “portrait” of a railroad bridge built in Prague in  1850\, original artwork by local artist Tom Pohrt for a children's book written by Justice Sandra Day O'Connor\, a  diary and photographs from a female UM student who hitchhiked from Ann Arbor to San Francisco in 1923\, a  Spanish text from 1693 for those studying to be soldiers\, and Dante's Divine Comedy with illustrations by  Salvador Dali.  \n\nNew archival collections with samples on display include the papers of film director Robert Altman and writers  Nicholas Delbanco and Richard Tillinghast\, as well as four separate women involved in radical causes such as  Clarence Darrow's 1907 defense of union leaders accused of murder and the ecological costs of technology.   This is the first opportunity for the public to see materials from the Altman Collection\, which is estimated to be  1\,000 linear feet in size and is now being sorted and processed for use.
UID:748-911484@events.umich.edu
URL:https://events.umich.edu/event/748
CLASS:PUBLIC
STATUS:CONFIRMED
CATEGORIES:visual arts
LOCATION:Hatcher Graduate Library - 7th Floor Special Collections Library
CONTACT:
END:VEVENT
BEGIN:VEVENT
DTSTAMP:20101111T175620
DTSTART;TZID=America/Detroit:20100409T000000
SUMMARY:Exhibition:Permanent Exhibits at the Exhibit Museum of Natural History
DESCRIPTION:The Hall of Evolution houses Michigan's largest display of prehistoric life. More than 600 million years of life on Earth are traced through fossils\, models and dioramas. The Michigan Wildlife Gallery has a large collection of native Great Lakes birds\, mammals\, reptiles\, and amphibians\, with taxidermy mounts\, habitat scenes\, and the largest mastodon trackway on display in the world. There are also displays about some of the environmental problems faced in this region today. The Anthropology Displays feature artifacts from human cultures around the world. The Geology Displays on the fourth floor offer a large selection of rocks\, minerals and gems. These displays are updated periodically. For more information go to www.lsa.umich.edu/exhibitmuseum/exhibits/permexhibits or call 734-764-0480.
UID:452-910645@events.umich.edu
URL:https://events.umich.edu/event/452
CLASS:PUBLIC
STATUS:CONFIRMED
CATEGORIES:
LOCATION:Ruthven Museums Building
CONTACT:
END:VEVENT
BEGIN:VEVENT
DTSTAMP:20100318T170051
DTSTART;TZID=America/Detroit:20100409T080000
SUMMARY:Exhibition:Exhibit: The Ghost Army
DESCRIPTION:This exhibit tells the story of the Ghost Army from WWII. In June of 1944\, an  exceptional U.S. Army unit went into action in Normandy. Its weapons included  hundreds of inflatable tanks and a one-of-a-kind collection of sound effects  records\, and it carried out its battlefield mission without firing a shot. The unit was  officially called the 23rd Headquarters Special Troops\, but it was known to its men  as The Ghost Army.\n\nMembers of The Ghost Army adhered to a decades-long gag order\; many never  told their families about their extraordinary military service. Sixty-five years after  this top-secret group went into action\, the University of Michigan's Hatcher Library  will unveil the first public exhibit of this captivating group of materials documenting  The Ghost Army. \n\nThis exhibit is available during library hours. See http://www.lib.umich.edu/hatcher- graduate-library.
UID:1124-913945@events.umich.edu
URL:https://events.umich.edu/event/1124
CLASS:PUBLIC
STATUS:CONFIRMED
CATEGORIES:visual arts
LOCATION:Hatcher Graduate Library - Gallery in Room 100
CONTACT:
END:VEVENT
BEGIN:VEVENT
DTSTAMP:20101111T175759
DTSTART;TZID=America/Detroit:20100409T080000
DTEND;TZID=America/Detroit:20100409T170000
SUMMARY:Exhibition:History of Dentistry exhibits at the Sindecuse Museum of Dentistry
DESCRIPTION:Exhibits at the Sindecuse Museum of Dentistry include Dental Operatories of the 1860s to 1930s\, St. Apollonia-Patron Saint of Dentistry and more. Call 763-0767 or go to www.dent.umich.edu/museum for more information.
UID:3856-917524@events.umich.edu
URL:https://events.umich.edu/event/3856
CLASS:PUBLIC
STATUS:CONFIRMED
CATEGORIES:
LOCATION:Dental & W.K. Kellogg Institute
CONTACT:
END:VEVENT
BEGIN:VEVENT
DTSTAMP:20100407T151643
DTSTART;TZID=America/Detroit:20100409T083000
DTEND;TZID=America/Detroit:20100409T190000
SUMMARY:Exhibition:Exhibit: Treasures of the Library
DESCRIPTION:Step into the Audubon Room in the University of Michigan's Hatcher Graduate  Library to view a collection of library treasures.  The collection includes:  a 2250- year-old papyrus document from ancient Philadelphia\, reporting the loss of a  donkey\; a 400-year-old manuscript by Galileo\, in which he explains the usefulness  of the telescope\; and the first book purchased by the Board of Regents\, \"The Birds of  America\,\" published in 1838\, with original drawings by John James Audubon. \n\nHours: Mon-Fri 8:30am-7pm\, Sat 10am-6pm\,  Sun 1-7pm.
UID:2332-918893@events.umich.edu
URL:https://events.umich.edu/event/2332
CLASS:PUBLIC
STATUS:CONFIRMED
CATEGORIES:visual arts,literary arts
LOCATION:Hatcher Graduate Library - Audubon Room
CONTACT:
END:VEVENT
BEGIN:VEVENT
DTSTAMP:20090722T143534
DTSTART;TZID=America/Detroit:20100409T090000
DTEND;TZID=America/Detroit:20100409T170000
SUMMARY:Exhibition:Ida: Darwinius masillae
DESCRIPTION:\"Ida\,\" a new exhibit in the Exhibit Museum's Rotunda\, displays a high-resolution cast of an extremely rare  fossil discovered in 1983 near Messel\, Germany\, but only recently made available for study. The fossil has  proven to be a “link” between the prosimian and simian (\"anthropoid\") primate lineages. It has \"advanced\"  front teeth (incisors and canines) and second toes like those of monkeys\, and is broadly representative of what  human primate ancestors may have looked like during the Eocene epoch 47 million years ago.     Ida (prounded \"eeda\") is named after after the daughter of Dr JÃ¸rn Hurum\, the Norwegian vertebrate  paleontologist who secured one section of the fossil from an anonymous owner\, and led the research. Ida was  about eight months old\, or the equivalent of a six-year-old human.     Publication of a paper on the discovery was accompanied by a book\, The Link: Uncovering Our Earliest  Ancestors by Colin Tudge\, and a documentary shown on the History Channel (US)\, BBC One (UK)\,and various  stations in Germany and Norway.     U-M paleontologist Philip Gingerich and U-M anthropologist B. Holly Smith were two members of the \"dream  team\" invited to study Ida. The exhibit will be on display through May 2010.
UID:2124-918280@events.umich.edu
URL:https://events.umich.edu/event/2124
CLASS:PUBLIC
STATUS:CONFIRMED
CATEGORIES:multicultural,visual arts,welcome week
LOCATION:
CONTACT:
END:VEVENT
BEGIN:VEVENT
DTSTAMP:20101111T175734
DTSTART;TZID=America/Detroit:20100409T090000
DTEND;TZID=America/Detroit:20100409T170000
SUMMARY:Exhibition:Scott Hocking Installation
DESCRIPTION:Scott Hocking explores the abandoned buildings and sites of Detroit like a  newfangled scientist. He gathers raw data in his excavations\, and records his  findings using a wholly unique and modern process and method that he intuitively  formulates as he goes along. In his ongoing study of a city so rooted in a dense  past\, and the emotional attachments that accompany it\, Hocking is  uncompromising and unflinching\, and refuses to buy into the hype. His visual  essays chronicling urban markings of modern day ruin are not the stuff of tragedy  or fodder for magazine centerfolds\, but proof of a renaissance in real time.  Hocking's work is fully alive\, and honors the world going past and us moving forward  along with it\, exhilarated by industrial parks returning to fallow land\, and strawberry  bushes growing in the cracked concrete.
UID:1793-915927@events.umich.edu
URL:https://events.umich.edu/event/1793
CLASS:PUBLIC
STATUS:CONFIRMED
CATEGORIES:visual arts
LOCATION:202 S. Thayer - 1010
CONTACT:
END:VEVENT
BEGIN:VEVENT
DTSTAMP:20100406T132857
DTSTART;TZID=America/Detroit:20100409T100000
DTEND;TZID=America/Detroit:20100409T160000
SUMMARY:Community Service:One Michigan
DESCRIPTION:SIGN UP AT ONEMICHIGAN.ORG\n\nOneMichigan is a student organization that works to bring together the campus  community for a one day celebration of the service done throughout the year at the  University of Michigan. The OneMichigan Service Celebration exists to recognize the  amazing service done by student organizations\, students\, faculty\, and staff on the  University of Michigan campus.\n\nThe Celebration Day on April 9th will allow students to see a wide range of  community service organizations on campus\, as well as \"test drive\" those  organizations by participating in various miniature service projects (called \"Service  Snap-Shots\") organized throughout the day.\n\n Scheduled service events:\n\n*K-grams: personalize cards to a pen pal! Write a letter to an elementary student  that they recieve the day of Kids' Fair (april 16th) or help with decorations for the  event. On-campus: Union\, 11 am-1 pm\n\n*Zeta Sigma Chi: In collaboration with the Ronald McDonald House\, students will  bebakind goodies to donate. Oxford Housing: Transportation is provided 1-3pm\n\n*Alpha Phi Omega (APO): In the Tap room of the Union\, you can join APO members  stitch mittens that will go to underprivledged communities next winter. No prior  sewing knowledge necessary! 2:30 to 4:30 pm\n\n*WILL WORK FOR FOOD: Sort/pack/organize food at the Food Gatherers'  Warehouse. Transportation Provided. 3-5 pm\n\n*Blood Drives United (Blood Battle): Sign up to donate blood!! School of Education  Blood Drive running all day until 4 pm!\n\n*Alternative Weekends: Protest wage discrimation based on race\, gender and national origin. Meet at the cube at 5:45. Transportation will be provided to Andiamo  Restaurant in Dearborn (21400 Michigan Avenue) approximately 5:45-9 pm\n\n*Circle K: (Success by Six) This is a progam that has a mission to prepare all  children in Washtenaw County for school by the age of 5 or 6. Volunteers will be  hleping prepare materials and in setting up an event later that night for members of  the Ann Arbor community. Meet at the Cube 10 am-12 pm\n\n*Circle K: (MAC WORKDAY) Michigan Abilities Center is a therapeutic horse riding  center for children with mental and/or physical disabilities. Volunteers will be helping  with the up-keep of the facilities that go on everyday. Meet at the cube. 2 sessions:  10 am-1 pm\, and 1 pm-4 pm\n\n*Circle K: (Make a Child Smile) Volunteers will be making cards for children to make  them smile while undergoing their treatement and hospital stays. DIAG: 12:30 to  2:30 pm
UID:233-910191@events.umich.edu
URL:https://events.umich.edu/event/233
CLASS:PUBLIC
STATUS:CONFIRMED
CATEGORIES:social justice
LOCATION:
CONTACT:
END:VEVENT
BEGIN:VEVENT
DTSTAMP:20101111T175600
DTSTART;TZID=America/Detroit:20100409T100000
DTEND;TZID=America/Detroit:20100409T170000
SUMMARY:Exhibition:Stearns Collection of Music
DESCRIPTION:The Stearns Collection at the School of Music\, Theatre & Dance is one of six major collections of musical instruments in North America. The 2\,500-piece collection is internationally known and is a resource for musical and cultural education.
UID:3790-909256@events.umich.edu
URL:https://events.umich.edu/event/3790
CLASS:PUBLIC
STATUS:CONFIRMED
CATEGORIES:
LOCATION:Earl V. Moore Building
CONTACT:
END:VEVENT
BEGIN:VEVENT
DTSTAMP:20101111T175843
DTSTART;TZID=America/Detroit:20100409T121500
DTEND;TZID=America/Detroit:20100409T130000
SUMMARY:Other:Relaxation Workshop Series
DESCRIPTION:Learn stress reduction techniques including deep muscle relaxation\, mental imagery\, mindfulness\, deep breathing and supportive \"self-talk\".
UID:2769-920489@events.umich.edu
URL:https://events.umich.edu/event/2769
CLASS:PUBLIC
STATUS:CONFIRMED
CATEGORIES:
LOCATION:Michigan Union - CAPS Library, Room 3100
CONTACT:
END:VEVENT
BEGIN:VEVENT
DTSTAMP:20100309T152829
DTSTART;TZID=America/Detroit:20100409T170000
DTEND;TZID=America/Detroit:20100409T190000
SUMMARY:Meeting:Asexuality Support Group
DESCRIPTION:Asexuality Support Group 5p-7p\, Spectrum Center\n\nAsexuality is defined as the lack of sexual attraction. An asexual is an individual  who is not sexually attracted to anyone. The Asexual Support Group's main focus is  to provide a safe space for asexuals to come together and talk about issues they  face with others who they identify with. By bringing a group of asexuals and allies  together\, the Asexual Support Group also aims to increase the visibility and  widespread knowledge of asexuality on campus. The group meets every Friday at  the Spectrum Center from 5 to 7 pm\, everyone is welcome- from out asexuals\, to  allies\, to those who are questioning\, and everyone in between.
UID:2685-921015@events.umich.edu
URL:https://events.umich.edu/event/2685
CLASS:PUBLIC
STATUS:CONFIRMED
CATEGORIES:
LOCATION:Michigan Union - 3200
CONTACT:
END:VEVENT
BEGIN:VEVENT
DTSTAMP:20100331T133012
DTSTART;TZID=America/Detroit:20100409T190000
DTEND;TZID=America/Detroit:20100409T220000
SUMMARY:Performance:Groove presents \"Bust a Groove\"
DESCRIPTION:GROOVE is a multi-talented group of HIGH ENERGY musicians and artists drawn  togheter for one reason....to rock the masses! We perform using traditional and no- traditional instruments (garbage cans\, brooms\, toothbrushes...you name it!)  blending comedy\, energy\, personality and choreography into performances on stge  and street.
UID:1153-914004@events.umich.edu
URL:https://events.umich.edu/event/1153
CLASS:PUBLIC
STATUS:CONFIRMED
CATEGORIES:theater,visual arts,music,dance
LOCATION:
CONTACT:
END:VEVENT
BEGIN:VEVENT
DTSTAMP:20100407T121612
DTSTART;TZID=America/Detroit:20100409T190000
DTEND;TZID=America/Detroit:20100409T213000
SUMMARY:Film Screening:M-Flicks Presents FREE Screening of Sherlock Holmes
DESCRIPTION:
UID:1863-916018@events.umich.edu
URL:https://events.umich.edu/event/1863
CLASS:PUBLIC
STATUS:CONFIRMED
CATEGORIES:film
LOCATION:Kraus Natural Science - Natural Science Auditorium
CONTACT:
END:VEVENT
BEGIN:VEVENT
DTSTAMP:20100409T030002
DTSTART;TZID=America/Detroit:20100409T193000
SUMMARY:Other:Opera Workshop:  A Midsummer Night s Dream
DESCRIPTION:by Benjamin Britten.  Joshua Major\, director\; Timothy Cheek\, music director.
UID:1471-915172@events.umich.edu
URL:https://events.umich.edu/event/1471
CLASS:PUBLIC
STATUS:CONFIRMED
CATEGORIES:music
LOCATION:Earl V. Moore Building - McIntosh Theatre
CONTACT:
END:VEVENT
BEGIN:VEVENT
DTSTAMP:20101111T175616
DTSTART;TZID=America/Detroit:20100409T200000
SUMMARY:Performance:Orpheus Descending By: Tennessee Williams
DESCRIPTION:Tennessee Williams' modern version of the myth of Orpheus and Eurydice is set in the American South of repressed desires.  Guitar-playing drifter Val Xavier arrives in a small town looking for work and the opportunity to renounce his wild ways\, where he meets Lady Torrance\, a woman with a tragic past\, trapped in a self-inflicted hell.  Known as one of Williams' darker and more complex plays\, ORPHEUS DESCENDING explores the power of passion and desire to redeem a life and save a soul.
UID:317-910360@events.umich.edu
URL:https://events.umich.edu/event/317
CLASS:PUBLIC
STATUS:CONFIRMED
CATEGORIES:theater
LOCATION:Lydia Mendelssohn Theatre
CONTACT:
END:VEVENT
BEGIN:VEVENT
DTSTAMP:20100409T030002
DTSTART;TZID=America/Detroit:20100409T200000
SUMMARY:Other:Pre-candidate Recital:  John Boonenberg\, collaborative piano
DESCRIPTION:PROGRAM:  Brahms - Sonata No. 1 in G Major\, Op. 78\; Brahms - Sonata No. 2 in A Major\, Op. 100\; Brahms - Sonata No. 3 in D Minor\, Op. 108
UID:1239-914809@events.umich.edu
URL:https://events.umich.edu/event/1239
CLASS:PUBLIC
STATUS:CONFIRMED
CATEGORIES:music
LOCATION:Walgreen Drama Center - Stamps Auditorium
CONTACT:
END:VEVENT
BEGIN:VEVENT
DTSTAMP:20100409T030002
DTSTART;TZID=America/Detroit:20100409T200000
SUMMARY:Other:Senior Recital:  Anthony Lee\, piano
DESCRIPTION:PROGRAM:  Bach - Prelude and Fugue in D Major BWV 874 from Well-Tempered Clavier Book II\; Beethoven - Sonata No. 21 in C Major\, Op. 53 \"Waldstein\"\; Chopin - Etude Op. 25 No. 10 in B Minor\; Liszt - Aprés une Lecture de Dante: Fantasia quasi Sonata
UID:957-913511@events.umich.edu
URL:https://events.umich.edu/event/957
CLASS:PUBLIC
STATUS:CONFIRMED
CATEGORIES:music
LOCATION:Earl V. Moore Building - Britton Recital Hall
CONTACT:
END:VEVENT
BEGIN:VEVENT
DTSTAMP:20100409T030001
DTSTART;TZID=America/Detroit:20100409T200000
SUMMARY:Other:Symphony Band
DESCRIPTION:Michael Haithcock\, conductor  Music written with dramatic purpose is featured in this exciting conclusion to the Symphony Band season. Experience the premiere performance of \"Forking Paths\" composed by recent UM graduate\, Daniel Pesca.  PROGRAM:  Gregson - Celebration\; Pesca - Forking Paths\; Grantham - Phantasticke Sprites\; Wagner - Elizabeth’s Prayer from Tannhauser\; Mahler - Um Mitternacht from Ruckertlieder\; Bernstein - Symphonic Suite from On the Waterfront
UID:2137-917325@events.umich.edu
URL:https://events.umich.edu/event/2137
CLASS:PUBLIC
STATUS:CONFIRMED
CATEGORIES:music
LOCATION:Hill Auditorium -  
CONTACT:
END:VEVENT
BEGIN:VEVENT
DTSTAMP:20101111T175726
DTSTART;TZID=America/Detroit:20100409T200000
SUMMARY:Performance:The Hot Club of Cowtown
DESCRIPTION:
UID:1557-915348@events.umich.edu
URL:https://events.umich.edu/event/1557
CLASS:PUBLIC
STATUS:CONFIRMED
CATEGORIES:music
LOCATION:
CONTACT:
END:VEVENT
BEGIN:VEVENT
DTSTAMP:20100409T030001
DTSTART;TZID=America/Detroit:20100409T200000
SUMMARY:Other:Trafford Tanzi
DESCRIPTION:Dept. of Theatre & Drama  Tickets available at the League Ticket Office 734-764-2538.
UID:1131-913079@events.umich.edu
URL:https://events.umich.edu/event/1131
CLASS:PUBLIC
STATUS:CONFIRMED
CATEGORIES:theater,music
LOCATION:Walgreen Drama Center - Arthur Miller Theatre
CONTACT:
END:VEVENT
BEGIN:VEVENT
DTSTAMP:20100301T134658
DTSTART;TZID=America/Detroit:20100409T213000
SUMMARY:Film Screening:Film: Herb and Dorothy
DESCRIPTION:Herb and Dorothy tells the extraordinary story of Herbert Vogel\, a postal clerk\, and Dorothy Vogel\, a librarian\, who managed to build one of the most important contemporary art collections in history with very modest means. They collected artworks guided by two rules: the piece had to be affordable\, and it had to be small enough to fit in their one-bedroom Manhattan apartment. Most of those they supported and befriended in this process went on to become world-renowned artists\, including Sol LeWitt\, Christo and Jeanne-Claude\, Richard Tuttle\, and Chuck Close. Directed by Megumi Sasaki.
UID:2716-921055@events.umich.edu
URL:https://events.umich.edu/event/2716
CLASS:PUBLIC
STATUS:CONFIRMED
CATEGORIES:
LOCATION:Museum of Art - Helmut Stern Auditorium
CONTACT:
END:VEVENT
END:VCALENDAR