BEGIN:VCALENDAR
VERSION:2.0
PRODID:-//UM//UM*Events//EN
CALSCALE:GREGORIAN
BEGIN:VTIMEZONE
TZID:America/Detroit
TZURL:http://tzurl.org/zoneinfo/America/Detroit
X-LIC-LOCATION:America/Detroit
BEGIN:DAYLIGHT
TZOFFSETFROM:-0500
TZOFFSETTO:-0400
TZNAME:EDT
DTSTART:20070311T020000
RRULE:FREQ=YEARLY;BYMONTH=3;BYDAY=2SU
END:DAYLIGHT
BEGIN:STANDARD
TZOFFSETFROM:-0400
TZOFFSETTO:-0500
TZNAME:EST
DTSTART:20071104T020000
RRULE:FREQ=YEARLY;BYMONTH=11;BYDAY=1SU
END:STANDARD
END:VTIMEZONE
BEGIN:VEVENT
DTSTAMP:20101111T175629
DTSTART;TZID=America/Detroit:20100410T000000
SUMMARY:Exhibition:Exhibit of Recent Aquisitions
DESCRIPTION:This exhibit includes an extraordinarily wide variety of primary source material collected to support current and  future research.  Among the items on display are:  a watercolor “portrait” of a railroad bridge built in Prague in  1850\, original artwork by local artist Tom Pohrt for a children's book written by Justice Sandra Day O'Connor\, a  diary and photographs from a female UM student who hitchhiked from Ann Arbor to San Francisco in 1923\, a  Spanish text from 1693 for those studying to be soldiers\, and Dante's Divine Comedy with illustrations by  Salvador Dali.  \n\nNew archival collections with samples on display include the papers of film director Robert Altman and writers  Nicholas Delbanco and Richard Tillinghast\, as well as four separate women involved in radical causes such as  Clarence Darrow's 1907 defense of union leaders accused of murder and the ecological costs of technology.   This is the first opportunity for the public to see materials from the Altman Collection\, which is estimated to be  1\,000 linear feet in size and is now being sorted and processed for use.
UID:748-911485@events.umich.edu
URL:https://events.umich.edu/event/748
CLASS:PUBLIC
STATUS:CONFIRMED
CATEGORIES:visual arts
LOCATION:Hatcher Graduate Library - 7th Floor Special Collections Library
CONTACT:
END:VEVENT
BEGIN:VEVENT
DTSTAMP:20101111T175620
DTSTART;TZID=America/Detroit:20100410T000000
SUMMARY:Exhibition:Permanent Exhibits at the Exhibit Museum of Natural History
DESCRIPTION:The Hall of Evolution houses Michigan's largest display of prehistoric life. More than 600 million years of life on Earth are traced through fossils\, models and dioramas. The Michigan Wildlife Gallery has a large collection of native Great Lakes birds\, mammals\, reptiles\, and amphibians\, with taxidermy mounts\, habitat scenes\, and the largest mastodon trackway on display in the world. There are also displays about some of the environmental problems faced in this region today. The Anthropology Displays feature artifacts from human cultures around the world. The Geology Displays on the fourth floor offer a large selection of rocks\, minerals and gems. These displays are updated periodically. For more information go to www.lsa.umich.edu/exhibitmuseum/exhibits/permexhibits or call 734-764-0480.
UID:452-910646@events.umich.edu
URL:https://events.umich.edu/event/452
CLASS:PUBLIC
STATUS:CONFIRMED
CATEGORIES:
LOCATION:Ruthven Museums Building
CONTACT:
END:VEVENT
BEGIN:VEVENT
DTSTAMP:20100318T170051
DTSTART;TZID=America/Detroit:20100410T080000
SUMMARY:Exhibition:Exhibit: The Ghost Army
DESCRIPTION:This exhibit tells the story of the Ghost Army from WWII. In June of 1944\, an  exceptional U.S. Army unit went into action in Normandy. Its weapons included  hundreds of inflatable tanks and a one-of-a-kind collection of sound effects  records\, and it carried out its battlefield mission without firing a shot. The unit was  officially called the 23rd Headquarters Special Troops\, but it was known to its men  as The Ghost Army.\n\nMembers of The Ghost Army adhered to a decades-long gag order\; many never  told their families about their extraordinary military service. Sixty-five years after  this top-secret group went into action\, the University of Michigan's Hatcher Library  will unveil the first public exhibit of this captivating group of materials documenting  The Ghost Army. \n\nThis exhibit is available during library hours. See http://www.lib.umich.edu/hatcher- graduate-library.
UID:1124-913946@events.umich.edu
URL:https://events.umich.edu/event/1124
CLASS:PUBLIC
STATUS:CONFIRMED
CATEGORIES:visual arts
LOCATION:Hatcher Graduate Library - Gallery in Room 100
CONTACT:
END:VEVENT
BEGIN:VEVENT
DTSTAMP:20100407T151643
DTSTART;TZID=America/Detroit:20100410T083000
DTEND;TZID=America/Detroit:20100410T190000
SUMMARY:Exhibition:Exhibit: Treasures of the Library
DESCRIPTION:Step into the Audubon Room in the University of Michigan's Hatcher Graduate  Library to view a collection of library treasures.  The collection includes:  a 2250- year-old papyrus document from ancient Philadelphia\, reporting the loss of a  donkey\; a 400-year-old manuscript by Galileo\, in which he explains the usefulness  of the telescope\; and the first book purchased by the Board of Regents\, \"The Birds of  America\,\" published in 1838\, with original drawings by John James Audubon. \n\nHours: Mon-Fri 8:30am-7pm\, Sat 10am-6pm\,  Sun 1-7pm.
UID:2332-918894@events.umich.edu
URL:https://events.umich.edu/event/2332
CLASS:PUBLIC
STATUS:CONFIRMED
CATEGORIES:visual arts,literary arts
LOCATION:Hatcher Graduate Library - Audubon Room
CONTACT:
END:VEVENT
BEGIN:VEVENT
DTSTAMP:20101111T175709
DTSTART;TZID=America/Detroit:20100410T090000
DTEND;TZID=America/Detroit:20100410T120000
SUMMARY:Community Service:Eco-Restoration Workday at the Arb: Earth Day Related Event
DESCRIPTION:Enjoy and help preserve and protect the beautiful natural areas at Nichols  Arboretum while contributing to natural-areas stewardship and restoration efforts by  removing invasive shrubs and trees\, which are easier to spot in the winter. Groups  are welcome to join a public workday with advance notice or schedule a special  service event. 9am to noon.
UID:1341-914209@events.umich.edu
URL:https://events.umich.edu/event/1341
CLASS:PUBLIC
STATUS:CONFIRMED
CATEGORIES:
LOCATION:Nichols Arboretum
CONTACT:
END:VEVENT
BEGIN:VEVENT
DTSTAMP:20090722T143534
DTSTART;TZID=America/Detroit:20100410T090000
DTEND;TZID=America/Detroit:20100410T170000
SUMMARY:Exhibition:Ida: Darwinius masillae
DESCRIPTION:\"Ida\,\" a new exhibit in the Exhibit Museum's Rotunda\, displays a high-resolution cast of an extremely rare  fossil discovered in 1983 near Messel\, Germany\, but only recently made available for study. The fossil has  proven to be a “link” between the prosimian and simian (\"anthropoid\") primate lineages. It has \"advanced\"  front teeth (incisors and canines) and second toes like those of monkeys\, and is broadly representative of what  human primate ancestors may have looked like during the Eocene epoch 47 million years ago.     Ida (prounded \"eeda\") is named after after the daughter of Dr JÃ¸rn Hurum\, the Norwegian vertebrate  paleontologist who secured one section of the fossil from an anonymous owner\, and led the research. Ida was  about eight months old\, or the equivalent of a six-year-old human.     Publication of a paper on the discovery was accompanied by a book\, The Link: Uncovering Our Earliest  Ancestors by Colin Tudge\, and a documentary shown on the History Channel (US)\, BBC One (UK)\,and various  stations in Germany and Norway.     U-M paleontologist Philip Gingerich and U-M anthropologist B. Holly Smith were two members of the \"dream  team\" invited to study Ida. The exhibit will be on display through May 2010.
UID:2124-918281@events.umich.edu
URL:https://events.umich.edu/event/2124
CLASS:PUBLIC
STATUS:CONFIRMED
CATEGORIES:welcome week,visual arts,multicultural
LOCATION:
CONTACT:
END:VEVENT
BEGIN:VEVENT
DTSTAMP:20101111T175706
DTSTART;TZID=America/Detroit:20100410T110000
DTEND;TZID=America/Detroit:20100410T160000
SUMMARY:Other:National Collegiate BioBlitz: A Campus Earth Day Event
DESCRIPTION:All invited to participate in the BioBlitz\, a community biodiversity awareness event.  Volunteers and students collaborate with naturalists and experts to inventory as  many species as possible in a specific area and time period. Festivities take place  at the Washington Heights entrance of the Arb and at the Reader Center. Free. For  more information write: nationalbioblitz@gmail.com.
UID:1225-914058@events.umich.edu
URL:https://events.umich.edu/event/1225
CLASS:PUBLIC
STATUS:CONFIRMED
CATEGORIES:
LOCATION:Nichols Arboretum
CONTACT:
END:VEVENT
BEGIN:VEVENT
DTSTAMP:20100410T030002
DTSTART;TZID=America/Detroit:20100410T130000
SUMMARY:Other:Congolese Dance Class Showing
DESCRIPTION:
UID:2979-921869@events.umich.edu
URL:https://events.umich.edu/event/2979
CLASS:PUBLIC
STATUS:CONFIRMED
CATEGORIES:music,dance
LOCATION:Dance Building - TBA
CONTACT:
END:VEVENT
BEGIN:VEVENT
DTSTAMP:20101111T175725
DTSTART;TZID=America/Detroit:20100410T140000
SUMMARY:Performance:Orpheus Descending by Tennessee Williams
DESCRIPTION:Tennessee Williams' modern version of the myth of Orpheus and Eurydice is set in the American South of repressed desires.  Guitar-playing drifter Val Xavier arrives in a small town looking for work and the opportunity to renounce his wild ways\, where he meets Lady Torrance\, a woman with a tragic past\, trapped in a self-inflicted hell.  Known as one of Williams' darker and more complex plays\, ORPHEUS DESCENDING explores the power of passion and desire to redeem a life and save a soul.
UID:1502-915252@events.umich.edu
URL:https://events.umich.edu/event/1502
CLASS:PUBLIC
STATUS:CONFIRMED
CATEGORIES:theater
LOCATION:Lydia Mendelssohn Theatre
CONTACT:
END:VEVENT
BEGIN:VEVENT
DTSTAMP:20100410T030002
DTSTART;TZID=America/Detroit:20100410T140000
SUMMARY:Other:Senior Recital:  Mackenzie Slottow\, flute
DESCRIPTION:PROGRAM:  Sancan - Sonatine\; Amaya - Malagigi the Sorcerer\; Leclair - Sonata in E Minor Op. 9\, No. 2\; Berio - Sequenza I for flute\; Villa-Lobos - Assobio a Jato (The Jet Whistle)\; traditional - Other Flutes
UID:2326-919635@events.umich.edu
URL:https://events.umich.edu/event/2326
CLASS:PUBLIC
STATUS:CONFIRMED
CATEGORIES:music
LOCATION:Earl V. Moore Building - Britton Recital Hall
CONTACT:
END:VEVENT
BEGIN:VEVENT
DTSTAMP:20100410T030002
DTSTART;TZID=America/Detroit:20100410T150000
SUMMARY:Other:Dance Freshman Touring Company Family Show
DESCRIPTION:
UID:1773-916629@events.umich.edu
URL:https://events.umich.edu/event/1773
CLASS:PUBLIC
STATUS:CONFIRMED
CATEGORIES:dance,music
LOCATION:Dance Building - Betty Pease Studio Theatre
CONTACT:
END:VEVENT
BEGIN:VEVENT
DTSTAMP:20100410T030002
DTSTART;TZID=America/Detroit:20100410T150000
SUMMARY:Other:Men s Glee Club Alumni Concert
DESCRIPTION:Hundreds of MGC alumni will gather to perform some of MGC’s greatest hits under the direction of former conductors Willis Patterson\, Leonard Johnson\, Patrick Gardner\, Bradley Bloom\, Jerry Blackstone\, Stephen Lusmann\, and current conductor Paul Rardin. The repertoire includes such favorites as Randall Thompson The Last Words of David and Franz Biebl’s Ave Maria\, as well as folk songs\, spirituals\, and Michigan songs. Tickets required: Please visit www.umich.edu/~ummgc for information.
UID:724-912440@events.umich.edu
URL:https://events.umich.edu/event/724
CLASS:PUBLIC
STATUS:CONFIRMED
CATEGORIES:music
LOCATION:Hill Auditorium -  
CONTACT:
END:VEVENT
BEGIN:VEVENT
DTSTAMP:20100410T030003
DTSTART;TZID=America/Detroit:20100410T170000
SUMMARY:Other:Senior Recital:  Gabriel Pomerantz\, bassoon
DESCRIPTION:PROGRAM:  David - Concertino for Bassoon and Orchestra Op. 12\; Sestak - Five Virtuoso Inventions for Bassoon\; Schumann - Five Pieces In Folk Style for Cello and Piano Op. 102\; Poulenc - Trio for Piano\, Oboe\, and Bassoon\; Nielson - Serenata-Invano\; Strauss - Till Eulenspiegel Einmal Anders!
UID:1633-916263@events.umich.edu
URL:https://events.umich.edu/event/1633
CLASS:PUBLIC
STATUS:CONFIRMED
CATEGORIES:music
LOCATION:Earl V. Moore Building - McIntosh Theatre
CONTACT:
END:VEVENT
BEGIN:VEVENT
DTSTAMP:20100410T030002
DTSTART;TZID=America/Detroit:20100410T170000
SUMMARY:Other:Senior Recital:  Mary Katherine Martin\, soprano
DESCRIPTION:PROGRAM:  Bellini - Vanne\, o rosa fortunata\; Respighi - Stornellatrice\; Puccini - E l'uccellino\; Rossini - La fioraia fiorentina\; Rachmaninoff - 0@30@8B:8 - Daisies Op. 38 No. 3\; Rachmaninoff - @KA>\;>2\, The Pied Piper Op. 38 No. 4\, !>=* - Dreams Op. 38 No. 5\; Debussy - Pantomime\, Clair de lune\,  Pierrot\, Apparition\; Schubert - StÃ¤ndchen D.957 No. 4\, StÃ¤ndchen D. 889\; Strauss - Die Nacht\, Morgen!\; Bernstein - Glitter and Be Gay from Candide
UID:813-913189@events.umich.edu
URL:https://events.umich.edu/event/813
CLASS:PUBLIC
STATUS:CONFIRMED
CATEGORIES:music
LOCATION:Earl V. Moore Building - Britton Recital Hall
CONTACT:
END:VEVENT
BEGIN:VEVENT
DTSTAMP:20100410T030002
DTSTART;TZID=America/Detroit:20100410T170000
SUMMARY:Other:Student Recital:  Sarah Paquet\, mezzo-soprano and Katie Van Dusen\, violin
DESCRIPTION:PROGRAM:  Saint-SaÃ«ns - Introduction and Rondo Capriccioso\, Op. 28\; Beethoven - Sonata No. 4 in A Minor for Violin and Piano\, Op. 23\; Poulenc - Banalités\; Schumann - Sehnsucht nach der Waldgegend\; Schumann - Widmung\; Williams - Two English Folksongs for Voice and Violin
UID:2823-921305@events.umich.edu
URL:https://events.umich.edu/event/2823
CLASS:PUBLIC
STATUS:CONFIRMED
CATEGORIES:music
LOCATION:
CONTACT:
END:VEVENT
BEGIN:VEVENT
DTSTAMP:20100410T030002
DTSTART;TZID=America/Detroit:20100410T193000
SUMMARY:Other:Senior Recital:  Lauren Hood\, soprano
DESCRIPTION:PROGRAM:  Schumann - Widmung/Der Nussbaum/Lied der Suleika/Die Lotosblume/Du bist wie eine Blume\; Debussy - Nuit d'étoiles/Beau Soir\; Fauré - Clair de lune/L'hiver a cessé\; Bellini - Vaga lune che inargenti/Almen se non poss'io/Ma rendi pur contento/Per pietÃ \, bell'idol mio\; Rorem - Early in the Morning/The Lordly Hudson\; Hoiby - Winter Song/The Serpent
UID:2019-918012@events.umich.edu
URL:https://events.umich.edu/event/2019
CLASS:PUBLIC
STATUS:CONFIRMED
CATEGORIES:music
LOCATION:
CONTACT:
END:VEVENT
BEGIN:VEVENT
DTSTAMP:20100410T030002
DTSTART;TZID=America/Detroit:20100410T200000
SUMMARY:Other:Choreography\, Design and Production Dance Show
DESCRIPTION:
UID:975-913567@events.umich.edu
URL:https://events.umich.edu/event/975
CLASS:PUBLIC
STATUS:CONFIRMED
CATEGORIES:music,dance
LOCATION:Dance Building - Betty Pease Studio Theatre
CONTACT:
END:VEVENT
BEGIN:VEVENT
DTSTAMP:20100410T030002
DTSTART;TZID=America/Detroit:20100410T200000
SUMMARY:Other:Guest Recital:  Carol Rodland\, viola
DESCRIPTION:Carol Rodland made her solo debut with the Philadelphia Orchestra at age seventeen. Praised by Fanfare for possessing a tone which is \"larger than life\, sweetly in tune\, and infinitely variegated\" and for her \"delicious\" playing\, she presently enjoys an international career as a concert and recording artist and pedagogue.Recent performances have taken her throughout the Americas and Europe\, and her solo recordings on the Crystal and Neuma labels have been critically acclaimed. A Fulbright Scholar\, she holds degrees from the Juilliard School and the Musikhochschule Freiburg.Ms. Rodland has held professorships at New England Conservatory\, where she was recognized in 2005 with the \"Krasner Award for Excellence in Teaching\"\, at the Musikhochschule \"Hanns Eisler\" Berlin\, at Arizona State University\, and as guest faculty at the Juilliard School.
UID:1104-913058@events.umich.edu
URL:https://events.umich.edu/event/1104
CLASS:PUBLIC
STATUS:CONFIRMED
CATEGORIES:music
LOCATION:Earl V. Moore Building - Blanche Anderson Moore Hall
CONTACT:
END:VEVENT
BEGIN:VEVENT
DTSTAMP:20100410T030002
DTSTART;TZID=America/Detroit:20100410T200000
SUMMARY:Other:Men s Glee Club
DESCRIPTION:The Men’s Glee Club celebrates 150 years of Tradition\, Camaraderie\, and Musical Excellence with this concert of music from around the world. Repertoire includes StÃ¤ndchen by Franz Schubert\, Spaseniye sodelal by Pavel Chesnekov\, Ka Hia Manu arranged by Steven Hatfield\, and world premieres of Chinese songs Deng Guan Que Lou and Gao Shan Quin arranged by assistant conductor Reed Criddle. Special guests: The Friars. Tickets required: Please visit www.umich.edu/~ummgc for information.
UID:2276-919469@events.umich.edu
URL:https://events.umich.edu/event/2276
CLASS:PUBLIC
STATUS:CONFIRMED
CATEGORIES:music
LOCATION:Hill Auditorium -  
CONTACT:
END:VEVENT
BEGIN:VEVENT
DTSTAMP:20101111T175616
DTSTART;TZID=America/Detroit:20100410T200000
SUMMARY:Performance:Orpheus Descending By: Tennessee Williams
DESCRIPTION:Tennessee Williams' modern version of the myth of Orpheus and Eurydice is set in the American South of repressed desires.  Guitar-playing drifter Val Xavier arrives in a small town looking for work and the opportunity to renounce his wild ways\, where he meets Lady Torrance\, a woman with a tragic past\, trapped in a self-inflicted hell.  Known as one of Williams' darker and more complex plays\, ORPHEUS DESCENDING explores the power of passion and desire to redeem a life and save a soul.
UID:317-910361@events.umich.edu
URL:https://events.umich.edu/event/317
CLASS:PUBLIC
STATUS:CONFIRMED
CATEGORIES:theater
LOCATION:Lydia Mendelssohn Theatre
CONTACT:
END:VEVENT
BEGIN:VEVENT
DTSTAMP:20100410T030003
DTSTART;TZID=America/Detroit:20100410T200000
SUMMARY:Other:Senior Recital:  Juan-Ruvin Marquin Leon\, clarinet
DESCRIPTION:PROGRAM:  Khachaturian - Trio for Clarinet\, Violin\, and Piano\; Poulenc - Sonata for Clarinet and Piano\; Schubert - Der Hirt auf dem Felsen D.965 (Sheperd on the Rock)\; DvorÃ¡k - Wind Serenade in D Minor\, Op. 44
UID:906-913365@events.umich.edu
URL:https://events.umich.edu/event/906
CLASS:PUBLIC
STATUS:CONFIRMED
CATEGORIES:music
LOCATION:Earl V. Moore Building - Britton Recital Hall
CONTACT:
END:VEVENT
BEGIN:VEVENT
DTSTAMP:20100410T030002
DTSTART;TZID=America/Detroit:20100410T200000
SUMMARY:Other:Third Dissertation Recital:  Jacqueline Nutting\, violin
DESCRIPTION:PROGRAM:  Good - and dreams rush forth to greet the distance\; Holbrook\;  Murphy - Dance Me to Your Beauty With a Burning Violin\; Rolfe - Drop\; Sokolovis - Cinque Danze
UID:103-909984@events.umich.edu
URL:https://events.umich.edu/event/103
CLASS:PUBLIC
STATUS:CONFIRMED
CATEGORIES:music
LOCATION:Walgreen Drama Center - Stamps Auditorium
CONTACT:
END:VEVENT
BEGIN:VEVENT
DTSTAMP:20100410T030002
DTSTART;TZID=America/Detroit:20100410T200000
SUMMARY:Other:Third Dissertation Recital:  Jeffrey Barudin\, percussion
DESCRIPTION:PROGRAM:  Reich - Vermont Counterpoint\; Cheung - Etude in E-flat Minor\; Cheung - Etude in E Major\; Serry - Rhapsody for Marimba\, 'Night Rhapsody'\; Piché - Steal the Thunder\; Udow - Coyote Dreams
UID:1742-915758@events.umich.edu
URL:https://events.umich.edu/event/1742
CLASS:PUBLIC
STATUS:CONFIRMED
CATEGORIES:music
LOCATION:Earl V. Moore Building - McIntosh Theatre
CONTACT:
END:VEVENT
BEGIN:VEVENT
DTSTAMP:20100410T030002
DTSTART;TZID=America/Detroit:20100410T200000
SUMMARY:Other:Trafford Tanzi
DESCRIPTION:Dept. of Theatre & Drama  Tickets available at the League Ticket Office 734-764-2538.
UID:1285-914923@events.umich.edu
URL:https://events.umich.edu/event/1285
CLASS:PUBLIC
STATUS:CONFIRMED
CATEGORIES:theater,music
LOCATION:Walgreen Drama Center - Arthur Miller Theatre
CONTACT:
END:VEVENT
END:VCALENDAR