BEGIN:VCALENDAR
VERSION:2.0
PRODID:-//UM//UM*Events//EN
CALSCALE:GREGORIAN
BEGIN:VTIMEZONE
TZID:America/Detroit
TZURL:http://tzurl.org/zoneinfo/America/Detroit
X-LIC-LOCATION:America/Detroit
BEGIN:DAYLIGHT
TZOFFSETFROM:-0500
TZOFFSETTO:-0400
TZNAME:EDT
DTSTART:20070311T020000
RRULE:FREQ=YEARLY;BYMONTH=3;BYDAY=2SU
END:DAYLIGHT
BEGIN:STANDARD
TZOFFSETFROM:-0400
TZOFFSETTO:-0500
TZNAME:EST
DTSTART:20071104T020000
RRULE:FREQ=YEARLY;BYMONTH=11;BYDAY=1SU
END:STANDARD
END:VTIMEZONE
BEGIN:VEVENT
DTSTAMP:20101111T175629
DTSTART;TZID=America/Detroit:20100411T000000
SUMMARY:Exhibition:Exhibit of Recent Aquisitions
DESCRIPTION:This exhibit includes an extraordinarily wide variety of primary source material collected to support current and  future research.  Among the items on display are:  a watercolor “portrait” of a railroad bridge built in Prague in  1850\, original artwork by local artist Tom Pohrt for a children's book written by Justice Sandra Day O'Connor\, a  diary and photographs from a female UM student who hitchhiked from Ann Arbor to San Francisco in 1923\, a  Spanish text from 1693 for those studying to be soldiers\, and Dante's Divine Comedy with illustrations by  Salvador Dali.  \n\nNew archival collections with samples on display include the papers of film director Robert Altman and writers  Nicholas Delbanco and Richard Tillinghast\, as well as four separate women involved in radical causes such as  Clarence Darrow's 1907 defense of union leaders accused of murder and the ecological costs of technology.   This is the first opportunity for the public to see materials from the Altman Collection\, which is estimated to be  1\,000 linear feet in size and is now being sorted and processed for use.
UID:748-911486@events.umich.edu
URL:https://events.umich.edu/event/748
CLASS:PUBLIC
STATUS:CONFIRMED
CATEGORIES:visual arts
LOCATION:Hatcher Graduate Library - 7th Floor Special Collections Library
CONTACT:
END:VEVENT
BEGIN:VEVENT
DTSTAMP:20101111T175620
DTSTART;TZID=America/Detroit:20100411T000000
SUMMARY:Exhibition:Permanent Exhibits at the Exhibit Museum of Natural History
DESCRIPTION:The Hall of Evolution houses Michigan's largest display of prehistoric life. More than 600 million years of life on Earth are traced through fossils\, models and dioramas. The Michigan Wildlife Gallery has a large collection of native Great Lakes birds\, mammals\, reptiles\, and amphibians\, with taxidermy mounts\, habitat scenes\, and the largest mastodon trackway on display in the world. There are also displays about some of the environmental problems faced in this region today. The Anthropology Displays feature artifacts from human cultures around the world. The Geology Displays on the fourth floor offer a large selection of rocks\, minerals and gems. These displays are updated periodically. For more information go to www.lsa.umich.edu/exhibitmuseum/exhibits/permexhibits or call 734-764-0480.
UID:452-910647@events.umich.edu
URL:https://events.umich.edu/event/452
CLASS:PUBLIC
STATUS:CONFIRMED
CATEGORIES:
LOCATION:Ruthven Museums Building
CONTACT:
END:VEVENT
BEGIN:VEVENT
DTSTAMP:20100318T170051
DTSTART;TZID=America/Detroit:20100411T080000
SUMMARY:Exhibition:Exhibit: The Ghost Army
DESCRIPTION:This exhibit tells the story of the Ghost Army from WWII. In June of 1944\, an  exceptional U.S. Army unit went into action in Normandy. Its weapons included  hundreds of inflatable tanks and a one-of-a-kind collection of sound effects  records\, and it carried out its battlefield mission without firing a shot. The unit was  officially called the 23rd Headquarters Special Troops\, but it was known to its men  as The Ghost Army.\n\nMembers of The Ghost Army adhered to a decades-long gag order\; many never  told their families about their extraordinary military service. Sixty-five years after  this top-secret group went into action\, the University of Michigan's Hatcher Library  will unveil the first public exhibit of this captivating group of materials documenting  The Ghost Army. \n\nThis exhibit is available during library hours. See http://www.lib.umich.edu/hatcher- graduate-library.
UID:1124-913947@events.umich.edu
URL:https://events.umich.edu/event/1124
CLASS:PUBLIC
STATUS:CONFIRMED
CATEGORIES:visual arts
LOCATION:Hatcher Graduate Library - Gallery in Room 100
CONTACT:
END:VEVENT
BEGIN:VEVENT
DTSTAMP:20100407T151643
DTSTART;TZID=America/Detroit:20100411T083000
DTEND;TZID=America/Detroit:20100411T190000
SUMMARY:Exhibition:Exhibit: Treasures of the Library
DESCRIPTION:Step into the Audubon Room in the University of Michigan's Hatcher Graduate  Library to view a collection of library treasures.  The collection includes:  a 2250- year-old papyrus document from ancient Philadelphia\, reporting the loss of a  donkey\; a 400-year-old manuscript by Galileo\, in which he explains the usefulness  of the telescope\; and the first book purchased by the Board of Regents\, \"The Birds of  America\,\" published in 1838\, with original drawings by John James Audubon. \n\nHours: Mon-Fri 8:30am-7pm\, Sat 10am-6pm\,  Sun 1-7pm.
UID:2332-918895@events.umich.edu
URL:https://events.umich.edu/event/2332
CLASS:PUBLIC
STATUS:CONFIRMED
CATEGORIES:visual arts,literary arts
LOCATION:Hatcher Graduate Library - Audubon Room
CONTACT:
END:VEVENT
BEGIN:VEVENT
DTSTAMP:20090722T143534
DTSTART;TZID=America/Detroit:20100411T090000
DTEND;TZID=America/Detroit:20100411T170000
SUMMARY:Exhibition:Ida: Darwinius masillae
DESCRIPTION:\"Ida\,\" a new exhibit in the Exhibit Museum's Rotunda\, displays a high-resolution cast of an extremely rare  fossil discovered in 1983 near Messel\, Germany\, but only recently made available for study. The fossil has  proven to be a “link” between the prosimian and simian (\"anthropoid\") primate lineages. It has \"advanced\"  front teeth (incisors and canines) and second toes like those of monkeys\, and is broadly representative of what  human primate ancestors may have looked like during the Eocene epoch 47 million years ago.     Ida (prounded \"eeda\") is named after after the daughter of Dr JÃ¸rn Hurum\, the Norwegian vertebrate  paleontologist who secured one section of the fossil from an anonymous owner\, and led the research. Ida was  about eight months old\, or the equivalent of a six-year-old human.     Publication of a paper on the discovery was accompanied by a book\, The Link: Uncovering Our Earliest  Ancestors by Colin Tudge\, and a documentary shown on the History Channel (US)\, BBC One (UK)\,and various  stations in Germany and Norway.     U-M paleontologist Philip Gingerich and U-M anthropologist B. Holly Smith were two members of the \"dream  team\" invited to study Ida. The exhibit will be on display through May 2010.
UID:2124-918282@events.umich.edu
URL:https://events.umich.edu/event/2124
CLASS:PUBLIC
STATUS:CONFIRMED
CATEGORIES:welcome week,visual arts,multicultural
LOCATION:
CONTACT:
END:VEVENT
BEGIN:VEVENT
DTSTAMP:20100410T030003
DTSTART;TZID=America/Detroit:20100411T120000
SUMMARY:Other:Student Recital:  Chanah Ambuter\, harp
DESCRIPTION:PROGRAM:  Dutilleux - Sarabande et cortege for Bassoon and Piano\; Debussy - Estampes\; Britten - Six Metamorphoses After Ovid\; Tournier - Etude de Concert: Au Matin\; Tchaikovsky - Souvenir d'un Lieu Cher
UID:1588-916221@events.umich.edu
URL:https://events.umich.edu/event/1588
CLASS:PUBLIC
STATUS:CONFIRMED
CATEGORIES:music
LOCATION:Earl V. Moore Building - McIntosh Theatre
CONTACT:
END:VEVENT
BEGIN:VEVENT
DTSTAMP:20100410T030003
DTSTART;TZID=America/Detroit:20100411T140000
SUMMARY:Other:Horn Studio Recital
DESCRIPTION:Students of Professor Adam Unsworth.
UID:2038-917070@events.umich.edu
URL:https://events.umich.edu/event/2038
CLASS:PUBLIC
STATUS:CONFIRMED
CATEGORIES:music
LOCATION:Earl V. Moore Building - Britton Recital Hall
CONTACT:
END:VEVENT
BEGIN:VEVENT
DTSTAMP:20101111T175725
DTSTART;TZID=America/Detroit:20100411T140000
SUMMARY:Performance:Orpheus Descending by Tennessee Williams
DESCRIPTION:Tennessee Williams' modern version of the myth of Orpheus and Eurydice is set in the American South of repressed desires.  Guitar-playing drifter Val Xavier arrives in a small town looking for work and the opportunity to renounce his wild ways\, where he meets Lady Torrance\, a woman with a tragic past\, trapped in a self-inflicted hell.  Known as one of Williams' darker and more complex plays\, ORPHEUS DESCENDING explores the power of passion and desire to redeem a life and save a soul.
UID:1502-915253@events.umich.edu
URL:https://events.umich.edu/event/1502
CLASS:PUBLIC
STATUS:CONFIRMED
CATEGORIES:theater
LOCATION:Lydia Mendelssohn Theatre
CONTACT:
END:VEVENT
BEGIN:VEVENT
DTSTAMP:20100410T030003
DTSTART;TZID=America/Detroit:20100411T140000
SUMMARY:Other:Trafford Tanzi
DESCRIPTION:Dept. of Theatre & Drama  Tickets available at the League Ticket Office 734-764-2538.
UID:68-909901@events.umich.edu
URL:https://events.umich.edu/event/68
CLASS:PUBLIC
STATUS:CONFIRMED
CATEGORIES:music,theater
LOCATION:Walgreen Drama Center - Arthur Miller Theatre
CONTACT:
END:VEVENT
BEGIN:VEVENT
DTSTAMP:20100410T030003
DTSTART;TZID=America/Detroit:20100411T140000
SUMMARY:Other:University of Michigan Euphonium and Tuba Ensemble
DESCRIPTION:Music performed by small euphonium and tuba chamber groups\, as well as large ensembles.
UID:2203-917451@events.umich.edu
URL:https://events.umich.edu/event/2203
CLASS:PUBLIC
STATUS:CONFIRMED
CATEGORIES:music
LOCATION:Earl V. Moore Building - McIntosh Theatre
CONTACT:
END:VEVENT
BEGIN:VEVENT
DTSTAMP:20100410T030003
DTSTART;TZID=America/Detroit:20100411T150000
SUMMARY:Other:Campus Band and University Band
DESCRIPTION:
UID:1436-915125@events.umich.edu
URL:https://events.umich.edu/event/1436
CLASS:PUBLIC
STATUS:CONFIRMED
CATEGORIES:music
LOCATION:Hill Auditorium -  
CONTACT:
END:VEVENT
BEGIN:VEVENT
DTSTAMP:20101111T175805
DTSTART;TZID=America/Detroit:20100411T150000
DTEND;TZID=America/Detroit:20100411T173000
SUMMARY:Fair / Festival:Hats and High Tea for Colon Cancer Awareness
DESCRIPTION:The University of Michigan Comprehensive Cancer Center and the Ann Arbor  Chapter of The Links\, Inc. cordially invite you to learn about colon cancer and  health research over afternoon tea. See the latest in designer hat fashion. Taste a  variety of teas from around the world. Hear medical experts discuss colon cancer  issues in African American women. \n\nSunday\, April 11\,  3:00 - 5:30 pm  Kensington Court Hotel 610 Hilton Blvd. Ann Arbor\, MI 48108\n\nRSVP: 734.998.7071 or http://www.cancer.med.umich.edu/about/event_tea.shtml\n\nHigh tea attire requested. Complimentary attendance. Reservations highly  encouraged. Limited seating.
UID:2091-918116@events.umich.edu
URL:https://events.umich.edu/event/2091
CLASS:PUBLIC
STATUS:CONFIRMED
CATEGORIES:
LOCATION:
CONTACT:
END:VEVENT
BEGIN:VEVENT
DTSTAMP:20100410T030003
DTSTART;TZID=America/Detroit:20100411T150000
SUMMARY:Other:Masters Recital:  Matthew Brower\, collaborative piano
DESCRIPTION:PROGRAM:  Britten - Seven Sonnets of Michelangelo\; Grieg - Sechs Lieder\, Op. 48\; Messiaen - La mort du nombre\; DvoYÃ¡k - Piano Quintet in A Major\, Op. 81
UID:1601-916236@events.umich.edu
URL:https://events.umich.edu/event/1601
CLASS:PUBLIC
STATUS:CONFIRMED
CATEGORIES:music
LOCATION:
CONTACT:
END:VEVENT
BEGIN:VEVENT
DTSTAMP:20190226T135346
DTSTART;TZID=America/Detroit:20100411T160000
DTEND;TZID=America/Detroit:20100411T170000
SUMMARY:Performance:FestiFools
DESCRIPTION:Make a crazy costume\, bring an old pan to bang on\, or just come as you are\, to help celebrate our 13th annual FestiFools spectacle on Main Street in downtown Ann Arbor.  This one-of-a kind public art tradition features\, bizarro\, street-sized \"puppets\" all created and animated by U-M students and community members! This not-2-B-missed one-hour only event starts at 4pm sharp! \n\nWant to help carry and animate the giant puppets? It's a blast! Just meet up at 3pm\, corner of Liberty and Main and we'll match you up with a puppet of your choice.
UID:1402-914348@events.umich.edu
URL:https://events.umich.edu/event/1402
CLASS:PUBLIC
STATUS:CONFIRMED
CATEGORIES:visual arts,music,multicultural,theater,literary arts,film,dance,architecture
LOCATION:
CONTACT:
END:VEVENT
BEGIN:VEVENT
DTSTAMP:20100410T030003
DTSTART;TZID=America/Detroit:20100411T170000
SUMMARY:Other:Masters Recital:  Joe Brown\, trumpet
DESCRIPTION:PROGRAM:  Telemann - Concerto in D Major for Trumpet\, 2 Oboes\, and Basso Continuo\; Anthell - Sonata for Trumpet\; Ewazen - To Cast a Shadow Again\; DiLorenzo -  Fire Dance
UID:157-909427@events.umich.edu
URL:https://events.umich.edu/event/157
CLASS:PUBLIC
STATUS:CONFIRMED
CATEGORIES:music
LOCATION:Earl V. Moore Building - Stamps Auditorium
CONTACT:
END:VEVENT
BEGIN:VEVENT
DTSTAMP:20100410T030003
DTSTART;TZID=America/Detroit:20100411T170000
SUMMARY:Other:Senior Recital:  Raechelle Gordon\, trombone
DESCRIPTION:PROGRAM:  Joseph - Alme Ingrate\; Berlioz - Recitative and Prayer\; Saint-Saens - Cavatine\, Op. 144\; Weber - Romance\; Ewazen - Sonata
UID:2793-921277@events.umich.edu
URL:https://events.umich.edu/event/2793
CLASS:PUBLIC
STATUS:CONFIRMED
CATEGORIES:music
LOCATION:Earl V. Moore Building - McIntosh Theatre
CONTACT:
END:VEVENT
BEGIN:VEVENT
DTSTAMP:20101111T175752
DTSTART;TZID=America/Detroit:20100411T190000
SUMMARY:Film Screening:Banff Mountain Film Fest
DESCRIPTION:The Banff Mountain Film Festival World Tour brings films from the 34th annual Banff Mountain Film Festival to about 285 communities around the world.  From an exploration of remote landscapes and mountain cultures to adrenaline-fueled action sports\, films in this year's world tour are sure to captivate and amaze the explorer within you!!
UID:2025-917056@events.umich.edu
URL:https://events.umich.edu/event/2025
CLASS:PUBLIC
STATUS:CONFIRMED
CATEGORIES:
LOCATION:
CONTACT:
END:VEVENT
BEGIN:VEVENT
DTSTAMP:20101111T175728
DTSTART;TZID=America/Detroit:20100411T190000
DTEND;TZID=America/Detroit:20100411T220000
SUMMARY:Film Screening:BANFF Mountain Film Festival
DESCRIPTION:Ignite your passion for adventure\, action\, and travel! The Banff Mountain Film Festival World Tour will  exhilarate you with amazing big-screen stories when it comes to Michigan Theater. Journey to exotic locations\,  paddle the wildest waters\, and climb the highest peaks\, all without leaving your theater seat. Get your tickets  today and be taken away to the most captivating places on earth.\n\nThe Banff Mountain Film Festival World Tour brings films from the 33rd annual Banff Mountain Film Festival to  about 285 communities around the world. From an exploration of remote landscapes and mountain cultures to  adrenaline-fueled action sports\, films in this year's world tour are sure to captivate and amaze the explorer  within you.\n\nBe moved. Be inspired. Don't miss out. Reserve your tickets today!  For more information visit call  734-764-3967. This stop on the world tour is hosted by Outdoor Adventures at the University of Michigan.
UID:1599-915437@events.umich.edu
URL:https://events.umich.edu/event/1599
CLASS:PUBLIC
STATUS:CONFIRMED
CATEGORIES:
LOCATION:
CONTACT:
END:VEVENT
BEGIN:VEVENT
DTSTAMP:20100410T030003
DTSTART;TZID=America/Detroit:20100411T200000
SUMMARY:Other:Guest Recital:  Volodymyr Vynnytsky\, piano
DESCRIPTION:Vynnytsky won 1st prize in the Marguerite Long International Piano Competition and studied at the Moscow Conservatory.  PROGRAM:  Chopin - Sonata Nos. 2 and 3
UID:2620-920266@events.umich.edu
URL:https://events.umich.edu/event/2620
CLASS:PUBLIC
STATUS:CONFIRMED
CATEGORIES:music
LOCATION:Earl V. Moore Building - Britton Recital Hall
CONTACT:
END:VEVENT
BEGIN:VEVENT
DTSTAMP:20100410T030003
DTSTART;TZID=America/Detroit:20100411T200000
SUMMARY:Other:Senior Recital:  Joseph Bucci\, oboe
DESCRIPTION:PROGRAM:  Telemann - Partita No. 5\; Reinecke - Trio for Oboe\, Horn and Piano\; Yvon - Sonata in F for English Horn and Piano\; Villa-Lobos - Quintette (en forme de choros)
UID:2952-921838@events.umich.edu
URL:https://events.umich.edu/event/2952
CLASS:PUBLIC
STATUS:CONFIRMED
CATEGORIES:music
LOCATION:Earl V. Moore Building - McIntosh Theatre
CONTACT:
END:VEVENT
BEGIN:VEVENT
DTSTAMP:20100410T030003
DTSTART;TZID=America/Detroit:20100411T200000
SUMMARY:Other:Student Woodwind Chamber Music Recital
DESCRIPTION:A recital featuring a variety of small woodwind ensembles.
UID:1855-916014@events.umich.edu
URL:https://events.umich.edu/event/1855
CLASS:PUBLIC
STATUS:CONFIRMED
CATEGORIES:music
LOCATION:Walgreen Drama Center - Stamps Auditorium
CONTACT:
END:VEVENT
END:VCALENDAR