BEGIN:VCALENDAR
VERSION:2.0
PRODID:-//UM//UM*Events//EN
CALSCALE:GREGORIAN
BEGIN:VTIMEZONE
TZID:America/Detroit
TZURL:http://tzurl.org/zoneinfo/America/Detroit
X-LIC-LOCATION:America/Detroit
BEGIN:DAYLIGHT
TZOFFSETFROM:-0500
TZOFFSETTO:-0400
TZNAME:EDT
DTSTART:20070311T020000
RRULE:FREQ=YEARLY;BYMONTH=3;BYDAY=2SU
END:DAYLIGHT
BEGIN:STANDARD
TZOFFSETFROM:-0400
TZOFFSETTO:-0500
TZNAME:EST
DTSTART:20071104T020000
RRULE:FREQ=YEARLY;BYMONTH=11;BYDAY=1SU
END:STANDARD
END:VTIMEZONE
BEGIN:VEVENT
DTSTAMP:20101111T175629
DTSTART;TZID=America/Detroit:20100412T000000
SUMMARY:Exhibition:Exhibit of Recent Aquisitions
DESCRIPTION:This exhibit includes an extraordinarily wide variety of primary source material collected to support current and  future research.  Among the items on display are:  a watercolor “portrait” of a railroad bridge built in Prague in  1850\, original artwork by local artist Tom Pohrt for a children's book written by Justice Sandra Day O'Connor\, a  diary and photographs from a female UM student who hitchhiked from Ann Arbor to San Francisco in 1923\, a  Spanish text from 1693 for those studying to be soldiers\, and Dante's Divine Comedy with illustrations by  Salvador Dali.  \n\nNew archival collections with samples on display include the papers of film director Robert Altman and writers  Nicholas Delbanco and Richard Tillinghast\, as well as four separate women involved in radical causes such as  Clarence Darrow's 1907 defense of union leaders accused of murder and the ecological costs of technology.   This is the first opportunity for the public to see materials from the Altman Collection\, which is estimated to be  1\,000 linear feet in size and is now being sorted and processed for use.
UID:748-911487@events.umich.edu
URL:https://events.umich.edu/event/748
CLASS:PUBLIC
STATUS:CONFIRMED
CATEGORIES:visual arts
LOCATION:Hatcher Graduate Library - 7th Floor Special Collections Library
CONTACT:
END:VEVENT
BEGIN:VEVENT
DTSTAMP:20101111T175620
DTSTART;TZID=America/Detroit:20100412T000000
SUMMARY:Exhibition:Permanent Exhibits at the Exhibit Museum of Natural History
DESCRIPTION:The Hall of Evolution houses Michigan's largest display of prehistoric life. More than 600 million years of life on Earth are traced through fossils\, models and dioramas. The Michigan Wildlife Gallery has a large collection of native Great Lakes birds\, mammals\, reptiles\, and amphibians\, with taxidermy mounts\, habitat scenes\, and the largest mastodon trackway on display in the world. There are also displays about some of the environmental problems faced in this region today. The Anthropology Displays feature artifacts from human cultures around the world. The Geology Displays on the fourth floor offer a large selection of rocks\, minerals and gems. These displays are updated periodically. For more information go to www.lsa.umich.edu/exhibitmuseum/exhibits/permexhibits or call 734-764-0480.
UID:452-910648@events.umich.edu
URL:https://events.umich.edu/event/452
CLASS:PUBLIC
STATUS:CONFIRMED
CATEGORIES:
LOCATION:Ruthven Museums Building
CONTACT:
END:VEVENT
BEGIN:VEVENT
DTSTAMP:20100414T093330
DTSTART;TZID=America/Detroit:20100412T073000
DTEND;TZID=America/Detroit:20100412T200000
SUMMARY:Exhibition:Ida Abreu\, Cape Verdean Artist/Sculptor Exposition
DESCRIPTION:IdÃ¡ Abreu\, Cape Verdean artist and sculptor\n\nAll Artist Residency Events free and open to the public  at Palmer Commons\, 100 Washtenaw Avenue\, Ann Arbor\, Michigan\n\nArtwork Exhibit April 12-28\, 2010\, fourth floor Atrium\, Palmer Commons Monday through Friday\, 7:30 a.m. – 8:00 p.m. with personal hosting by artist IdÃ¡ Abreu from 2-5 p.m.\, Monday through Friday\n\nFaculty Host\, Marlyse Baptista Center for AfricanAmerican and African Studies and Linguistics Contact information: Center for World Performance Studies ”¢ 1080 S. University ”¢ Suite 3616 ”¢ Ann Arbor\, MI  48109-1106 P (734) 936-2777 ”¢ E cwps@umich.edu ”¢ www.umich.edu/cwps University of Michigan ”¢ International Institute The Center for World Performance Studies and the Center for Latin American and Caribbean Studies proudly introduce artist resident Illustration: IdÃ¡ Abreu / Poster: Shannon Rolston Designs
UID:3873-920620@events.umich.edu
URL:https://events.umich.edu/event/3873
CLASS:PUBLIC
STATUS:CONFIRMED
CATEGORIES:visual arts,multicultural
LOCATION:Palmer Commons - Atrium 4
CONTACT:
END:VEVENT
BEGIN:VEVENT
DTSTAMP:20100318T170051
DTSTART;TZID=America/Detroit:20100412T080000
SUMMARY:Exhibition:Exhibit: The Ghost Army
DESCRIPTION:This exhibit tells the story of the Ghost Army from WWII. In June of 1944\, an  exceptional U.S. Army unit went into action in Normandy. Its weapons included  hundreds of inflatable tanks and a one-of-a-kind collection of sound effects  records\, and it carried out its battlefield mission without firing a shot. The unit was  officially called the 23rd Headquarters Special Troops\, but it was known to its men  as The Ghost Army.\n\nMembers of The Ghost Army adhered to a decades-long gag order\; many never  told their families about their extraordinary military service. Sixty-five years after  this top-secret group went into action\, the University of Michigan's Hatcher Library  will unveil the first public exhibit of this captivating group of materials documenting  The Ghost Army. \n\nThis exhibit is available during library hours. See http://www.lib.umich.edu/hatcher- graduate-library.
UID:1124-913948@events.umich.edu
URL:https://events.umich.edu/event/1124
CLASS:PUBLIC
STATUS:CONFIRMED
CATEGORIES:visual arts
LOCATION:Hatcher Graduate Library - Gallery in Room 100
CONTACT:
END:VEVENT
BEGIN:VEVENT
DTSTAMP:20101111T175759
DTSTART;TZID=America/Detroit:20100412T080000
DTEND;TZID=America/Detroit:20100412T170000
SUMMARY:Exhibition:History of Dentistry exhibits at the Sindecuse Museum of Dentistry
DESCRIPTION:Exhibits at the Sindecuse Museum of Dentistry include Dental Operatories of the 1860s to 1930s\, St. Apollonia-Patron Saint of Dentistry and more. Call 763-0767 or go to www.dent.umich.edu/museum for more information.
UID:3856-917525@events.umich.edu
URL:https://events.umich.edu/event/3856
CLASS:PUBLIC
STATUS:CONFIRMED
CATEGORIES:
LOCATION:Dental & W.K. Kellogg Institute
CONTACT:
END:VEVENT
BEGIN:VEVENT
DTSTAMP:20100407T151643
DTSTART;TZID=America/Detroit:20100412T083000
DTEND;TZID=America/Detroit:20100412T190000
SUMMARY:Exhibition:Exhibit: Treasures of the Library
DESCRIPTION:Step into the Audubon Room in the University of Michigan's Hatcher Graduate  Library to view a collection of library treasures.  The collection includes:  a 2250- year-old papyrus document from ancient Philadelphia\, reporting the loss of a  donkey\; a 400-year-old manuscript by Galileo\, in which he explains the usefulness  of the telescope\; and the first book purchased by the Board of Regents\, \"The Birds of  America\,\" published in 1838\, with original drawings by John James Audubon. \n\nHours: Mon-Fri 8:30am-7pm\, Sat 10am-6pm\,  Sun 1-7pm.
UID:2332-918896@events.umich.edu
URL:https://events.umich.edu/event/2332
CLASS:PUBLIC
STATUS:CONFIRMED
CATEGORIES:visual arts,literary arts
LOCATION:Hatcher Graduate Library - Audubon Room
CONTACT:
END:VEVENT
BEGIN:VEVENT
DTSTAMP:20090722T143534
DTSTART;TZID=America/Detroit:20100412T090000
DTEND;TZID=America/Detroit:20100412T170000
SUMMARY:Exhibition:Ida: Darwinius masillae
DESCRIPTION:\"Ida\,\" a new exhibit in the Exhibit Museum's Rotunda\, displays a high-resolution cast of an extremely rare  fossil discovered in 1983 near Messel\, Germany\, but only recently made available for study. The fossil has  proven to be a “link” between the prosimian and simian (\"anthropoid\") primate lineages. It has \"advanced\"  front teeth (incisors and canines) and second toes like those of monkeys\, and is broadly representative of what  human primate ancestors may have looked like during the Eocene epoch 47 million years ago.     Ida (prounded \"eeda\") is named after after the daughter of Dr JÃ¸rn Hurum\, the Norwegian vertebrate  paleontologist who secured one section of the fossil from an anonymous owner\, and led the research. Ida was  about eight months old\, or the equivalent of a six-year-old human.     Publication of a paper on the discovery was accompanied by a book\, The Link: Uncovering Our Earliest  Ancestors by Colin Tudge\, and a documentary shown on the History Channel (US)\, BBC One (UK)\,and various  stations in Germany and Norway.     U-M paleontologist Philip Gingerich and U-M anthropologist B. Holly Smith were two members of the \"dream  team\" invited to study Ida. The exhibit will be on display through May 2010.
UID:2124-918303@events.umich.edu
URL:https://events.umich.edu/event/2124
CLASS:PUBLIC
STATUS:CONFIRMED
CATEGORIES:welcome week,visual arts,multicultural
LOCATION:
CONTACT:
END:VEVENT
BEGIN:VEVENT
DTSTAMP:20101111T175734
DTSTART;TZID=America/Detroit:20100412T090000
DTEND;TZID=America/Detroit:20100412T170000
SUMMARY:Exhibition:Scott Hocking Installation
DESCRIPTION:Scott Hocking explores the abandoned buildings and sites of Detroit like a  newfangled scientist. He gathers raw data in his excavations\, and records his  findings using a wholly unique and modern process and method that he intuitively  formulates as he goes along. In his ongoing study of a city so rooted in a dense  past\, and the emotional attachments that accompany it\, Hocking is  uncompromising and unflinching\, and refuses to buy into the hype. His visual  essays chronicling urban markings of modern day ruin are not the stuff of tragedy  or fodder for magazine centerfolds\, but proof of a renaissance in real time.  Hocking's work is fully alive\, and honors the world going past and us moving forward  along with it\, exhilarated by industrial parks returning to fallow land\, and strawberry  bushes growing in the cracked concrete.
UID:1793-915928@events.umich.edu
URL:https://events.umich.edu/event/1793
CLASS:PUBLIC
STATUS:CONFIRMED
CATEGORIES:visual arts
LOCATION:202 S. Thayer - 1010
CONTACT:
END:VEVENT
BEGIN:VEVENT
DTSTAMP:20101111T175600
DTSTART;TZID=America/Detroit:20100412T100000
DTEND;TZID=America/Detroit:20100412T170000
SUMMARY:Exhibition:Stearns Collection of Music
DESCRIPTION:The Stearns Collection at the School of Music\, Theatre & Dance is one of six major collections of musical instruments in North America. The 2\,500-piece collection is internationally known and is a resource for musical and cultural education.
UID:3790-909257@events.umich.edu
URL:https://events.umich.edu/event/3790
CLASS:PUBLIC
STATUS:CONFIRMED
CATEGORIES:
LOCATION:Earl V. Moore Building
CONTACT:
END:VEVENT
BEGIN:VEVENT
DTSTAMP:20101111T175612
DTSTART;TZID=America/Detroit:20100412T170000
DTEND;TZID=America/Detroit:20100412T180000
SUMMARY:Presentation:Sylva Fischerova
DESCRIPTION:Sylva FischerovÃ¡ was born in Prague in 1963. She has published six volumes of  poems in Czech\, including The Tremor of Racehorses: Selected Poems and The  Swing in the Middle of Chaos: Selected Poems\, which have been translated into  English. She has also appeared in several translations and anthologies\, including  New European Poets (Graywolf\, 2008). She lived in the Moravian town of Olomouc  for twenty years\, where her father\, a distinguished philosopher and sociologist\, had  been rector of Olomouc University. After 1948\, his non-Marxist views prevented him  from publishing in his own country. Translator Stuart Friebert writes of her work that  her “knowledge of human history\, the ways she moves in and out of historical  events\, with an understanding and loving eye turned on our frailties as well as our  corruptive tendencies\, against the backdrop of her commanding sense of space and  time\, ”˜makes beauty from monsters.'” She currently teaches ancient Greek  literature and philosophy at the Charles University in Prague.
UID:166-910087@events.umich.edu
URL:https://events.umich.edu/event/166
CLASS:PUBLIC
STATUS:CONFIRMED
CATEGORIES:literary arts
LOCATION:Museum of Art - Helmut Stern Auditorium
CONTACT:
END:VEVENT
BEGIN:VEVENT
DTSTAMP:20100412T030002
DTSTART;TZID=America/Detroit:20100412T200000
SUMMARY:Other:Campus Symphony Orchestra
DESCRIPTION:Oriol Sans\, graduate student conductor.  PROGRAM:  Dvorak - Symphony No. 8\; Falla - Three-Cornered Hat Suite No. 2\; Marquez - Danzon No. 2
UID:1825-916661@events.umich.edu
URL:https://events.umich.edu/event/1825
CLASS:PUBLIC
STATUS:CONFIRMED
CATEGORIES:music
LOCATION:Hill Auditorium -  
CONTACT:
END:VEVENT
BEGIN:VEVENT
DTSTAMP:20100929T110405
DTSTART;TZID=America/Detroit:20100412T200000
DTEND;TZID=America/Detroit:20100412T220000
SUMMARY:Meeting:Gender Explorers
DESCRIPTION:A social and support group for transgender\, transsexual\, genderqueer\, TG-questioning people and those who transgress gender binaries.\n\nThis safe\, open\, and affirming space includes discussion\, fellowship\, and significant others.\n\nThe group meets on the 2nd and 4th Monday of each month in the Spectrum Center.  To participate and to learn more\, email PJ at pajeho@umich.edu
UID:2680-920395@events.umich.edu
URL:https://events.umich.edu/event/2680
CLASS:PUBLIC
STATUS:CONFIRMED
CATEGORIES:multicultural,social justice,spectrumcenter
LOCATION:Michigan Union - 3200
CONTACT:
END:VEVENT
BEGIN:VEVENT
DTSTAMP:20100412T030002
DTSTART;TZID=America/Detroit:20100412T200000
SUMMARY:Other:Masters Recital:  Pia Eva Greiner\, cello
DESCRIPTION:PROGRAM:  Bach - Suite for solo cello No. 5 in C Minor\; Marinu - Variations on a theme of Rossini\; Brahms - Sonata for cello and piano No. 2 in F Major
UID:2254-918762@events.umich.edu
URL:https://events.umich.edu/event/2254
CLASS:PUBLIC
STATUS:CONFIRMED
CATEGORIES:music
LOCATION:
CONTACT:
END:VEVENT
BEGIN:VEVENT
DTSTAMP:20100412T030002
DTSTART;TZID=America/Detroit:20100412T200000
SUMMARY:Other:Michigan Chamber Players
DESCRIPTION:A Musical Equation: Text + Music = MCP  PROGRAM: Dutilleux - \"Les Citations\" Diptych for Oboe\, Percussion\, Harpsichord and Double Bass  Nancy Ambrose King (oboe)\, Diana Gannett (bass)\, Joe Gramley (percussion)\, Daniel Pesca (harpsichord)\; Martinu - La Revue de Cuisine   Robert Swedberg (director)\, Dan Gilbert (clarinet)\, Jeffrey Lyman (bassoon)\, William Campbell (trumpet)\, Paul Dwyer (cello)\, Stephen Shipps (violin)\, Katherine Collier (piano)\; Walton - FaÃ§ade   Joan Morris and Philip Kerr (narrators)\, Amy Porter (flute/ piccolo)\, Dan Gilbert (clarinet)\, Donald Sinta (saxophone)\, William Campbell (trumpet)\, Joe Gramley (percussion)\, Paul Dwyer and Martin Torch-Ishii (cello)Sponsored by UMS
UID:757-912465@events.umich.edu
URL:https://events.umich.edu/event/757
CLASS:PUBLIC
STATUS:CONFIRMED
CATEGORIES:music
LOCATION:Walgreen Drama Center - Stamps Auditorium
CONTACT:
END:VEVENT
BEGIN:VEVENT
DTSTAMP:20100412T030002
DTSTART;TZID=America/Detroit:20100412T200000
SUMMARY:Other:Senior Recital: Katherine Weintraub\, saxophone
DESCRIPTION:PROGRAM:  Bolcom - Lilith\; Zupko - In Transit\; Crumb - Quest\; Heffield\, Burton and Ulrich - Orion
UID:2271-918775@events.umich.edu
URL:https://events.umich.edu/event/2271
CLASS:PUBLIC
STATUS:CONFIRMED
CATEGORIES:music
LOCATION:Earl V. Moore Building - McIntosh Theatre
CONTACT:
END:VEVENT
BEGIN:VEVENT
DTSTAMP:20100412T030002
DTSTART;TZID=America/Detroit:20100412T200000
SUMMARY:Other:Student String Quartet Recital
DESCRIPTION:
UID:2353-918949@events.umich.edu
URL:https://events.umich.edu/event/2353
CLASS:PUBLIC
STATUS:CONFIRMED
CATEGORIES:music
LOCATION:Earl V. Moore Building - Britton Recital Hall
CONTACT:
END:VEVENT
END:VCALENDAR