BEGIN:VCALENDAR
VERSION:2.0
PRODID:-//UM//UM*Events//EN
CALSCALE:GREGORIAN
BEGIN:VTIMEZONE
TZID:America/Detroit
TZURL:http://tzurl.org/zoneinfo/America/Detroit
X-LIC-LOCATION:America/Detroit
BEGIN:DAYLIGHT
TZOFFSETFROM:-0500
TZOFFSETTO:-0400
TZNAME:EDT
DTSTART:20070311T020000
RRULE:FREQ=YEARLY;BYMONTH=3;BYDAY=2SU
END:DAYLIGHT
BEGIN:STANDARD
TZOFFSETFROM:-0400
TZOFFSETTO:-0500
TZNAME:EST
DTSTART:20071104T020000
RRULE:FREQ=YEARLY;BYMONTH=11;BYDAY=1SU
END:STANDARD
END:VTIMEZONE
BEGIN:VEVENT
DTSTAMP:20101111T175629
DTSTART;TZID=America/Detroit:20100413T000000
SUMMARY:Exhibition:Exhibit of Recent Aquisitions
DESCRIPTION:This exhibit includes an extraordinarily wide variety of primary source material collected to support current and  future research.  Among the items on display are:  a watercolor “portrait” of a railroad bridge built in Prague in  1850\, original artwork by local artist Tom Pohrt for a children's book written by Justice Sandra Day O'Connor\, a  diary and photographs from a female UM student who hitchhiked from Ann Arbor to San Francisco in 1923\, a  Spanish text from 1693 for those studying to be soldiers\, and Dante's Divine Comedy with illustrations by  Salvador Dali.  \n\nNew archival collections with samples on display include the papers of film director Robert Altman and writers  Nicholas Delbanco and Richard Tillinghast\, as well as four separate women involved in radical causes such as  Clarence Darrow's 1907 defense of union leaders accused of murder and the ecological costs of technology.   This is the first opportunity for the public to see materials from the Altman Collection\, which is estimated to be  1\,000 linear feet in size and is now being sorted and processed for use.
UID:748-911488@events.umich.edu
URL:https://events.umich.edu/event/748
CLASS:PUBLIC
STATUS:CONFIRMED
CATEGORIES:visual arts
LOCATION:Hatcher Graduate Library - 7th Floor Special Collections Library
CONTACT:
END:VEVENT
BEGIN:VEVENT
DTSTAMP:20101111T175620
DTSTART;TZID=America/Detroit:20100413T000000
SUMMARY:Exhibition:Permanent Exhibits at the Exhibit Museum of Natural History
DESCRIPTION:The Hall of Evolution houses Michigan's largest display of prehistoric life. More than 600 million years of life on Earth are traced through fossils\, models and dioramas. The Michigan Wildlife Gallery has a large collection of native Great Lakes birds\, mammals\, reptiles\, and amphibians\, with taxidermy mounts\, habitat scenes\, and the largest mastodon trackway on display in the world. There are also displays about some of the environmental problems faced in this region today. The Anthropology Displays feature artifacts from human cultures around the world. The Geology Displays on the fourth floor offer a large selection of rocks\, minerals and gems. These displays are updated periodically. For more information go to www.lsa.umich.edu/exhibitmuseum/exhibits/permexhibits or call 734-764-0480.
UID:452-910649@events.umich.edu
URL:https://events.umich.edu/event/452
CLASS:PUBLIC
STATUS:CONFIRMED
CATEGORIES:
LOCATION:Ruthven Museums Building
CONTACT:
END:VEVENT
BEGIN:VEVENT
DTSTAMP:20100414T093330
DTSTART;TZID=America/Detroit:20100413T073000
DTEND;TZID=America/Detroit:20100413T200000
SUMMARY:Exhibition:Ida Abreu\, Cape Verdean Artist/Sculptor Exposition
DESCRIPTION:IdÃ¡ Abreu\, Cape Verdean artist and sculptor\n\nAll Artist Residency Events free and open to the public  at Palmer Commons\, 100 Washtenaw Avenue\, Ann Arbor\, Michigan\n\nArtwork Exhibit April 12-28\, 2010\, fourth floor Atrium\, Palmer Commons Monday through Friday\, 7:30 a.m. – 8:00 p.m. with personal hosting by artist IdÃ¡ Abreu from 2-5 p.m.\, Monday through Friday\n\nFaculty Host\, Marlyse Baptista Center for AfricanAmerican and African Studies and Linguistics Contact information: Center for World Performance Studies ”¢ 1080 S. University ”¢ Suite 3616 ”¢ Ann Arbor\, MI  48109-1106 P (734) 936-2777 ”¢ E cwps@umich.edu ”¢ www.umich.edu/cwps University of Michigan ”¢ International Institute The Center for World Performance Studies and the Center for Latin American and Caribbean Studies proudly introduce artist resident Illustration: IdÃ¡ Abreu / Poster: Shannon Rolston Designs
UID:3873-920621@events.umich.edu
URL:https://events.umich.edu/event/3873
CLASS:PUBLIC
STATUS:CONFIRMED
CATEGORIES:visual arts,multicultural
LOCATION:Palmer Commons - Atrium 4
CONTACT:
END:VEVENT
BEGIN:VEVENT
DTSTAMP:20100318T170051
DTSTART;TZID=America/Detroit:20100413T080000
SUMMARY:Exhibition:Exhibit: The Ghost Army
DESCRIPTION:This exhibit tells the story of the Ghost Army from WWII. In June of 1944\, an  exceptional U.S. Army unit went into action in Normandy. Its weapons included  hundreds of inflatable tanks and a one-of-a-kind collection of sound effects  records\, and it carried out its battlefield mission without firing a shot. The unit was  officially called the 23rd Headquarters Special Troops\, but it was known to its men  as The Ghost Army.\n\nMembers of The Ghost Army adhered to a decades-long gag order\; many never  told their families about their extraordinary military service. Sixty-five years after  this top-secret group went into action\, the University of Michigan's Hatcher Library  will unveil the first public exhibit of this captivating group of materials documenting  The Ghost Army. \n\nThis exhibit is available during library hours. See http://www.lib.umich.edu/hatcher- graduate-library.
UID:1124-913949@events.umich.edu
URL:https://events.umich.edu/event/1124
CLASS:PUBLIC
STATUS:CONFIRMED
CATEGORIES:visual arts
LOCATION:Hatcher Graduate Library - Gallery in Room 100
CONTACT:
END:VEVENT
BEGIN:VEVENT
DTSTAMP:20101111T175759
DTSTART;TZID=America/Detroit:20100413T080000
DTEND;TZID=America/Detroit:20100413T170000
SUMMARY:Exhibition:History of Dentistry exhibits at the Sindecuse Museum of Dentistry
DESCRIPTION:Exhibits at the Sindecuse Museum of Dentistry include Dental Operatories of the 1860s to 1930s\, St. Apollonia-Patron Saint of Dentistry and more. Call 763-0767 or go to www.dent.umich.edu/museum for more information.
UID:3856-917526@events.umich.edu
URL:https://events.umich.edu/event/3856
CLASS:PUBLIC
STATUS:CONFIRMED
CATEGORIES:
LOCATION:Dental & W.K. Kellogg Institute
CONTACT:
END:VEVENT
BEGIN:VEVENT
DTSTAMP:20100407T151643
DTSTART;TZID=America/Detroit:20100413T083000
DTEND;TZID=America/Detroit:20100413T190000
SUMMARY:Exhibition:Exhibit: Treasures of the Library
DESCRIPTION:Step into the Audubon Room in the University of Michigan's Hatcher Graduate  Library to view a collection of library treasures.  The collection includes:  a 2250- year-old papyrus document from ancient Philadelphia\, reporting the loss of a  donkey\; a 400-year-old manuscript by Galileo\, in which he explains the usefulness  of the telescope\; and the first book purchased by the Board of Regents\, \"The Birds of  America\,\" published in 1838\, with original drawings by John James Audubon. \n\nHours: Mon-Fri 8:30am-7pm\, Sat 10am-6pm\,  Sun 1-7pm.
UID:2332-918897@events.umich.edu
URL:https://events.umich.edu/event/2332
CLASS:PUBLIC
STATUS:CONFIRMED
CATEGORIES:visual arts,literary arts
LOCATION:Hatcher Graduate Library - Audubon Room
CONTACT:
END:VEVENT
BEGIN:VEVENT
DTSTAMP:20090722T143534
DTSTART;TZID=America/Detroit:20100413T090000
DTEND;TZID=America/Detroit:20100413T170000
SUMMARY:Exhibition:Ida: Darwinius masillae
DESCRIPTION:\"Ida\,\" a new exhibit in the Exhibit Museum's Rotunda\, displays a high-resolution cast of an extremely rare  fossil discovered in 1983 near Messel\, Germany\, but only recently made available for study. The fossil has  proven to be a “link” between the prosimian and simian (\"anthropoid\") primate lineages. It has \"advanced\"  front teeth (incisors and canines) and second toes like those of monkeys\, and is broadly representative of what  human primate ancestors may have looked like during the Eocene epoch 47 million years ago.     Ida (prounded \"eeda\") is named after after the daughter of Dr JÃ¸rn Hurum\, the Norwegian vertebrate  paleontologist who secured one section of the fossil from an anonymous owner\, and led the research. Ida was  about eight months old\, or the equivalent of a six-year-old human.     Publication of a paper on the discovery was accompanied by a book\, The Link: Uncovering Our Earliest  Ancestors by Colin Tudge\, and a documentary shown on the History Channel (US)\, BBC One (UK)\,and various  stations in Germany and Norway.     U-M paleontologist Philip Gingerich and U-M anthropologist B. Holly Smith were two members of the \"dream  team\" invited to study Ida. The exhibit will be on display through May 2010.
UID:2124-918283@events.umich.edu
URL:https://events.umich.edu/event/2124
CLASS:PUBLIC
STATUS:CONFIRMED
CATEGORIES:multicultural,visual arts,welcome week
LOCATION:
CONTACT:
END:VEVENT
BEGIN:VEVENT
DTSTAMP:20101111T175734
DTSTART;TZID=America/Detroit:20100413T090000
DTEND;TZID=America/Detroit:20100413T170000
SUMMARY:Exhibition:Scott Hocking Installation
DESCRIPTION:Scott Hocking explores the abandoned buildings and sites of Detroit like a  newfangled scientist. He gathers raw data in his excavations\, and records his  findings using a wholly unique and modern process and method that he intuitively  formulates as he goes along. In his ongoing study of a city so rooted in a dense  past\, and the emotional attachments that accompany it\, Hocking is  uncompromising and unflinching\, and refuses to buy into the hype. His visual  essays chronicling urban markings of modern day ruin are not the stuff of tragedy  or fodder for magazine centerfolds\, but proof of a renaissance in real time.  Hocking's work is fully alive\, and honors the world going past and us moving forward  along with it\, exhilarated by industrial parks returning to fallow land\, and strawberry  bushes growing in the cracked concrete.
UID:1793-915929@events.umich.edu
URL:https://events.umich.edu/event/1793
CLASS:PUBLIC
STATUS:CONFIRMED
CATEGORIES:visual arts
LOCATION:202 S. Thayer - 1010
CONTACT:
END:VEVENT
BEGIN:VEVENT
DTSTAMP:20101111T175600
DTSTART;TZID=America/Detroit:20100413T100000
DTEND;TZID=America/Detroit:20100413T170000
SUMMARY:Exhibition:Stearns Collection of Music
DESCRIPTION:The Stearns Collection at the School of Music\, Theatre & Dance is one of six major collections of musical instruments in North America. The 2\,500-piece collection is internationally known and is a resource for musical and cultural education.
UID:3790-909258@events.umich.edu
URL:https://events.umich.edu/event/3790
CLASS:PUBLIC
STATUS:CONFIRMED
CATEGORIES:
LOCATION:Earl V. Moore Building
CONTACT:
END:VEVENT
BEGIN:VEVENT
DTSTAMP:20100323T123612
DTSTART;TZID=America/Detroit:20100413T120000
DTEND;TZID=America/Detroit:20100413T140000
SUMMARY:Lecture / Discussion:National Nursing Workforce Shortage: What is the Future for Public Health?
DESCRIPTION:Presentations will explore the changing nursing workforce and the implications for current and future public health nursing. Speakers will review recent trends in the workforce\, address policy and research priorities\, and describe initiatives and programs focusing on workforce sustainability. Distinguished speakers include Dr. Peter Buerhaus\, director of the Center for Interdisciplinary Health Workforce Studies and Valere Potter Distinguished Professor of Nursing\, Institute for Medicine and Public Health at Vanderbilt University\,  Dr. Kyu Rhee\, Chief Public Health Officer\, Health Resources and Services Administration (HRSA)\, U.S. Department of Health and Human Services\, and Dr. Susan Hassmiller\, Senior Adviser for Nursing\, Robert Wood Johnson Foundation.  Pre-registration required at: www.mitrainingcenter.org.
UID:1798-916642@events.umich.edu
URL:https://events.umich.edu/event/1798
CLASS:PUBLIC
STATUS:CONFIRMED
CATEGORIES:
LOCATION:Palmer Commons - Great Lake Room
CONTACT:
END:VEVENT
BEGIN:VEVENT
DTSTAMP:20101111T175850
DTSTART;TZID=America/Detroit:20100413T160000
DTEND;TZID=America/Detroit:20100413T173000
SUMMARY:Workshop / Seminar:Protective and Damaging Effects of Mediators of Stress and Adaption: Central Role of the Brain and the Social Environment
DESCRIPTION:Bruce McEwen\, Alfred E. Mirsky Professor\, Harold and Margaret Milliken Hatch  Laboratory of Neuroendocrinology\, The Rockefeller University\, will present the last  CSEPH/RWJ 2010 Winter Seminar\, \"Protective and Damaging Effects of Mediators of  Stress and Adaption: Central Role of the Brain and the Social Environment\"
UID:3000-920907@events.umich.edu
URL:https://events.umich.edu/event/3000
CLASS:PUBLIC
STATUS:CONFIRMED
CATEGORIES:
LOCATION:School of Public Health Bldg I and Crossroads and Tower - 1655
CONTACT:
END:VEVENT
BEGIN:VEVENT
DTSTAMP:20101111T175825
DTSTART;TZID=America/Detroit:20100413T183000
DTEND;TZID=America/Detroit:20100413T200000
SUMMARY:Lecture / Discussion:The Raoul Wallenberg Lecture: Alejandro Aravena\, ELEMENTAL S.A.
DESCRIPTION:Alejandro Aravena is the executive director of ELEMENTAL S.A. and a professor at  professor at the Universidad CatÃ³lica. \n\nHis work includes the Mathematics Faculty\, the Medical Faculty\, the Siamese Tower  and the Architecture School for the Universidad CatÃ³lica\, the Huelquen Montessori  School\, a House for a Sculptor\, a House in the Pirehueico Lake\, the new facilities for  St. Edward's University in Austin\, Texas\, new children workshops and training  facilities forVitra in Weil am Rhein\, a Villa in Ordos\, Inner Mongolia and social  housing and urban projects for Elemental. \n\nHe has received several awards: Silver Lion at the XI Venice Biennale\, 1st Prize in  the XII and the XV Santiago Biennale\, the Erich Schelling Architecture Medal 2006  (Germany)\, finalist in the Mies van der Rohe Award (2000)\, finalist in the Iakhov  Chernikhov Prize 2008 (Moscow)\, finalist in the Global Award for Sustainable  Architecture 2008 (Paris). \n\nHe is the author of various books: Los Hechos de la Arquitectura (Ed. ARQ 1999\, 3 ª  ediciÃ³n 2007)\, El Lugar de la Arquitectura (Ed. ARQ 2002) y Material de Arquitectura  (Ed. ARQ 2003). His work has been exhibited in several places: X-hibition\,  retrospective at Harvard GSD (2004)\, X in Centro de ExtensiÃ³n UC\, Sao Paulo  Biennale (2007)\, Milan Triennale (2008)\, Venice Biennale. \n\nHis work has been published in Japan (A+U)\, UK (Icon\, Monocle y en World Atlas of  Contemporary Architecture\, 10 x 10 Vol.2\, 21st Century Architecture and World  Interiors for Phaidon)\, Italy (Casabella\, Lotus\, Abitare\, The Plan y Domus)\, Spain  (Verb-Crisis\, Arquitectura Viva\, VIA)\, Germany (Detail\, Arch+\, Taschen Architecture  Now 6 y Architecture Now Houses)\, Russia (Monitor\, Project Russia\, Projekt  International)\, Croacia (Oris)\, China (Space\, Interior Design\, HomeIdea\, Vision\,  DI)\, Canada (Azure)\, Taiwan (IW)\, Netherlands (Mark)\, Korea (C3)\, Hong Kong  (Egg)\, United States (Architectural Record\, Harvard Design Magazine\, Dwell\, Praxis)\,  Portugal (JA)\, Poland (Igloo)\, Rumania (Arhitetura)\, France (Ecologik)\, Mexico  (Arquine\, La Tempestad)\, Brazil (AU\, Projeto\, Vitrubius)\, Argentina (Summa+)\, Peru  (Arkinka) and Chile (ARQ y CA). He has been included in Kenneth Frampton's 4th  edition of Modern Architecture\; a critical history. Electa has published a monography  called Alejandro Aravena\, progettare e costruire (Milan\, 2007). \n\nHe has lectured extensively: Colegio de Arquitectos de CataluÃ±a\, Urban Age Sao  Paulo\, RIBA in Londres\, IUAV in Venice\, America ´s Society in NY\, IDB in  Washington\, Catedra Corona in Colombia\, . He studied history and theory at the  Istituto Universitario di Architettura di Venezia (1992-93). \n\nHe was Visiting Professor at Harvard GSD (2000-05). He is professor at the  Universidad CatÃ³lica (since 1994) and Elemental Copec Professor at the UC (since  2006). He has just been appointed member of the Pritzker Prize Jury\, starting on  January 1st. 2009 \n\nAbout The Raoul Wallenberg Lecture: Raoul Wallenberg graduated from the  University of Michigan with a degree in architecture in 1935. \n\nWallenberg's legacy is \"architecture/design as a humane social art.\" During WWII\,  Wallenberg designed/created shutzpasses. Those fortunate to receive one were  protected from the atrocities of the Nazis\, particularly in Budapest. Wallenberg was  responsible for setting up safe houses and issued \"passports\" that spared  thousands from the concentration camps.
UID:2568-919275@events.umich.edu
URL:https://events.umich.edu/event/2568
CLASS:PUBLIC
STATUS:CONFIRMED
CATEGORIES:social justice
LOCATION:Art and Architecture Building - A+A Aud (Rm 2104)
CONTACT:
END:VEVENT
BEGIN:VEVENT
DTSTAMP:20100413T030002
DTSTART;TZID=America/Detroit:20100413T193000
SUMMARY:Other:Saxophone Studio Gala Recital
DESCRIPTION:Students of Professor Donald Sinta.
UID:2764-920478@events.umich.edu
URL:https://events.umich.edu/event/2764
CLASS:PUBLIC
STATUS:CONFIRMED
CATEGORIES:music
LOCATION:Walgreen Drama Center - Stamps Auditorium
CONTACT:
END:VEVENT
BEGIN:VEVENT
DTSTAMP:20091211T154016
DTSTART;TZID=America/Detroit:20100413T200000
DTEND;TZID=America/Detroit:20100413T230000
SUMMARY:Other:Artsbreak
DESCRIPTION:Artsbreak is a FREE arts and crafts night every Tuesday from 8pm-11pm in the MUG (Michigan Union Ground floor). Examples of crafts we've done in the past are: painting pumpkins\, decorating small canvas tote bags\, wire photo holders\, polar fleece scarves\, and jewelry making. For the most updated craft list or to suggest a craft\, email artsbreak-uuap@umich.edu to get on our weekly listserv\, or check out UUAP's website.
UID:1256-914145@events.umich.edu
URL:https://events.umich.edu/event/1256
CLASS:PUBLIC
STATUS:CONFIRMED
CATEGORIES:visual arts
LOCATION:Michigan Union - MUG
CONTACT:
END:VEVENT
BEGIN:VEVENT
DTSTAMP:20100413T030002
DTSTART;TZID=America/Detroit:20100413T200000
SUMMARY:Other:Senior Recital:  Renaudo Robinson\, violin
DESCRIPTION:PROGRAM:  Brahms - Sonata No. 1 in G Major\, Op. 78 for Violin and Piano\; FiÅ¡er - Ruce (Hands): Sonata for Violin and Piano\; Gerswin - Porgy and Bess\; Sibelius -  Concerto in D Minor\, Op. 47 for Violin and PianoDate: 1903 Composer: Jean Sibelius Composer Dates: 1865-1957 Movement 1: Allegro moderato Accompanist: Frank Chiou Degree: BM
UID:1236-914070@events.umich.edu
URL:https://events.umich.edu/event/1236
CLASS:PUBLIC
STATUS:CONFIRMED
CATEGORIES:music
LOCATION:Stearns Building - Cady Room
CONTACT:
END:VEVENT
BEGIN:VEVENT
DTSTAMP:20100413T030002
DTSTART;TZID=America/Detroit:20100413T200000
SUMMARY:Other:Third Dissertation Recital:  JungHee Scott\, soprano
DESCRIPTION:PROGRAM:  Handel - Sweet Bird\; Saint-Saens - Le rossignol et la rose\; Chausson - Le colibri\;  Hahn - Le rossignol des lilas\; Mozart - Oiseaux\, si tous les ans\; Rimsky-Korsakov - B25BL <=5\, 7>@:>5 A25B8\;> (Hymn to the sun) from opera >\;>B>9 5BCH>: (The golden cockerel)\; Duke - The Bird\; Head - A blackbird singing\; Hundley - Waterbird\; Brahms - An die Nachtigall\; Szymanowski - SBowik (The nightingale)\; Berg - Die Nachtigall\; Bishop - Lo\, here the gentle lark
UID:410-911545@events.umich.edu
URL:https://events.umich.edu/event/410
CLASS:PUBLIC
STATUS:CONFIRMED
CATEGORIES:music
LOCATION:Earl V. Moore Building - Britton Recital Hall
CONTACT:
END:VEVENT
BEGIN:VEVENT
DTSTAMP:20100413T030002
DTSTART;TZID=America/Detroit:20100413T200000
SUMMARY:Other:UM Trombone Ensemble
DESCRIPTION:Ann Arbor Trombone Choir\, featured guests.  The UM Trombone Ensemble will perform works for quartets\, sextets and trombone choir.
UID:2749-920461@events.umich.edu
URL:https://events.umich.edu/event/2749
CLASS:PUBLIC
STATUS:CONFIRMED
CATEGORIES:music
LOCATION:Earl V. Moore Building - McIntosh Theatre
CONTACT:
END:VEVENT
BEGIN:VEVENT
DTSTAMP:20100413T030002
DTSTART;TZID=America/Detroit:20100413T200000
SUMMARY:Other:University Choir
DESCRIPTION:Paul Rardin\, conductor.  The University Choir presents music by contemporary American composers featuring Peter Quince at the Clavier by Dominick Argento. This piece\, set to a poem by Wallace Stevens and based on the biblical story of Susanna and the Elders\, is subtitled “Sonatina for Mixed Chorus and Piano Concertante” for its active and virtuosic piano part. The program also includes music by Eric Whitacre\, Edwin Fissinger\, and Eric William Barnum.
UID:419-910526@events.umich.edu
URL:https://events.umich.edu/event/419
CLASS:PUBLIC
STATUS:CONFIRMED
CATEGORIES:music
LOCATION:Hill Auditorium -  
CONTACT:
END:VEVENT
END:VCALENDAR