BEGIN:VCALENDAR
VERSION:2.0
PRODID:-//UM//UM*Events//EN
CALSCALE:GREGORIAN
BEGIN:VTIMEZONE
TZID:America/Detroit
TZURL:http://tzurl.org/zoneinfo/America/Detroit
X-LIC-LOCATION:America/Detroit
BEGIN:DAYLIGHT
TZOFFSETFROM:-0500
TZOFFSETTO:-0400
TZNAME:EDT
DTSTART:20070311T020000
RRULE:FREQ=YEARLY;BYMONTH=3;BYDAY=2SU
END:DAYLIGHT
BEGIN:STANDARD
TZOFFSETFROM:-0400
TZOFFSETTO:-0500
TZNAME:EST
DTSTART:20071104T020000
RRULE:FREQ=YEARLY;BYMONTH=11;BYDAY=1SU
END:STANDARD
END:VTIMEZONE
BEGIN:VEVENT
DTSTAMP:20101111T175629
DTSTART;TZID=America/Detroit:20100414T000000
SUMMARY:Exhibition:Exhibit of Recent Aquisitions
DESCRIPTION:This exhibit includes an extraordinarily wide variety of primary source material collected to support current and  future research.  Among the items on display are:  a watercolor “portrait” of a railroad bridge built in Prague in  1850\, original artwork by local artist Tom Pohrt for a children's book written by Justice Sandra Day O'Connor\, a  diary and photographs from a female UM student who hitchhiked from Ann Arbor to San Francisco in 1923\, a  Spanish text from 1693 for those studying to be soldiers\, and Dante's Divine Comedy with illustrations by  Salvador Dali.  \n\nNew archival collections with samples on display include the papers of film director Robert Altman and writers  Nicholas Delbanco and Richard Tillinghast\, as well as four separate women involved in radical causes such as  Clarence Darrow's 1907 defense of union leaders accused of murder and the ecological costs of technology.   This is the first opportunity for the public to see materials from the Altman Collection\, which is estimated to be  1\,000 linear feet in size and is now being sorted and processed for use.
UID:748-911489@events.umich.edu
URL:https://events.umich.edu/event/748
CLASS:PUBLIC
STATUS:CONFIRMED
CATEGORIES:visual arts
LOCATION:Hatcher Graduate Library - 7th Floor Special Collections Library
CONTACT:
END:VEVENT
BEGIN:VEVENT
DTSTAMP:20101111T175620
DTSTART;TZID=America/Detroit:20100414T000000
SUMMARY:Exhibition:Permanent Exhibits at the Exhibit Museum of Natural History
DESCRIPTION:The Hall of Evolution houses Michigan's largest display of prehistoric life. More than 600 million years of life on Earth are traced through fossils\, models and dioramas. The Michigan Wildlife Gallery has a large collection of native Great Lakes birds\, mammals\, reptiles\, and amphibians\, with taxidermy mounts\, habitat scenes\, and the largest mastodon trackway on display in the world. There are also displays about some of the environmental problems faced in this region today. The Anthropology Displays feature artifacts from human cultures around the world. The Geology Displays on the fourth floor offer a large selection of rocks\, minerals and gems. These displays are updated periodically. For more information go to www.lsa.umich.edu/exhibitmuseum/exhibits/permexhibits or call 734-764-0480.
UID:452-910650@events.umich.edu
URL:https://events.umich.edu/event/452
CLASS:PUBLIC
STATUS:CONFIRMED
CATEGORIES:
LOCATION:Ruthven Museums Building
CONTACT:
END:VEVENT
BEGIN:VEVENT
DTSTAMP:20100414T093330
DTSTART;TZID=America/Detroit:20100414T073000
DTEND;TZID=America/Detroit:20100414T200000
SUMMARY:Exhibition:Ida Abreu\, Cape Verdean Artist/Sculptor Exposition
DESCRIPTION:IdÃ¡ Abreu\, Cape Verdean artist and sculptor\n\nAll Artist Residency Events free and open to the public  at Palmer Commons\, 100 Washtenaw Avenue\, Ann Arbor\, Michigan\n\nArtwork Exhibit April 12-28\, 2010\, fourth floor Atrium\, Palmer Commons Monday through Friday\, 7:30 a.m. – 8:00 p.m. with personal hosting by artist IdÃ¡ Abreu from 2-5 p.m.\, Monday through Friday\n\nFaculty Host\, Marlyse Baptista Center for AfricanAmerican and African Studies and Linguistics Contact information: Center for World Performance Studies ”¢ 1080 S. University ”¢ Suite 3616 ”¢ Ann Arbor\, MI  48109-1106 P (734) 936-2777 ”¢ E cwps@umich.edu ”¢ www.umich.edu/cwps University of Michigan ”¢ International Institute The Center for World Performance Studies and the Center for Latin American and Caribbean Studies proudly introduce artist resident Illustration: IdÃ¡ Abreu / Poster: Shannon Rolston Designs
UID:3873-920622@events.umich.edu
URL:https://events.umich.edu/event/3873
CLASS:PUBLIC
STATUS:CONFIRMED
CATEGORIES:visual arts,multicultural
LOCATION:Palmer Commons - Atrium 4
CONTACT:
END:VEVENT
BEGIN:VEVENT
DTSTAMP:20100318T170051
DTSTART;TZID=America/Detroit:20100414T080000
SUMMARY:Exhibition:Exhibit: The Ghost Army
DESCRIPTION:This exhibit tells the story of the Ghost Army from WWII. In June of 1944\, an  exceptional U.S. Army unit went into action in Normandy. Its weapons included  hundreds of inflatable tanks and a one-of-a-kind collection of sound effects  records\, and it carried out its battlefield mission without firing a shot. The unit was  officially called the 23rd Headquarters Special Troops\, but it was known to its men  as The Ghost Army.\n\nMembers of The Ghost Army adhered to a decades-long gag order\; many never  told their families about their extraordinary military service. Sixty-five years after  this top-secret group went into action\, the University of Michigan's Hatcher Library  will unveil the first public exhibit of this captivating group of materials documenting  The Ghost Army. \n\nThis exhibit is available during library hours. See http://www.lib.umich.edu/hatcher- graduate-library.
UID:1124-913950@events.umich.edu
URL:https://events.umich.edu/event/1124
CLASS:PUBLIC
STATUS:CONFIRMED
CATEGORIES:visual arts
LOCATION:Hatcher Graduate Library - Gallery in Room 100
CONTACT:
END:VEVENT
BEGIN:VEVENT
DTSTAMP:20101111T175759
DTSTART;TZID=America/Detroit:20100414T080000
DTEND;TZID=America/Detroit:20100414T170000
SUMMARY:Exhibition:History of Dentistry exhibits at the Sindecuse Museum of Dentistry
DESCRIPTION:Exhibits at the Sindecuse Museum of Dentistry include Dental Operatories of the 1860s to 1930s\, St. Apollonia-Patron Saint of Dentistry and more. Call 763-0767 or go to www.dent.umich.edu/museum for more information.
UID:3856-917527@events.umich.edu
URL:https://events.umich.edu/event/3856
CLASS:PUBLIC
STATUS:CONFIRMED
CATEGORIES:
LOCATION:Dental & W.K. Kellogg Institute
CONTACT:
END:VEVENT
BEGIN:VEVENT
DTSTAMP:20100407T151643
DTSTART;TZID=America/Detroit:20100414T083000
DTEND;TZID=America/Detroit:20100414T190000
SUMMARY:Exhibition:Exhibit: Treasures of the Library
DESCRIPTION:Step into the Audubon Room in the University of Michigan's Hatcher Graduate  Library to view a collection of library treasures.  The collection includes:  a 2250- year-old papyrus document from ancient Philadelphia\, reporting the loss of a  donkey\; a 400-year-old manuscript by Galileo\, in which he explains the usefulness  of the telescope\; and the first book purchased by the Board of Regents\, \"The Birds of  America\,\" published in 1838\, with original drawings by John James Audubon. \n\nHours: Mon-Fri 8:30am-7pm\, Sat 10am-6pm\,  Sun 1-7pm.
UID:2332-918898@events.umich.edu
URL:https://events.umich.edu/event/2332
CLASS:PUBLIC
STATUS:CONFIRMED
CATEGORIES:visual arts,literary arts
LOCATION:Hatcher Graduate Library - Audubon Room
CONTACT:
END:VEVENT
BEGIN:VEVENT
DTSTAMP:20090722T143534
DTSTART;TZID=America/Detroit:20100414T090000
DTEND;TZID=America/Detroit:20100414T170000
SUMMARY:Exhibition:Ida: Darwinius masillae
DESCRIPTION:\"Ida\,\" a new exhibit in the Exhibit Museum's Rotunda\, displays a high-resolution cast of an extremely rare  fossil discovered in 1983 near Messel\, Germany\, but only recently made available for study. The fossil has  proven to be a “link” between the prosimian and simian (\"anthropoid\") primate lineages. It has \"advanced\"  front teeth (incisors and canines) and second toes like those of monkeys\, and is broadly representative of what  human primate ancestors may have looked like during the Eocene epoch 47 million years ago.     Ida (prounded \"eeda\") is named after after the daughter of Dr JÃ¸rn Hurum\, the Norwegian vertebrate  paleontologist who secured one section of the fossil from an anonymous owner\, and led the research. Ida was  about eight months old\, or the equivalent of a six-year-old human.     Publication of a paper on the discovery was accompanied by a book\, The Link: Uncovering Our Earliest  Ancestors by Colin Tudge\, and a documentary shown on the History Channel (US)\, BBC One (UK)\,and various  stations in Germany and Norway.     U-M paleontologist Philip Gingerich and U-M anthropologist B. Holly Smith were two members of the \"dream  team\" invited to study Ida. The exhibit will be on display through May 2010.
UID:2124-918284@events.umich.edu
URL:https://events.umich.edu/event/2124
CLASS:PUBLIC
STATUS:CONFIRMED
CATEGORIES:welcome week,visual arts,multicultural
LOCATION:
CONTACT:
END:VEVENT
BEGIN:VEVENT
DTSTAMP:20101111T175621
DTSTART;TZID=America/Detroit:20100414T090000
DTEND;TZID=America/Detroit:20100414T110000
SUMMARY:Other:M-Reports Open House
DESCRIPTION:From recruiting and admissions to academics and finance\, deans\, directors\, faculty\,  and staff are using M-Reports to drive institutional excellence at U-M. Whether  you've only heard of M-Reports or are a current user\, this is the event for you!\n\nExperts will be on hand to demo current functionality\, share resources\, and explain  how your unit's data can be put into the system. Also learn more about BITV\, the  Business Intelligence Community of Experts (BICE)\, and much more!\n\nRegistration and more information at: http://www.bi.umich.edu/events/041410_M- Reports_open_house.html
UID:478-910908@events.umich.edu
URL:https://events.umich.edu/event/478
CLASS:PUBLIC
STATUS:CONFIRMED
CATEGORIES:
LOCATION:Palmer Commons - 4th Floor
CONTACT:
END:VEVENT
BEGIN:VEVENT
DTSTAMP:20101111T175734
DTSTART;TZID=America/Detroit:20100414T090000
DTEND;TZID=America/Detroit:20100414T170000
SUMMARY:Exhibition:Scott Hocking Installation
DESCRIPTION:Scott Hocking explores the abandoned buildings and sites of Detroit like a  newfangled scientist. He gathers raw data in his excavations\, and records his  findings using a wholly unique and modern process and method that he intuitively  formulates as he goes along. In his ongoing study of a city so rooted in a dense  past\, and the emotional attachments that accompany it\, Hocking is  uncompromising and unflinching\, and refuses to buy into the hype. His visual  essays chronicling urban markings of modern day ruin are not the stuff of tragedy  or fodder for magazine centerfolds\, but proof of a renaissance in real time.  Hocking's work is fully alive\, and honors the world going past and us moving forward  along with it\, exhilarated by industrial parks returning to fallow land\, and strawberry  bushes growing in the cracked concrete.
UID:1793-915930@events.umich.edu
URL:https://events.umich.edu/event/1793
CLASS:PUBLIC
STATUS:CONFIRMED
CATEGORIES:visual arts
LOCATION:202 S. Thayer - 1010
CONTACT:
END:VEVENT
BEGIN:VEVENT
DTSTAMP:20101111T175600
DTSTART;TZID=America/Detroit:20100414T100000
DTEND;TZID=America/Detroit:20100414T170000
SUMMARY:Exhibition:Stearns Collection of Music
DESCRIPTION:The Stearns Collection at the School of Music\, Theatre & Dance is one of six major collections of musical instruments in North America. The 2\,500-piece collection is internationally known and is a resource for musical and cultural education.
UID:3790-909259@events.umich.edu
URL:https://events.umich.edu/event/3790
CLASS:PUBLIC
STATUS:CONFIRMED
CATEGORIES:
LOCATION:Earl V. Moore Building
CONTACT:
END:VEVENT
BEGIN:VEVENT
DTSTAMP:20100309T105738
DTSTART;TZID=America/Detroit:20100414T161500
DTEND;TZID=America/Detroit:20100414T170000
SUMMARY:Other:Dealing With Procrastination: STOP PUTTING IT OFF!
DESCRIPTION:Learn approaches to dealing with avoidance and cutting down the amount of time you spend putting things off.
UID:854-912651@events.umich.edu
URL:https://events.umich.edu/event/854
CLASS:PUBLIC
STATUS:CONFIRMED
CATEGORIES:
LOCATION:Michigan Union - CAPS, Room 3100
CONTACT:
END:VEVENT
BEGIN:VEVENT
DTSTAMP:20101111T175638
DTSTART;TZID=America/Detroit:20100414T173000
DTEND;TZID=America/Detroit:20100414T193000
SUMMARY:Lecture / Discussion:Science Café: What is Life? Is synthetic life possible?
DESCRIPTION:With Diarmaid O'Foighil\, U-M Museum of Zoology and Department of Ecology and Evolutionary Biology. \n\nJoin us for a conversation about the complex systems and processes necessary to life. Can scientists make wholly  synthetic life forms? \n\nJoin us for hors d'oeuvres at 5:30 and a brief presentation at 6:00pm\, followed by discussion. Participants must be  21 to purchase alcoholic beverages. Everyone is welcome and invited to purchase additional food and beverages.
UID:640-912200@events.umich.edu
URL:https://events.umich.edu/event/640
CLASS:PUBLIC
STATUS:CONFIRMED
CATEGORIES:
LOCATION:
CONTACT:
END:VEVENT
BEGIN:VEVENT
DTSTAMP:20100414T030002
DTSTART;TZID=America/Detroit:20100414T200000
SUMMARY:Other:Concert Band
DESCRIPTION:Rodney Dorsey\, conductor.  PROGRAM:  Charbrier - March Joyuese\; Raman - Modhavi’s Dance at the Royal Court\; Massenet - Ballet Music from Le Cid\; Smith - Dance Mix\; Welcher - Song Without Words\; Weinberger - Polka and Fugue from Schwanda the Bagpiper
UID:1693-915704@events.umich.edu
URL:https://events.umich.edu/event/1693
CLASS:PUBLIC
STATUS:CONFIRMED
CATEGORIES:music
LOCATION:Hill Auditorium -  
CONTACT:
END:VEVENT
BEGIN:VEVENT
DTSTAMP:20100412T030002
DTSTART;TZID=America/Detroit:20100414T200000
SUMMARY:Other:Masters Recital:  Travis Kulwicki\, cello
DESCRIPTION:PROGRAM:  Beethoven - Trio for Piano\, Clarinet and Cello in B-flat Major\, Op. 11\; Glass - String Quartet No. 5\; Schumann - Piano Quintet in E-flat Major\, Op. 44
UID:1888-916722@events.umich.edu
URL:https://events.umich.edu/event/1888
CLASS:PUBLIC
STATUS:CONFIRMED
CATEGORIES:music
LOCATION:
CONTACT:
END:VEVENT
BEGIN:VEVENT
DTSTAMP:20100414T030002
DTSTART;TZID=America/Detroit:20100414T200000
SUMMARY:Other:Masters Recital:  Travis Kulwicki\, cello
DESCRIPTION:PROGRAM:  Beethoven - Trio for Piano\, Clarinet and Cello in B-flat Major\, Op. 11\; Glass - String Quartet No. 5\; Schumann - Piano Quintet in E-flat Major\, Op. 44
UID:1694-915705@events.umich.edu
URL:https://events.umich.edu/event/1694
CLASS:PUBLIC
STATUS:CONFIRMED
CATEGORIES:music
LOCATION:
CONTACT:
END:VEVENT
BEGIN:VEVENT
DTSTAMP:20100414T030002
DTSTART;TZID=America/Detroit:20100414T200000
SUMMARY:Other:Senior Recital:  Daphna Raz\, violin
DESCRIPTION:PROGRAM:  Mozart - Sonata for Piano and Violin No. 35 in A Major\, K.526\; YsaÃ¿e - Sonata for Solo Violin\, Op. 27\, No. 1\; Brahms - Sonata No. 1 for Violin and Piano in G Major\, Op. 78\; Saint-SaÃ«ns - Danse macabre\, Op. 40
UID:514-911030@events.umich.edu
URL:https://events.umich.edu/event/514
CLASS:PUBLIC
STATUS:CONFIRMED
CATEGORIES:music
LOCATION:Earl V. Moore Building - Britton Recital Hall
CONTACT:
END:VEVENT
BEGIN:VEVENT
DTSTAMP:20100412T030002
DTSTART;TZID=America/Detroit:20100414T200000
SUMMARY:Other:Senior Recital:  Daphna Raz\, violin
DESCRIPTION:PROGRAM:  Mozart - Sonata for Piano and Violin No. 35 in A Major\, K. 526\; YsaÃ¿e - Sonata for Solo Violin\, Op. 27\, No. 1\; Brahms - Sonata No. 1 for Violin and Piano in G Major\, Op. 78\; Saint-SaÃ«ns - Danse macabre\, Op. 40
UID:2880-921639@events.umich.edu
URL:https://events.umich.edu/event/2880
CLASS:PUBLIC
STATUS:CONFIRMED
CATEGORIES:music
LOCATION:Earl V. Moore Building - Britton Recital Hall
CONTACT:
END:VEVENT
BEGIN:VEVENT
DTSTAMP:20100414T030002
DTSTART;TZID=America/Detroit:20100414T200000
SUMMARY:Other:SMTD at UMMA:  Chamber Choir
DESCRIPTION:UM Chamber Choir\, with Jerry Blackstone\, conductor\, performs Joby Talbot’s Path of Miracles.  Scored for a cappella choir\, the 60-minute work in four movements surrounds the listener with sights\, sounds\, and emotions associated with ancient European pilgrimage sites.  Incorporating poetry and prose in several languages\, Latin liturgical texts\, and adventurous\, evocative choral writing\, it is one of the most captivating choral works of this century.
UID:2294-918813@events.umich.edu
URL:https://events.umich.edu/event/2294
CLASS:PUBLIC
STATUS:CONFIRMED
CATEGORIES:music
LOCATION:Museum of Art - Apse
CONTACT:
END:VEVENT
BEGIN:VEVENT
DTSTAMP:20100414T030002
DTSTART;TZID=America/Detroit:20100414T200000
SUMMARY:Other:Specialist Recital:  Melody Wilson\, mezzo-soprano
DESCRIPTION:PROGRAM:  Quilter - Fear no more the heat o' the sun/Under the greenwod tree/Take\, o take those lips away/Hey\, ho\, the wind and the rain/Weep you no more/It was a lover and his lass\; DvorÃ¡k - 4 songs\; Fauré - Recontre/Toujours/Adieul\; Montsalvatge - Cuba dentro den un piano/Punto de habanera/Chévere/CanciÃ³n de cuna para dormir a un negrito/Canto Negro
UID:1106-913779@events.umich.edu
URL:https://events.umich.edu/event/1106
CLASS:PUBLIC
STATUS:CONFIRMED
CATEGORIES:music
LOCATION:Walgreen Drama Center - Stamps Auditorium
CONTACT:
END:VEVENT
END:VCALENDAR