BEGIN:VCALENDAR
VERSION:2.0
PRODID:-//UM//UM*Events//EN
CALSCALE:GREGORIAN
BEGIN:VTIMEZONE
TZID:America/Detroit
TZURL:http://tzurl.org/zoneinfo/America/Detroit
X-LIC-LOCATION:America/Detroit
BEGIN:DAYLIGHT
TZOFFSETFROM:-0500
TZOFFSETTO:-0400
TZNAME:EDT
DTSTART:20070311T020000
RRULE:FREQ=YEARLY;BYMONTH=3;BYDAY=2SU
END:DAYLIGHT
BEGIN:STANDARD
TZOFFSETFROM:-0400
TZOFFSETTO:-0500
TZNAME:EST
DTSTART:20071104T020000
RRULE:FREQ=YEARLY;BYMONTH=11;BYDAY=1SU
END:STANDARD
END:VTIMEZONE
BEGIN:VEVENT
DTSTAMP:20101111T175629
DTSTART;TZID=America/Detroit:20100416T000000
SUMMARY:Exhibition:Exhibit of Recent Aquisitions
DESCRIPTION:This exhibit includes an extraordinarily wide variety of primary source material collected to support current and  future research.  Among the items on display are:  a watercolor “portrait” of a railroad bridge built in Prague in  1850\, original artwork by local artist Tom Pohrt for a children's book written by Justice Sandra Day O'Connor\, a  diary and photographs from a female UM student who hitchhiked from Ann Arbor to San Francisco in 1923\, a  Spanish text from 1693 for those studying to be soldiers\, and Dante's Divine Comedy with illustrations by  Salvador Dali.  \n\nNew archival collections with samples on display include the papers of film director Robert Altman and writers  Nicholas Delbanco and Richard Tillinghast\, as well as four separate women involved in radical causes such as  Clarence Darrow's 1907 defense of union leaders accused of murder and the ecological costs of technology.   This is the first opportunity for the public to see materials from the Altman Collection\, which is estimated to be  1\,000 linear feet in size and is now being sorted and processed for use.
UID:748-911491@events.umich.edu
URL:https://events.umich.edu/event/748
CLASS:PUBLIC
STATUS:CONFIRMED
CATEGORIES:visual arts
LOCATION:Hatcher Graduate Library - 7th Floor Special Collections Library
CONTACT:
END:VEVENT
BEGIN:VEVENT
DTSTAMP:20101111T175620
DTSTART;TZID=America/Detroit:20100416T000000
SUMMARY:Exhibition:Permanent Exhibits at the Exhibit Museum of Natural History
DESCRIPTION:The Hall of Evolution houses Michigan's largest display of prehistoric life. More than 600 million years of life on Earth are traced through fossils\, models and dioramas. The Michigan Wildlife Gallery has a large collection of native Great Lakes birds\, mammals\, reptiles\, and amphibians\, with taxidermy mounts\, habitat scenes\, and the largest mastodon trackway on display in the world. There are also displays about some of the environmental problems faced in this region today. The Anthropology Displays feature artifacts from human cultures around the world. The Geology Displays on the fourth floor offer a large selection of rocks\, minerals and gems. These displays are updated periodically. For more information go to www.lsa.umich.edu/exhibitmuseum/exhibits/permexhibits or call 734-764-0480.
UID:452-910652@events.umich.edu
URL:https://events.umich.edu/event/452
CLASS:PUBLIC
STATUS:CONFIRMED
CATEGORIES:
LOCATION:Ruthven Museums Building
CONTACT:
END:VEVENT
BEGIN:VEVENT
DTSTAMP:20100414T093330
DTSTART;TZID=America/Detroit:20100416T073000
DTEND;TZID=America/Detroit:20100416T200000
SUMMARY:Exhibition:Ida Abreu\, Cape Verdean Artist/Sculptor Exposition
DESCRIPTION:IdÃ¡ Abreu\, Cape Verdean artist and sculptor\n\nAll Artist Residency Events free and open to the public  at Palmer Commons\, 100 Washtenaw Avenue\, Ann Arbor\, Michigan\n\nArtwork Exhibit April 12-28\, 2010\, fourth floor Atrium\, Palmer Commons Monday through Friday\, 7:30 a.m. – 8:00 p.m. with personal hosting by artist IdÃ¡ Abreu from 2-5 p.m.\, Monday through Friday\n\nFaculty Host\, Marlyse Baptista Center for AfricanAmerican and African Studies and Linguistics Contact information: Center for World Performance Studies ”¢ 1080 S. University ”¢ Suite 3616 ”¢ Ann Arbor\, MI  48109-1106 P (734) 936-2777 ”¢ E cwps@umich.edu ”¢ www.umich.edu/cwps University of Michigan ”¢ International Institute The Center for World Performance Studies and the Center for Latin American and Caribbean Studies proudly introduce artist resident Illustration: IdÃ¡ Abreu / Poster: Shannon Rolston Designs
UID:3873-920624@events.umich.edu
URL:https://events.umich.edu/event/3873
CLASS:PUBLIC
STATUS:CONFIRMED
CATEGORIES:visual arts,multicultural
LOCATION:Palmer Commons - Atrium 4
CONTACT:
END:VEVENT
BEGIN:VEVENT
DTSTAMP:20100318T170051
DTSTART;TZID=America/Detroit:20100416T080000
SUMMARY:Exhibition:Exhibit: The Ghost Army
DESCRIPTION:This exhibit tells the story of the Ghost Army from WWII. In June of 1944\, an  exceptional U.S. Army unit went into action in Normandy. Its weapons included  hundreds of inflatable tanks and a one-of-a-kind collection of sound effects  records\, and it carried out its battlefield mission without firing a shot. The unit was  officially called the 23rd Headquarters Special Troops\, but it was known to its men  as The Ghost Army.\n\nMembers of The Ghost Army adhered to a decades-long gag order\; many never  told their families about their extraordinary military service. Sixty-five years after  this top-secret group went into action\, the University of Michigan's Hatcher Library  will unveil the first public exhibit of this captivating group of materials documenting  The Ghost Army. \n\nThis exhibit is available during library hours. See http://www.lib.umich.edu/hatcher- graduate-library.
UID:1124-913952@events.umich.edu
URL:https://events.umich.edu/event/1124
CLASS:PUBLIC
STATUS:CONFIRMED
CATEGORIES:visual arts
LOCATION:Hatcher Graduate Library - Gallery in Room 100
CONTACT:
END:VEVENT
BEGIN:VEVENT
DTSTAMP:20101111T175759
DTSTART;TZID=America/Detroit:20100416T080000
DTEND;TZID=America/Detroit:20100416T170000
SUMMARY:Exhibition:History of Dentistry exhibits at the Sindecuse Museum of Dentistry
DESCRIPTION:Exhibits at the Sindecuse Museum of Dentistry include Dental Operatories of the 1860s to 1930s\, St. Apollonia-Patron Saint of Dentistry and more. Call 763-0767 or go to www.dent.umich.edu/museum for more information.
UID:3856-917529@events.umich.edu
URL:https://events.umich.edu/event/3856
CLASS:PUBLIC
STATUS:CONFIRMED
CATEGORIES:
LOCATION:Dental & W.K. Kellogg Institute
CONTACT:
END:VEVENT
BEGIN:VEVENT
DTSTAMP:20100407T151643
DTSTART;TZID=America/Detroit:20100416T083000
DTEND;TZID=America/Detroit:20100416T190000
SUMMARY:Exhibition:Exhibit: Treasures of the Library
DESCRIPTION:Step into the Audubon Room in the University of Michigan's Hatcher Graduate  Library to view a collection of library treasures.  The collection includes:  a 2250- year-old papyrus document from ancient Philadelphia\, reporting the loss of a  donkey\; a 400-year-old manuscript by Galileo\, in which he explains the usefulness  of the telescope\; and the first book purchased by the Board of Regents\, \"The Birds of  America\,\" published in 1838\, with original drawings by John James Audubon. \n\nHours: Mon-Fri 8:30am-7pm\, Sat 10am-6pm\,  Sun 1-7pm.
UID:2332-918900@events.umich.edu
URL:https://events.umich.edu/event/2332
CLASS:PUBLIC
STATUS:CONFIRMED
CATEGORIES:literary arts,visual arts
LOCATION:Hatcher Graduate Library - Audubon Room
CONTACT:
END:VEVENT
BEGIN:VEVENT
DTSTAMP:20101111T175823
DTSTART;TZID=America/Detroit:20100416T084500
SUMMARY:Conference / Symposium:School of Natural Resources and Environment Master's Project Symposium
DESCRIPTION:This symposium is open to the public.  SNRE students\, prospective students\, staff\, faculty\, client organizations\, community organizations\, and the general public are encouraged to attend individual sessions or the entire symposium.  Please note that no RSVPs are required\, but seating may be limited.\n\nTo learn more about SNRE's master's project program or the symposium please visit: http://www.snre.umich.edu/current_students/masters_projects
UID:2528-919238@events.umich.edu
URL:https://events.umich.edu/event/2528
CLASS:PUBLIC
STATUS:CONFIRMED
CATEGORIES:
LOCATION:Dana Natural Resources  Building - 1040 (Friday) and 2024 (Saturday)
CONTACT:
END:VEVENT
BEGIN:VEVENT
DTSTAMP:20090722T143534
DTSTART;TZID=America/Detroit:20100416T090000
DTEND;TZID=America/Detroit:20100416T170000
SUMMARY:Exhibition:Ida: Darwinius masillae
DESCRIPTION:\"Ida\,\" a new exhibit in the Exhibit Museum's Rotunda\, displays a high-resolution cast of an extremely rare  fossil discovered in 1983 near Messel\, Germany\, but only recently made available for study. The fossil has  proven to be a “link” between the prosimian and simian (\"anthropoid\") primate lineages. It has \"advanced\"  front teeth (incisors and canines) and second toes like those of monkeys\, and is broadly representative of what  human primate ancestors may have looked like during the Eocene epoch 47 million years ago.     Ida (prounded \"eeda\") is named after after the daughter of Dr JÃ¸rn Hurum\, the Norwegian vertebrate  paleontologist who secured one section of the fossil from an anonymous owner\, and led the research. Ida was  about eight months old\, or the equivalent of a six-year-old human.     Publication of a paper on the discovery was accompanied by a book\, The Link: Uncovering Our Earliest  Ancestors by Colin Tudge\, and a documentary shown on the History Channel (US)\, BBC One (UK)\,and various  stations in Germany and Norway.     U-M paleontologist Philip Gingerich and U-M anthropologist B. Holly Smith were two members of the \"dream  team\" invited to study Ida. The exhibit will be on display through May 2010.
UID:2124-918286@events.umich.edu
URL:https://events.umich.edu/event/2124
CLASS:PUBLIC
STATUS:CONFIRMED
CATEGORIES:welcome week,visual arts,multicultural
LOCATION:
CONTACT:
END:VEVENT
BEGIN:VEVENT
DTSTAMP:20101111T175734
DTSTART;TZID=America/Detroit:20100416T090000
DTEND;TZID=America/Detroit:20100416T170000
SUMMARY:Exhibition:Scott Hocking Installation
DESCRIPTION:Scott Hocking explores the abandoned buildings and sites of Detroit like a  newfangled scientist. He gathers raw data in his excavations\, and records his  findings using a wholly unique and modern process and method that he intuitively  formulates as he goes along. In his ongoing study of a city so rooted in a dense  past\, and the emotional attachments that accompany it\, Hocking is  uncompromising and unflinching\, and refuses to buy into the hype. His visual  essays chronicling urban markings of modern day ruin are not the stuff of tragedy  or fodder for magazine centerfolds\, but proof of a renaissance in real time.  Hocking's work is fully alive\, and honors the world going past and us moving forward  along with it\, exhilarated by industrial parks returning to fallow land\, and strawberry  bushes growing in the cracked concrete.
UID:1793-915932@events.umich.edu
URL:https://events.umich.edu/event/1793
CLASS:PUBLIC
STATUS:CONFIRMED
CATEGORIES:visual arts
LOCATION:202 S. Thayer - 1010
CONTACT:
END:VEVENT
BEGIN:VEVENT
DTSTAMP:20101111T175600
DTSTART;TZID=America/Detroit:20100416T100000
DTEND;TZID=America/Detroit:20100416T170000
SUMMARY:Exhibition:Stearns Collection of Music
DESCRIPTION:The Stearns Collection at the School of Music\, Theatre & Dance is one of six major collections of musical instruments in North America. The 2\,500-piece collection is internationally known and is a resource for musical and cultural education.
UID:3790-909261@events.umich.edu
URL:https://events.umich.edu/event/3790
CLASS:PUBLIC
STATUS:CONFIRMED
CATEGORIES:
LOCATION:Earl V. Moore Building
CONTACT:
END:VEVENT
BEGIN:VEVENT
DTSTAMP:20101111T175843
DTSTART;TZID=America/Detroit:20100416T121500
DTEND;TZID=America/Detroit:20100416T130000
SUMMARY:Other:Relaxation Workshop Series
DESCRIPTION:Learn stress reduction techniques including deep muscle relaxation\, mental imagery\, mindfulness\, deep breathing and supportive \"self-talk\".
UID:2769-920490@events.umich.edu
URL:https://events.umich.edu/event/2769
CLASS:PUBLIC
STATUS:CONFIRMED
CATEGORIES:
LOCATION:Michigan Union - CAPS Library, Room 3100
CONTACT:
END:VEVENT
BEGIN:VEVENT
DTSTAMP:20100309T152829
DTSTART;TZID=America/Detroit:20100416T170000
DTEND;TZID=America/Detroit:20100416T190000
SUMMARY:Meeting:Asexuality Support Group
DESCRIPTION:Asexuality Support Group 5p-7p\, Spectrum Center\n\nAsexuality is defined as the lack of sexual attraction. An asexual is an individual  who is not sexually attracted to anyone. The Asexual Support Group's main focus is  to provide a safe space for asexuals to come together and talk about issues they  face with others who they identify with. By bringing a group of asexuals and allies  together\, the Asexual Support Group also aims to increase the visibility and  widespread knowledge of asexuality on campus. The group meets every Friday at  the Spectrum Center from 5 to 7 pm\, everyone is welcome- from out asexuals\, to  allies\, to those who are questioning\, and everyone in between.
UID:2685-921016@events.umich.edu
URL:https://events.umich.edu/event/2685
CLASS:PUBLIC
STATUS:CONFIRMED
CATEGORIES:
LOCATION:Michigan Union - 3200
CONTACT:
END:VEVENT
BEGIN:VEVENT
DTSTAMP:20101111T175751
DTSTART;TZID=America/Detroit:20100416T190000
DTEND;TZID=America/Detroit:20100416T210000
SUMMARY:Performance:10th Annual Latino Culture Show: Nuestra Historia
DESCRIPTION:
UID:2014-916934@events.umich.edu
URL:https://events.umich.edu/event/2014
CLASS:PUBLIC
STATUS:CONFIRMED
CATEGORIES:visual arts,music,multicultural,dance
LOCATION:Lydia Mendelssohn Theatre
CONTACT:
END:VEVENT
BEGIN:VEVENT
DTSTAMP:20100225T102359
DTSTART;TZID=America/Detroit:20100416T193000
SUMMARY:Performance:Stephen Lynch
DESCRIPTION:Pike Comedy Night presents An Evening with Stephen Lynch!  All proceeds will be donated to Yele: Wyclef Jean's Foundation for Haiti Relief.
UID:1349-914994@events.umich.edu
URL:https://events.umich.edu/event/1349
CLASS:PUBLIC
STATUS:CONFIRMED
CATEGORIES:
LOCATION:
CONTACT:
END:VEVENT
BEGIN:VEVENT
DTSTAMP:20100416T030002
DTSTART;TZID=America/Detroit:20100416T200000
SUMMARY:Other:BFA Dance Show
DESCRIPTION:
UID:1912-916739@events.umich.edu
URL:https://events.umich.edu/event/1912
CLASS:PUBLIC
STATUS:CONFIRMED
CATEGORIES:music,dance
LOCATION:Dance Building - Betty Pease Studio Theatre
CONTACT:
END:VEVENT
BEGIN:VEVENT
DTSTAMP:20101111T175834
DTSTART;TZID=America/Detroit:20100416T200000
SUMMARY:Performance:Let G-Dom Ring
DESCRIPTION:The G-Men present their Final concert of the year\, \"Let G-Dom Ring.\"
UID:2474-920075@events.umich.edu
URL:https://events.umich.edu/event/2474
CLASS:PUBLIC
STATUS:CONFIRMED
CATEGORIES:music
LOCATION:Rackham Graduate School (Horace H.) - Rackham Auditorium
CONTACT:
END:VEVENT
BEGIN:VEVENT
DTSTAMP:20100416T030002
DTSTART;TZID=America/Detroit:20100416T200000
SUMMARY:Other:Pre-candidate Recital:  John Boonenberg\, piano
DESCRIPTION:PROGRAM:  Bach - English Suite No. 6 in D Minor\, BWV 811\; Schubert - Der Wanderer\, Op. 4 No. 1\; Schubert - Fantasie in C Major\, Op. 15 (D. 760) - \"Wanderer Fantasy\"
UID:1494-915190@events.umich.edu
URL:https://events.umich.edu/event/1494
CLASS:PUBLIC
STATUS:CONFIRMED
CATEGORIES:music
LOCATION:Earl V. Moore Building - Britton Recital Hall
CONTACT:
END:VEVENT
BEGIN:VEVENT
DTSTAMP:20100416T030002
DTSTART;TZID=America/Detroit:20100416T200000
SUMMARY:Other:Ragtime
DESCRIPTION:Dept. of Musical Theatre  by Terrence McNally\, Stephen Flaherty and Lynn Ahrens. A powerful look at America at the turn of the 20th century through the lives of three diverse families.  Tickets available at the League Ticket Office  734-764-2538.
UID:1028-912877@events.umich.edu
URL:https://events.umich.edu/event/1028
CLASS:PUBLIC
STATUS:CONFIRMED
CATEGORIES:theater,music,dance
LOCATION:Power Center for the Performing Arts -  
CONTACT:
END:VEVENT
BEGIN:VEVENT
DTSTAMP:20100416T030002
DTSTART;TZID=America/Detroit:20100416T200000
SUMMARY:Other:Senior Recital:  Sara Eastwood\, clarinet
DESCRIPTION:PROGRAM:  Bach - Violin Etude No.1-Adagio\; Cahuzac - Cantilene\; Horovitz - Sonatina\; Dicke - Profiteering\; Resanovic - alt.music.ballistix
UID:2675-921003@events.umich.edu
URL:https://events.umich.edu/event/2675
CLASS:PUBLIC
STATUS:CONFIRMED
CATEGORIES:music
LOCATION:Earl V. Moore Building - McIntosh Theatre
CONTACT:
END:VEVENT
BEGIN:VEVENT
DTSTAMP:20100416T030002
DTSTART;TZID=America/Detroit:20100416T200000
SUMMARY:Other:University Philharmonia Orchestra
DESCRIPTION:Christopher James Lees\, conductor.  Combining two seminal composers from Bohemia\, the UPO closes the season with lively dances from \"The Bartered Bride\" and the final symphony - and most popular work - of Antonin Dvorak.  PROGRAM: Smetana - Overture and Three Dances from \"The Bartered Bride\"\; Dvorak - Symphony No. 9\, Op. 95 \"From the New World\"
UID:1735-915755@events.umich.edu
URL:https://events.umich.edu/event/1735
CLASS:PUBLIC
STATUS:CONFIRMED
CATEGORIES:music
LOCATION:Hill Auditorium -  
CONTACT:
END:VEVENT
BEGIN:VEVENT
DTSTAMP:20100301T134658
DTSTART;TZID=America/Detroit:20100416T213000
SUMMARY:Film Screening:Film: Herb and Dorothy
DESCRIPTION:Herb and Dorothy tells the extraordinary story of Herbert Vogel\, a postal clerk\, and Dorothy Vogel\, a librarian\, who managed to build one of the most important contemporary art collections in history with very modest means. They collected artworks guided by two rules: the piece had to be affordable\, and it had to be small enough to fit in their one-bedroom Manhattan apartment. Most of those they supported and befriended in this process went on to become world-renowned artists\, including Sol LeWitt\, Christo and Jeanne-Claude\, Richard Tuttle\, and Chuck Close. Directed by Megumi Sasaki.
UID:2716-921057@events.umich.edu
URL:https://events.umich.edu/event/2716
CLASS:PUBLIC
STATUS:CONFIRMED
CATEGORIES:
LOCATION:Museum of Art - Helmut Stern Auditorium
CONTACT:
END:VEVENT
BEGIN:VEVENT
DTSTAMP:20101111T175849
DTSTART;TZID=America/Detroit:20100416T220000
DTEND;TZID=America/Detroit:20100416T020000
SUMMARY:Auditions:UMix-April 16th
DESCRIPTION:Joint performance by ComCo AND Witt's End followed by a showing of the  movie\, \"Invictus.\" Ther will be a Performance Showcase and Artsbreak (TBA). Laser  Tag will be in the Ballroom. You can make-your-own Photo Flip book in the main  lobby and free massage will be in Parker. Pasta bar at midnight with karoake all  night! See you at 10pm at the Union\, Friday\, April 16th!
UID:2967-920850@events.umich.edu
URL:https://events.umich.edu/event/2967
CLASS:PUBLIC
STATUS:CONFIRMED
CATEGORIES:
LOCATION:Michigan Union
CONTACT:
END:VEVENT
END:VCALENDAR