BEGIN:VCALENDAR
VERSION:2.0
PRODID:-//UM//UM*Events//EN
CALSCALE:GREGORIAN
BEGIN:VTIMEZONE
TZID:America/Detroit
TZURL:http://tzurl.org/zoneinfo/America/Detroit
X-LIC-LOCATION:America/Detroit
BEGIN:DAYLIGHT
TZOFFSETFROM:-0500
TZOFFSETTO:-0400
TZNAME:EDT
DTSTART:20070311T020000
RRULE:FREQ=YEARLY;BYMONTH=3;BYDAY=2SU
END:DAYLIGHT
BEGIN:STANDARD
TZOFFSETFROM:-0400
TZOFFSETTO:-0500
TZNAME:EST
DTSTART:20071104T020000
RRULE:FREQ=YEARLY;BYMONTH=11;BYDAY=1SU
END:STANDARD
END:VTIMEZONE
BEGIN:VEVENT
DTSTAMP:20101111T175629
DTSTART;TZID=America/Detroit:20100417T000000
SUMMARY:Exhibition:Exhibit of Recent Aquisitions
DESCRIPTION:This exhibit includes an extraordinarily wide variety of primary source material collected to support current and  future research.  Among the items on display are:  a watercolor “portrait” of a railroad bridge built in Prague in  1850\, original artwork by local artist Tom Pohrt for a children's book written by Justice Sandra Day O'Connor\, a  diary and photographs from a female UM student who hitchhiked from Ann Arbor to San Francisco in 1923\, a  Spanish text from 1693 for those studying to be soldiers\, and Dante's Divine Comedy with illustrations by  Salvador Dali.  \n\nNew archival collections with samples on display include the papers of film director Robert Altman and writers  Nicholas Delbanco and Richard Tillinghast\, as well as four separate women involved in radical causes such as  Clarence Darrow's 1907 defense of union leaders accused of murder and the ecological costs of technology.   This is the first opportunity for the public to see materials from the Altman Collection\, which is estimated to be  1\,000 linear feet in size and is now being sorted and processed for use.
UID:748-911492@events.umich.edu
URL:https://events.umich.edu/event/748
CLASS:PUBLIC
STATUS:CONFIRMED
CATEGORIES:visual arts
LOCATION:Hatcher Graduate Library - 7th Floor Special Collections Library
CONTACT:
END:VEVENT
BEGIN:VEVENT
DTSTAMP:20101111T175620
DTSTART;TZID=America/Detroit:20100417T000000
SUMMARY:Exhibition:Permanent Exhibits at the Exhibit Museum of Natural History
DESCRIPTION:The Hall of Evolution houses Michigan's largest display of prehistoric life. More than 600 million years of life on Earth are traced through fossils\, models and dioramas. The Michigan Wildlife Gallery has a large collection of native Great Lakes birds\, mammals\, reptiles\, and amphibians\, with taxidermy mounts\, habitat scenes\, and the largest mastodon trackway on display in the world. There are also displays about some of the environmental problems faced in this region today. The Anthropology Displays feature artifacts from human cultures around the world. The Geology Displays on the fourth floor offer a large selection of rocks\, minerals and gems. These displays are updated periodically. For more information go to www.lsa.umich.edu/exhibitmuseum/exhibits/permexhibits or call 734-764-0480.
UID:452-910653@events.umich.edu
URL:https://events.umich.edu/event/452
CLASS:PUBLIC
STATUS:CONFIRMED
CATEGORIES:
LOCATION:Ruthven Museums Building
CONTACT:
END:VEVENT
BEGIN:VEVENT
DTSTAMP:20100414T093330
DTSTART;TZID=America/Detroit:20100417T073000
DTEND;TZID=America/Detroit:20100417T200000
SUMMARY:Exhibition:Ida Abreu\, Cape Verdean Artist/Sculptor Exposition
DESCRIPTION:IdÃ¡ Abreu\, Cape Verdean artist and sculptor\n\nAll Artist Residency Events free and open to the public  at Palmer Commons\, 100 Washtenaw Avenue\, Ann Arbor\, Michigan\n\nArtwork Exhibit April 12-28\, 2010\, fourth floor Atrium\, Palmer Commons Monday through Friday\, 7:30 a.m. – 8:00 p.m. with personal hosting by artist IdÃ¡ Abreu from 2-5 p.m.\, Monday through Friday\n\nFaculty Host\, Marlyse Baptista Center for AfricanAmerican and African Studies and Linguistics Contact information: Center for World Performance Studies ”¢ 1080 S. University ”¢ Suite 3616 ”¢ Ann Arbor\, MI  48109-1106 P (734) 936-2777 ”¢ E cwps@umich.edu ”¢ www.umich.edu/cwps University of Michigan ”¢ International Institute The Center for World Performance Studies and the Center for Latin American and Caribbean Studies proudly introduce artist resident Illustration: IdÃ¡ Abreu / Poster: Shannon Rolston Designs
UID:3873-920625@events.umich.edu
URL:https://events.umich.edu/event/3873
CLASS:PUBLIC
STATUS:CONFIRMED
CATEGORIES:multicultural,visual arts
LOCATION:Palmer Commons - Atrium 4
CONTACT:
END:VEVENT
BEGIN:VEVENT
DTSTAMP:20100129T123613
DTSTART;TZID=America/Detroit:20100417T074500
DTEND;TZID=America/Detroit:20100417T180000
SUMMARY:Conference / Symposium:Early Career Scientists Symposium
DESCRIPTION:The sixth annual Early Career Scientists Symposium will feature eight outstanding  young scientists who are working on experimental evolution\, which is this year's  theme. We are pleased to announce that Dr. Richard E. Lenski of Michigan State  University will be the plenary speaker. \n\nExperimental evolution is a growing discipline that involves the direct observation of  evolving populations in order to study fundamental evolutionary mechanisms. This  approach is undergoing a renaissance due to recent and rapid advances in  computing and DNA sequencing. Thus a window has opened to observe the precise  mutations and phenotypes that are relevant in the adaptation of captive  populations. The fundamental utility of the experimental evolution approach is a  full time series of population snapshots. \n\nUsing replication\, frozen ancestors or digital organisms\, we can truly replay the tape  of life to study the mode\, tempo\, and contingency of allele substitutions as well as  more complex phenomenon such as communication\, learning\, and species  interactions. This year's speakers encompass a wide range of topics\, tackling age-old questions  in evolution with the latest technology\, such as programming robots and next-generation DNA  sequencing. \n\nRegistration is complimentary and strongly suggested.\n\n2010 ECSS organizing committee: Alexey Kondrashov\, Tim James\, Zhi Wang\, Amanda Izzo
UID:338-910381@events.umich.edu
URL:https://events.umich.edu/event/338
CLASS:PUBLIC
STATUS:CONFIRMED
CATEGORIES:
LOCATION:East Hall - 1324
CONTACT:
END:VEVENT
BEGIN:VEVENT
DTSTAMP:20100318T170051
DTSTART;TZID=America/Detroit:20100417T080000
SUMMARY:Exhibition:Exhibit: The Ghost Army
DESCRIPTION:This exhibit tells the story of the Ghost Army from WWII. In June of 1944\, an  exceptional U.S. Army unit went into action in Normandy. Its weapons included  hundreds of inflatable tanks and a one-of-a-kind collection of sound effects  records\, and it carried out its battlefield mission without firing a shot. The unit was  officially called the 23rd Headquarters Special Troops\, but it was known to its men  as The Ghost Army.\n\nMembers of The Ghost Army adhered to a decades-long gag order\; many never  told their families about their extraordinary military service. Sixty-five years after  this top-secret group went into action\, the University of Michigan's Hatcher Library  will unveil the first public exhibit of this captivating group of materials documenting  The Ghost Army. \n\nThis exhibit is available during library hours. See http://www.lib.umich.edu/hatcher- graduate-library.
UID:1124-913953@events.umich.edu
URL:https://events.umich.edu/event/1124
CLASS:PUBLIC
STATUS:CONFIRMED
CATEGORIES:visual arts
LOCATION:Hatcher Graduate Library - Gallery in Room 100
CONTACT:
END:VEVENT
BEGIN:VEVENT
DTSTAMP:20100407T151643
DTSTART;TZID=America/Detroit:20100417T083000
DTEND;TZID=America/Detroit:20100417T190000
SUMMARY:Exhibition:Exhibit: Treasures of the Library
DESCRIPTION:Step into the Audubon Room in the University of Michigan's Hatcher Graduate  Library to view a collection of library treasures.  The collection includes:  a 2250- year-old papyrus document from ancient Philadelphia\, reporting the loss of a  donkey\; a 400-year-old manuscript by Galileo\, in which he explains the usefulness  of the telescope\; and the first book purchased by the Board of Regents\, \"The Birds of  America\,\" published in 1838\, with original drawings by John James Audubon. \n\nHours: Mon-Fri 8:30am-7pm\, Sat 10am-6pm\,  Sun 1-7pm.
UID:2332-918901@events.umich.edu
URL:https://events.umich.edu/event/2332
CLASS:PUBLIC
STATUS:CONFIRMED
CATEGORIES:visual arts,literary arts
LOCATION:Hatcher Graduate Library - Audubon Room
CONTACT:
END:VEVENT
BEGIN:VEVENT
DTSTAMP:20101111T175823
DTSTART;TZID=America/Detroit:20100417T084500
SUMMARY:Conference / Symposium:School of Natural Resources and Environment Master's Project Symposium
DESCRIPTION:This symposium is open to the public.  SNRE students\, prospective students\, staff\, faculty\, client organizations\, community organizations\, and the general public are encouraged to attend individual sessions or the entire symposium.  Please note that no RSVPs are required\, but seating may be limited.\n\nTo learn more about SNRE's master's project program or the symposium please visit: http://www.snre.umich.edu/current_students/masters_projects
UID:2528-919239@events.umich.edu
URL:https://events.umich.edu/event/2528
CLASS:PUBLIC
STATUS:CONFIRMED
CATEGORIES:
LOCATION:Dana Natural Resources  Building - 1040 (Friday) and 2024 (Saturday)
CONTACT:
END:VEVENT
BEGIN:VEVENT
DTSTAMP:20101111T175819
DTSTART;TZID=America/Detroit:20100417T090000
DTEND;TZID=America/Detroit:20100417T120000
SUMMARY:Community Service:Eco-Restoration Workdays at Matthaei: Earth Day Related Event
DESCRIPTION:Enjoy and learn about the beautiful natural areas at Matthaei Botanical Gardens  while contributing to natural-areas stewardship and restoration efforts. Groups are  welcome to join a public workday with advance notice or schedule a special service  event. Free. U-M Matthaei Botanical Gardens\, 1800 N. Dixboro Rd.
UID:2456-919122@events.umich.edu
URL:https://events.umich.edu/event/2456
CLASS:PUBLIC
STATUS:CONFIRMED
CATEGORIES:
LOCATION:
CONTACT:
END:VEVENT
BEGIN:VEVENT
DTSTAMP:20090722T143534
DTSTART;TZID=America/Detroit:20100417T090000
DTEND;TZID=America/Detroit:20100417T170000
SUMMARY:Exhibition:Ida: Darwinius masillae
DESCRIPTION:\"Ida\,\" a new exhibit in the Exhibit Museum's Rotunda\, displays a high-resolution cast of an extremely rare  fossil discovered in 1983 near Messel\, Germany\, but only recently made available for study. The fossil has  proven to be a “link” between the prosimian and simian (\"anthropoid\") primate lineages. It has \"advanced\"  front teeth (incisors and canines) and second toes like those of monkeys\, and is broadly representative of what  human primate ancestors may have looked like during the Eocene epoch 47 million years ago.     Ida (prounded \"eeda\") is named after after the daughter of Dr JÃ¸rn Hurum\, the Norwegian vertebrate  paleontologist who secured one section of the fossil from an anonymous owner\, and led the research. Ida was  about eight months old\, or the equivalent of a six-year-old human.     Publication of a paper on the discovery was accompanied by a book\, The Link: Uncovering Our Earliest  Ancestors by Colin Tudge\, and a documentary shown on the History Channel (US)\, BBC One (UK)\,and various  stations in Germany and Norway.     U-M paleontologist Philip Gingerich and U-M anthropologist B. Holly Smith were two members of the \"dream  team\" invited to study Ida. The exhibit will be on display through May 2010.
UID:2124-918287@events.umich.edu
URL:https://events.umich.edu/event/2124
CLASS:PUBLIC
STATUS:CONFIRMED
CATEGORIES:welcome week,visual arts,multicultural
LOCATION:
CONTACT:
END:VEVENT
BEGIN:VEVENT
DTSTAMP:20100417T030002
DTSTART;TZID=America/Detroit:20100417T140000
SUMMARY:Other:Senior Recital:  Austin Arnett\, saxophone
DESCRIPTION:PROGRAM:  Telemann - Fantasia No. 1 in A Major\; Lennon - Distances Within Me\; Rogers - Lessons of the Sky\; TV - Believer\; Borne - Fantaisie Brillante sur des airs de Carmen
UID:267-910220@events.umich.edu
URL:https://events.umich.edu/event/267
CLASS:PUBLIC
STATUS:CONFIRMED
CATEGORIES:music
LOCATION:
CONTACT:
END:VEVENT
BEGIN:VEVENT
DTSTAMP:20100417T030002
DTSTART;TZID=America/Detroit:20100417T140000
SUMMARY:Other:Senior Recital:  Margaret Yi\, piano
DESCRIPTION:PROGRAM:  Bach - Toccata in D Major\, BWV 912\; Chopin - Trois Nocturnes\, Op. 15\; Debussy - Estampes\; Dutilleux - Sonate
UID:885-912676@events.umich.edu
URL:https://events.umich.edu/event/885
CLASS:PUBLIC
STATUS:CONFIRMED
CATEGORIES:music
LOCATION:Earl V. Moore Building - Britton Recital Hall
CONTACT:
END:VEVENT
BEGIN:VEVENT
DTSTAMP:20100417T030002
DTSTART;TZID=America/Detroit:20100417T140000
SUMMARY:Other:Senior Recital:  Matthew Anderson\, trumpet
DESCRIPTION:PROGRAM:  Handel - Suite in D Major\; Neruda - Concerto in E-flat\; Bitsch - Quatre Variations Sur un Thème de Domenico Scarlatti\; Ewazen - Elizabethan Songbook
UID:683-911338@events.umich.edu
URL:https://events.umich.edu/event/683
CLASS:PUBLIC
STATUS:CONFIRMED
CATEGORIES:music
LOCATION:Earl V. Moore Building - McIntosh Theatre
CONTACT:
END:VEVENT
BEGIN:VEVENT
DTSTAMP:20100417T030002
DTSTART;TZID=America/Detroit:20100417T160000
SUMMARY:Other:Early Music Ensemble
DESCRIPTION:Directed by Edward Parmentier.
UID:2938-920766@events.umich.edu
URL:https://events.umich.edu/event/2938
CLASS:PUBLIC
STATUS:CONFIRMED
CATEGORIES:music
LOCATION:Earl V. Moore Building - Blanche Anderson Moore Hall
CONTACT:
END:VEVENT
BEGIN:VEVENT
DTSTAMP:20100417T030002
DTSTART;TZID=America/Detroit:20100417T160000
SUMMARY:Other:Senior Thesis Recital:  Kelly Moran
DESCRIPTION:A multi-media recital featuring electronic and live music\, dance performances\, video art\, and improvisation.
UID:2174-917392@events.umich.edu
URL:https://events.umich.edu/event/2174
CLASS:PUBLIC
STATUS:CONFIRMED
CATEGORIES:music,dance
LOCATION:Dance Building - Betty Pease Studio Theater
CONTACT:
END:VEVENT
BEGIN:VEVENT
DTSTAMP:20100417T030002
DTSTART;TZID=America/Detroit:20100417T170000
SUMMARY:Other:Senior Recital:  Jonathan Christopher\, baritone
DESCRIPTION:PROGRAM:  Loewe - Odins Meeresritt/Die Uhr\; Poulenc - Le Travail du Peintre\; Tchaikovsky - \, 5A\;8 1 BK <>3\;0\, Op. 38/!@54L HC<=>3> 10\;0\, Op. 38 No. 3/5B\, B>\;L:> B>B\, :B> 7=0\;\, Op. 6 No. 6/5=L \;8 F0@8B\, Op. 47 No. 6\; Finzi - Let Us Garlands Bring\; Edwards - Joshua fit the battle of Jericho
UID:1858-916016@events.umich.edu
URL:https://events.umich.edu/event/1858
CLASS:PUBLIC
STATUS:CONFIRMED
CATEGORIES:music
LOCATION:Earl V. Moore Building - Britton Recital Hall
CONTACT:
END:VEVENT
BEGIN:VEVENT
DTSTAMP:20100417T030002
DTSTART;TZID=America/Detroit:20100417T170000
SUMMARY:Other:Student Recital:  Peter DiLeo\, Nicholas Rifken and Jonathan Larson\, percussion
DESCRIPTION:PROGRAM:  Whibley - Blue Motion\; Norton - November Evening\; Kotche - Monkey Chant\; Kopetzki - Wooden Delight\; Hollinden - Focusing Your Awareness Into Slender Beams of Solid Rhythm\; Sammut - Libertango\; Westlake - Omphalo Centric Lecture
UID:95-909369@events.umich.edu
URL:https://events.umich.edu/event/95
CLASS:PUBLIC
STATUS:CONFIRMED
CATEGORIES:music
LOCATION:Earl V. Moore Building - McIntosh Theatre
CONTACT:
END:VEVENT
BEGIN:VEVENT
DTSTAMP:20100401T121600
DTSTART;TZID=America/Detroit:20100417T190000
SUMMARY:Performance:Michigan Pops Orchestra: Pops In Love
DESCRIPTION:Pops Orchestra Concert featuring pieces such as \"Seasons of Love\,\" Selections from Beauty and the Beast and Aladdin\, Tristan & Isolde and More!!!
UID:1874-916025@events.umich.edu
URL:https://events.umich.edu/event/1874
CLASS:PUBLIC
STATUS:CONFIRMED
CATEGORIES:music
LOCATION:
CONTACT:
END:VEVENT
BEGIN:VEVENT
DTSTAMP:20100417T030002
DTSTART;TZID=America/Detroit:20100417T200000
SUMMARY:Other:BFA Dance Show
DESCRIPTION:
UID:79-909340@events.umich.edu
URL:https://events.umich.edu/event/79
CLASS:PUBLIC
STATUS:CONFIRMED
CATEGORIES:music,dance
LOCATION:Dance Building - Betty Pease Studio Theatre
CONTACT:
END:VEVENT
BEGIN:VEVENT
DTSTAMP:20100417T030002
DTSTART;TZID=America/Detroit:20100417T200000
SUMMARY:Other:Chamber Jazz Ensemble with Dave Liebman\, saxophone
DESCRIPTION:Compositions and arrangements by Dave Liebman\, Andrew Bishop\, Ellen Rowe\, Ed Sarath and Jim McNeely. Performances by faculty and students from the University of Michigan Department of Jazz and Contemporary Improvisation.
UID:1955-917944@events.umich.edu
URL:https://events.umich.edu/event/1955
CLASS:PUBLIC
STATUS:CONFIRMED
CATEGORIES:music
LOCATION:Walgreen Drama Center - Stamps Auditorium
CONTACT:
END:VEVENT
BEGIN:VEVENT
DTSTAMP:20100417T030002
DTSTART;TZID=America/Detroit:20100417T200000
SUMMARY:Other:Dissertation Composition Performance: Ming-Hsiu Yen\, composer
DESCRIPTION:PROGRAM:  The Song of Life
UID:2783-921269@events.umich.edu
URL:https://events.umich.edu/event/2783
CLASS:PUBLIC
STATUS:CONFIRMED
CATEGORIES:music
LOCATION:Earl V. Moore Building - Rehearsal Hall
CONTACT:
END:VEVENT
BEGIN:VEVENT
DTSTAMP:20100417T030002
DTSTART;TZID=America/Detroit:20100417T200000
SUMMARY:Other:Ragtime
DESCRIPTION:Dept. of Musical Theatre  by Terrence McNally\, Stephen Flaherty and Lynn Ahrens. A powerful look at America at the turn of the 20th century through the lives of three diverse families.  Tickets available at the League Ticket Office  734-764-2538.
UID:3002-920910@events.umich.edu
URL:https://events.umich.edu/event/3002
CLASS:PUBLIC
STATUS:CONFIRMED
CATEGORIES:dance,music,theater
LOCATION:Power Center for the Performing Arts -  
CONTACT:
END:VEVENT
BEGIN:VEVENT
DTSTAMP:20100417T030002
DTSTART;TZID=America/Detroit:20100417T200000
SUMMARY:Other:Senior Recital: Uni Choi\, piano
DESCRIPTION:PROGRAM:  Bach - The Well Tempered Clavier\, Book I: Prelude and Fugue in D Major\, BWV 850\; Shostakovich - Prelude and Fugue No. 24 in D Minor\; Rachmaninov - Etude-tableaux Op. 39\, No. 4 in B Minor\; Rachmaninov - Etude-tableaux Op. 33\, No. 8 in G Minor\; Rachmaninov - Etude-tableaux Op. 39\, No.1 in C Minor\; Beethoven - Piano Sonata Op. 31\, No. 2 (The Tempest)\; Liszt - Hungarian Rhapsody No. 12 in C-sharp Minor
UID:1926-916754@events.umich.edu
URL:https://events.umich.edu/event/1926
CLASS:PUBLIC
STATUS:CONFIRMED
CATEGORIES:music
LOCATION:Earl V. Moore Building - Britton Recital Hall
CONTACT:
END:VEVENT
BEGIN:VEVENT
DTSTAMP:20100417T030002
DTSTART;TZID=America/Detroit:20100417T200000
SUMMARY:Other:Women s Glee Club
DESCRIPTION:Julie Skadsem\, conductor\; Program will include works by Palestina\, Galuppi\, Grau\, Copland\, Hatfield & Stroope.  Email wgctickets@umich.edu for advance tickets.  General Admission $15/$5 with student ID.  Tickets also available at the door.
UID:1075-912915@events.umich.edu
URL:https://events.umich.edu/event/1075
CLASS:PUBLIC
STATUS:CONFIRMED
CATEGORIES:music
LOCATION:Hill Auditorium -  
CONTACT:
END:VEVENT
END:VCALENDAR