BEGIN:VCALENDAR
VERSION:2.0
PRODID:-//UM//UM*Events//EN
CALSCALE:GREGORIAN
BEGIN:VTIMEZONE
TZID:America/Detroit
TZURL:http://tzurl.org/zoneinfo/America/Detroit
X-LIC-LOCATION:America/Detroit
BEGIN:DAYLIGHT
TZOFFSETFROM:-0500
TZOFFSETTO:-0400
TZNAME:EDT
DTSTART:20070311T020000
RRULE:FREQ=YEARLY;BYMONTH=3;BYDAY=2SU
END:DAYLIGHT
BEGIN:STANDARD
TZOFFSETFROM:-0400
TZOFFSETTO:-0500
TZNAME:EST
DTSTART:20071104T020000
RRULE:FREQ=YEARLY;BYMONTH=11;BYDAY=1SU
END:STANDARD
END:VTIMEZONE
BEGIN:VEVENT
DTSTAMP:20101111T175629
DTSTART;TZID=America/Detroit:20100418T000000
SUMMARY:Exhibition:Exhibit of Recent Aquisitions
DESCRIPTION:This exhibit includes an extraordinarily wide variety of primary source material collected to support current and  future research.  Among the items on display are:  a watercolor “portrait” of a railroad bridge built in Prague in  1850\, original artwork by local artist Tom Pohrt for a children's book written by Justice Sandra Day O'Connor\, a  diary and photographs from a female UM student who hitchhiked from Ann Arbor to San Francisco in 1923\, a  Spanish text from 1693 for those studying to be soldiers\, and Dante's Divine Comedy with illustrations by  Salvador Dali.  \n\nNew archival collections with samples on display include the papers of film director Robert Altman and writers  Nicholas Delbanco and Richard Tillinghast\, as well as four separate women involved in radical causes such as  Clarence Darrow's 1907 defense of union leaders accused of murder and the ecological costs of technology.   This is the first opportunity for the public to see materials from the Altman Collection\, which is estimated to be  1\,000 linear feet in size and is now being sorted and processed for use.
UID:748-911493@events.umich.edu
URL:https://events.umich.edu/event/748
CLASS:PUBLIC
STATUS:CONFIRMED
CATEGORIES:visual arts
LOCATION:Hatcher Graduate Library - 7th Floor Special Collections Library
CONTACT:
END:VEVENT
BEGIN:VEVENT
DTSTAMP:20101111T175620
DTSTART;TZID=America/Detroit:20100418T000000
SUMMARY:Exhibition:Permanent Exhibits at the Exhibit Museum of Natural History
DESCRIPTION:The Hall of Evolution houses Michigan's largest display of prehistoric life. More than 600 million years of life on Earth are traced through fossils\, models and dioramas. The Michigan Wildlife Gallery has a large collection of native Great Lakes birds\, mammals\, reptiles\, and amphibians\, with taxidermy mounts\, habitat scenes\, and the largest mastodon trackway on display in the world. There are also displays about some of the environmental problems faced in this region today. The Anthropology Displays feature artifacts from human cultures around the world. The Geology Displays on the fourth floor offer a large selection of rocks\, minerals and gems. These displays are updated periodically. For more information go to www.lsa.umich.edu/exhibitmuseum/exhibits/permexhibits or call 734-764-0480.
UID:452-910654@events.umich.edu
URL:https://events.umich.edu/event/452
CLASS:PUBLIC
STATUS:CONFIRMED
CATEGORIES:
LOCATION:Ruthven Museums Building
CONTACT:
END:VEVENT
BEGIN:VEVENT
DTSTAMP:20100318T170051
DTSTART;TZID=America/Detroit:20100418T080000
SUMMARY:Exhibition:Exhibit: The Ghost Army
DESCRIPTION:This exhibit tells the story of the Ghost Army from WWII. In June of 1944\, an  exceptional U.S. Army unit went into action in Normandy. Its weapons included  hundreds of inflatable tanks and a one-of-a-kind collection of sound effects  records\, and it carried out its battlefield mission without firing a shot. The unit was  officially called the 23rd Headquarters Special Troops\, but it was known to its men  as The Ghost Army.\n\nMembers of The Ghost Army adhered to a decades-long gag order\; many never  told their families about their extraordinary military service. Sixty-five years after  this top-secret group went into action\, the University of Michigan's Hatcher Library  will unveil the first public exhibit of this captivating group of materials documenting  The Ghost Army. \n\nThis exhibit is available during library hours. See http://www.lib.umich.edu/hatcher- graduate-library.
UID:1124-913954@events.umich.edu
URL:https://events.umich.edu/event/1124
CLASS:PUBLIC
STATUS:CONFIRMED
CATEGORIES:visual arts
LOCATION:Hatcher Graduate Library - Gallery in Room 100
CONTACT:
END:VEVENT
BEGIN:VEVENT
DTSTAMP:20100407T151643
DTSTART;TZID=America/Detroit:20100418T083000
DTEND;TZID=America/Detroit:20100418T190000
SUMMARY:Exhibition:Exhibit: Treasures of the Library
DESCRIPTION:Step into the Audubon Room in the University of Michigan's Hatcher Graduate  Library to view a collection of library treasures.  The collection includes:  a 2250- year-old papyrus document from ancient Philadelphia\, reporting the loss of a  donkey\; a 400-year-old manuscript by Galileo\, in which he explains the usefulness  of the telescope\; and the first book purchased by the Board of Regents\, \"The Birds of  America\,\" published in 1838\, with original drawings by John James Audubon. \n\nHours: Mon-Fri 8:30am-7pm\, Sat 10am-6pm\,  Sun 1-7pm.
UID:2332-918902@events.umich.edu
URL:https://events.umich.edu/event/2332
CLASS:PUBLIC
STATUS:CONFIRMED
CATEGORIES:visual arts,literary arts
LOCATION:Hatcher Graduate Library - Audubon Room
CONTACT:
END:VEVENT
BEGIN:VEVENT
DTSTAMP:20090722T143534
DTSTART;TZID=America/Detroit:20100418T090000
DTEND;TZID=America/Detroit:20100418T170000
SUMMARY:Exhibition:Ida: Darwinius masillae
DESCRIPTION:\"Ida\,\" a new exhibit in the Exhibit Museum's Rotunda\, displays a high-resolution cast of an extremely rare  fossil discovered in 1983 near Messel\, Germany\, but only recently made available for study. The fossil has  proven to be a “link” between the prosimian and simian (\"anthropoid\") primate lineages. It has \"advanced\"  front teeth (incisors and canines) and second toes like those of monkeys\, and is broadly representative of what  human primate ancestors may have looked like during the Eocene epoch 47 million years ago.     Ida (prounded \"eeda\") is named after after the daughter of Dr JÃ¸rn Hurum\, the Norwegian vertebrate  paleontologist who secured one section of the fossil from an anonymous owner\, and led the research. Ida was  about eight months old\, or the equivalent of a six-year-old human.     Publication of a paper on the discovery was accompanied by a book\, The Link: Uncovering Our Earliest  Ancestors by Colin Tudge\, and a documentary shown on the History Channel (US)\, BBC One (UK)\,and various  stations in Germany and Norway.     U-M paleontologist Philip Gingerich and U-M anthropologist B. Holly Smith were two members of the \"dream  team\" invited to study Ida. The exhibit will be on display through May 2010.
UID:2124-918288@events.umich.edu
URL:https://events.umich.edu/event/2124
CLASS:PUBLIC
STATUS:CONFIRMED
CATEGORIES:welcome week,visual arts,multicultural
LOCATION:
CONTACT:
END:VEVENT
BEGIN:VEVENT
DTSTAMP:20100418T030002
DTSTART;TZID=America/Detroit:20100418T140000
SUMMARY:Other:Faculty Recital: Edward Parmentier\, harpsichord and Paul Dwyer\, baroque cello
DESCRIPTION:PROGRAM: Geminiani - Sonata in C Major\, Op. 5\, No. 3\; Frescobaldi - Canzoni per Basso Solo\; Bach - Suite for Solo Cello in G Major\, BWV 1007\; Vivaldi - Sonata No. 6 in B-flat Major\, RV 46\; Couperin - Treizieme Concert a Instrumens a l'Unisson\; Lanzetti - Sonata No. 5 in D Major from Six Solos after an Easy & Elegant Taste for the Violoncello
UID:2431-919102@events.umich.edu
URL:https://events.umich.edu/event/2431
CLASS:PUBLIC
STATUS:CONFIRMED
CATEGORIES:music
LOCATION:Earl V. Moore Building - Britton Recital Hall
CONTACT:
END:VEVENT
BEGIN:VEVENT
DTSTAMP:20100418T030002
DTSTART;TZID=America/Detroit:20100418T140000
SUMMARY:Other:Ragtime
DESCRIPTION:Dept. of Musical Theatre  by Terrence McNally\, Stephen Flaherty and Lynn Ahrens. A powerful look at America at the turn of the 20th century through the lives of three diverse families.  Tickets available at the League Ticket Office  734-764-2538.
UID:2667-920947@events.umich.edu
URL:https://events.umich.edu/event/2667
CLASS:PUBLIC
STATUS:CONFIRMED
CATEGORIES:theater,music,dance
LOCATION:Power Center for the Performing Arts -  
CONTACT:
END:VEVENT
BEGIN:VEVENT
DTSTAMP:20100418T030002
DTSTART;TZID=America/Detroit:20100418T140000
SUMMARY:Other:Student Recital:  Scott Bartlett\, bassoon
DESCRIPTION:PROGRAM:  Denisov - Two Duets for Cello and Bassoon\; Reise - Yellowstone Rhythms\; Aquila - Herbsttag (Autumn Day)\; Lavista - Responsorio in memoriam Rudolfo Halffter\; Nicholau - Strassenmusik No. 12\, Op. 157 for Sax and Bassoon Soloists
UID:344-910388@events.umich.edu
URL:https://events.umich.edu/event/344
CLASS:PUBLIC
STATUS:CONFIRMED
CATEGORIES:music
LOCATION:Earl V. Moore Building - McIntosh Theatre
CONTACT:
END:VEVENT
BEGIN:VEVENT
DTSTAMP:20100418T030002
DTSTART;TZID=America/Detroit:20100418T150000
SUMMARY:Other:Orpheus Singers
DESCRIPTION:Graduate Choral Conductors.  All-English concert\, with works by Byrd\, Purcell (Come ye sons of art)\, Britten (Five Flower Songs)\, and Vaughan Williams (Five Mystical Songs)
UID:929-913487@events.umich.edu
URL:https://events.umich.edu/event/929
CLASS:PUBLIC
STATUS:CONFIRMED
CATEGORIES:music
LOCATION:Walgreen Drama Center - Stamps Auditorium
CONTACT:
END:VEVENT
BEGIN:VEVENT
DTSTAMP:20100418T030002
DTSTART;TZID=America/Detroit:20100418T170000
SUMMARY:Other:Masters Recital:  Emlyn Johnson\, flute
DESCRIPTION:PROGRAM:  Vine - Sonata for flute and piano\; LeBaron - Sachamama\; Gaubert - Ballade\; Bach - Trio Sonata in G Major\, BWV 1039\; Schoenfield - Four Souvenirs
UID:1465-914549@events.umich.edu
URL:https://events.umich.edu/event/1465
CLASS:PUBLIC
STATUS:CONFIRMED
CATEGORIES:music
LOCATION:Earl V. Moore Building - Britton Recital Hall
CONTACT:
END:VEVENT
BEGIN:VEVENT
DTSTAMP:20100418T030002
DTSTART;TZID=America/Detroit:20100418T170000
SUMMARY:Other:Senior Recital:  Matthew Landry\, saxophone
DESCRIPTION:PROGRAM:  Bolcom - Lilith\; Schumann - Three Romances\; Shostakovich - Suite for Jazz Orchestra No. 1\; Doest  -CircusMuziek\; Maslanka - Song Book\; DeLuca - Beautiful Colorado
UID:236-909624@events.umich.edu
URL:https://events.umich.edu/event/236
CLASS:PUBLIC
STATUS:CONFIRMED
CATEGORIES:music
LOCATION:Earl V. Moore Building - McIntosh Theatre
CONTACT:
END:VEVENT
BEGIN:VEVENT
DTSTAMP:20100409T123906
DTSTART;TZID=America/Detroit:20100418T190000
SUMMARY:Performance:First Annual Salto Spring Show
DESCRIPTION:Join Salto Dance Company for their first annual spring show! Half of all ticket sales will benefit the Dizzy Feet  Foundation to help support underprivileged young dancers and promote dance education throughout the United  States.\n\nSalto is a cultural organization that brings the art of ballet and lyrical style dance to the University community. We  aim to express ourselves creatively and inspire other people to appreciate these dance forms. The group has been  founded to provide an outlet for the many ballet and lyrical dancers on campus\, and to give them an opportunity  to develop as choreographers\, dancers\, and creative thinkers.
UID:816-912560@events.umich.edu
URL:https://events.umich.edu/event/816
CLASS:PUBLIC
STATUS:CONFIRMED
CATEGORIES:dance
LOCATION:Michigan Union - Pendleton Room
CONTACT:
END:VEVENT
BEGIN:VEVENT
DTSTAMP:20101111T175805
DTSTART;TZID=America/Detroit:20100418T191500
SUMMARY:Performance:A Night at the Set: Kappa Alpha Psi Talen Showcase
DESCRIPTION:SHOW ACTUALLY STARTS AT 7:11 PM!!!!
UID:2088-918114@events.umich.edu
URL:https://events.umich.edu/event/2088
CLASS:PUBLIC
STATUS:CONFIRMED
CATEGORIES:theater,visual arts,music,multicultural,dance
LOCATION:Michigan Union - Rogel Ballroom
CONTACT:
END:VEVENT
BEGIN:VEVENT
DTSTAMP:20100418T030002
DTSTART;TZID=America/Detroit:20100418T200000
SUMMARY:Other:Emerging Dance Artists Show
DESCRIPTION:
UID:1083-912918@events.umich.edu
URL:https://events.umich.edu/event/1083
CLASS:PUBLIC
STATUS:CONFIRMED
CATEGORIES:music,dance
LOCATION:Dance Building - Betty Pease Studio Theatre
CONTACT:
END:VEVENT
BEGIN:VEVENT
DTSTAMP:20100418T030002
DTSTART;TZID=America/Detroit:20100418T200000
SUMMARY:Other:Specialist Degree:  Nicole Greenidge\, soprano
DESCRIPTION:PROGRAM:  Agento - Six Elizabethan Songs\; Liszt - Four Poems of Victor Hugo\; Previn - Three Dickinson Songs\; Marx - Nachtgebet\; Adams -  Nightsongs
UID:2853-920618@events.umich.edu
URL:https://events.umich.edu/event/2853
CLASS:PUBLIC
STATUS:CONFIRMED
CATEGORIES:music
LOCATION:Earl V. Moore Building - Britton Recital Hall
CONTACT:
END:VEVENT
BEGIN:VEVENT
DTSTAMP:20100418T030002
DTSTART;TZID=America/Detroit:20100418T200000
SUMMARY:Other:Student Recital:  Katy Vaitkevicius-Wyner\, mezzo-soprano - CANCELLED
DESCRIPTION:PROGRAM:  Abelard - Chant: Epithalamica\; Mueller - Recitative: Historia Calamitatum\; Mueller - Aria: The First Letter of Heloise\; Mueller - Recitative: The Response of Abelard\; Mueller - Aria: The Second Letter of Heloise\; Sezen - Aria: The Third Letter of Heloise\; Abelard - Chant: Virgines Caste
UID:2642-919451@events.umich.edu
URL:https://events.umich.edu/event/2642
CLASS:PUBLIC
STATUS:CONFIRMED
CATEGORIES:music
LOCATION:Earl V. Moore Building - McIntosh Theatre
CONTACT:
END:VEVENT
END:VCALENDAR