BEGIN:VCALENDAR
VERSION:2.0
PRODID:-//UM//UM*Events//EN
CALSCALE:GREGORIAN
BEGIN:VTIMEZONE
TZID:America/Detroit
TZURL:http://tzurl.org/zoneinfo/America/Detroit
X-LIC-LOCATION:America/Detroit
BEGIN:DAYLIGHT
TZOFFSETFROM:-0500
TZOFFSETTO:-0400
TZNAME:EDT
DTSTART:20070311T020000
RRULE:FREQ=YEARLY;BYMONTH=3;BYDAY=2SU
END:DAYLIGHT
BEGIN:STANDARD
TZOFFSETFROM:-0400
TZOFFSETTO:-0500
TZNAME:EST
DTSTART:20071104T020000
RRULE:FREQ=YEARLY;BYMONTH=11;BYDAY=1SU
END:STANDARD
END:VTIMEZONE
BEGIN:VEVENT
DTSTAMP:20101111T175734
DTSTART;TZID=America/Detroit:20100423T000000
SUMMARY:Conference / Symposium:4th Biannual Graduate Student Translation Conference
DESCRIPTION:The 4th Biannual Graduate Student Translation Conference featuring Keynote  Speaker: Susan Bernofsky.
UID:1813-915974@events.umich.edu
URL:https://events.umich.edu/event/1813
CLASS:PUBLIC
STATUS:CONFIRMED
CATEGORIES:
LOCATION:Rackham Graduate School (Horace H.)
CONTACT:
END:VEVENT
BEGIN:VEVENT
DTSTAMP:20101111T175629
DTSTART;TZID=America/Detroit:20100423T000000
SUMMARY:Exhibition:Exhibit of Recent Aquisitions
DESCRIPTION:This exhibit includes an extraordinarily wide variety of primary source material collected to support current and  future research.  Among the items on display are:  a watercolor “portrait” of a railroad bridge built in Prague in  1850\, original artwork by local artist Tom Pohrt for a children's book written by Justice Sandra Day O'Connor\, a  diary and photographs from a female UM student who hitchhiked from Ann Arbor to San Francisco in 1923\, a  Spanish text from 1693 for those studying to be soldiers\, and Dante's Divine Comedy with illustrations by  Salvador Dali.  \n\nNew archival collections with samples on display include the papers of film director Robert Altman and writers  Nicholas Delbanco and Richard Tillinghast\, as well as four separate women involved in radical causes such as  Clarence Darrow's 1907 defense of union leaders accused of murder and the ecological costs of technology.   This is the first opportunity for the public to see materials from the Altman Collection\, which is estimated to be  1\,000 linear feet in size and is now being sorted and processed for use.
UID:748-911498@events.umich.edu
URL:https://events.umich.edu/event/748
CLASS:PUBLIC
STATUS:CONFIRMED
CATEGORIES:visual arts
LOCATION:Hatcher Graduate Library - 7th Floor Special Collections Library
CONTACT:
END:VEVENT
BEGIN:VEVENT
DTSTAMP:20101111T175620
DTSTART;TZID=America/Detroit:20100423T000000
SUMMARY:Exhibition:Permanent Exhibits at the Exhibit Museum of Natural History
DESCRIPTION:The Hall of Evolution houses Michigan's largest display of prehistoric life. More than 600 million years of life on Earth are traced through fossils\, models and dioramas. The Michigan Wildlife Gallery has a large collection of native Great Lakes birds\, mammals\, reptiles\, and amphibians\, with taxidermy mounts\, habitat scenes\, and the largest mastodon trackway on display in the world. There are also displays about some of the environmental problems faced in this region today. The Anthropology Displays feature artifacts from human cultures around the world. The Geology Displays on the fourth floor offer a large selection of rocks\, minerals and gems. These displays are updated periodically. For more information go to www.lsa.umich.edu/exhibitmuseum/exhibits/permexhibits or call 734-764-0480.
UID:452-910659@events.umich.edu
URL:https://events.umich.edu/event/452
CLASS:PUBLIC
STATUS:CONFIRMED
CATEGORIES:
LOCATION:Ruthven Museums Building
CONTACT:
END:VEVENT
BEGIN:VEVENT
DTSTAMP:20100414T093330
DTSTART;TZID=America/Detroit:20100423T073000
DTEND;TZID=America/Detroit:20100423T200000
SUMMARY:Exhibition:Ida Abreu\, Cape Verdean Artist/Sculptor Exposition
DESCRIPTION:IdÃ¡ Abreu\, Cape Verdean artist and sculptor\n\nAll Artist Residency Events free and open to the public  at Palmer Commons\, 100 Washtenaw Avenue\, Ann Arbor\, Michigan\n\nArtwork Exhibit April 12-28\, 2010\, fourth floor Atrium\, Palmer Commons Monday through Friday\, 7:30 a.m. – 8:00 p.m. with personal hosting by artist IdÃ¡ Abreu from 2-5 p.m.\, Monday through Friday\n\nFaculty Host\, Marlyse Baptista Center for AfricanAmerican and African Studies and Linguistics Contact information: Center for World Performance Studies ”¢ 1080 S. University ”¢ Suite 3616 ”¢ Ann Arbor\, MI  48109-1106 P (734) 936-2777 ”¢ E cwps@umich.edu ”¢ www.umich.edu/cwps University of Michigan ”¢ International Institute The Center for World Performance Studies and the Center for Latin American and Caribbean Studies proudly introduce artist resident Illustration: IdÃ¡ Abreu / Poster: Shannon Rolston Designs
UID:3873-920630@events.umich.edu
URL:https://events.umich.edu/event/3873
CLASS:PUBLIC
STATUS:CONFIRMED
CATEGORIES:visual arts,multicultural
LOCATION:Palmer Commons - Atrium 4
CONTACT:
END:VEVENT
BEGIN:VEVENT
DTSTAMP:20100318T170051
DTSTART;TZID=America/Detroit:20100423T080000
SUMMARY:Exhibition:Exhibit: The Ghost Army
DESCRIPTION:This exhibit tells the story of the Ghost Army from WWII. In June of 1944\, an  exceptional U.S. Army unit went into action in Normandy. Its weapons included  hundreds of inflatable tanks and a one-of-a-kind collection of sound effects  records\, and it carried out its battlefield mission without firing a shot. The unit was  officially called the 23rd Headquarters Special Troops\, but it was known to its men  as The Ghost Army.\n\nMembers of The Ghost Army adhered to a decades-long gag order\; many never  told their families about their extraordinary military service. Sixty-five years after  this top-secret group went into action\, the University of Michigan's Hatcher Library  will unveil the first public exhibit of this captivating group of materials documenting  The Ghost Army. \n\nThis exhibit is available during library hours. See http://www.lib.umich.edu/hatcher- graduate-library.
UID:1124-913959@events.umich.edu
URL:https://events.umich.edu/event/1124
CLASS:PUBLIC
STATUS:CONFIRMED
CATEGORIES:visual arts
LOCATION:Hatcher Graduate Library - Gallery in Room 100
CONTACT:
END:VEVENT
BEGIN:VEVENT
DTSTAMP:20101111T175759
DTSTART;TZID=America/Detroit:20100423T080000
DTEND;TZID=America/Detroit:20100423T170000
SUMMARY:Exhibition:History of Dentistry exhibits at the Sindecuse Museum of Dentistry
DESCRIPTION:Exhibits at the Sindecuse Museum of Dentistry include Dental Operatories of the 1860s to 1930s\, St. Apollonia-Patron Saint of Dentistry and more. Call 763-0767 or go to www.dent.umich.edu/museum for more information.
UID:3856-917534@events.umich.edu
URL:https://events.umich.edu/event/3856
CLASS:PUBLIC
STATUS:CONFIRMED
CATEGORIES:
LOCATION:Dental & W.K. Kellogg Institute
CONTACT:
END:VEVENT
BEGIN:VEVENT
DTSTAMP:20100318T115314
DTSTART;TZID=America/Detroit:20100423T080000
DTEND;TZID=America/Detroit:20100423T170000
SUMMARY:Workshop / Seminar:Improving Children's Health Through Community-Engaged Research
DESCRIPTION:This workshop will feature prominent experts and dynamic breakout sessions to  prepare you for conducting team science. The event will focus on developing  academic and community partnerships to improve the health of children and youth\,  through collaborative\, community-engaged research
UID:50-909082@events.umich.edu
URL:https://events.umich.edu/event/50
CLASS:PUBLIC
STATUS:CONFIRMED
CATEGORIES:
LOCATION:
CONTACT:
END:VEVENT
BEGIN:VEVENT
DTSTAMP:20100407T151643
DTSTART;TZID=America/Detroit:20100423T083000
DTEND;TZID=America/Detroit:20100423T190000
SUMMARY:Exhibition:Exhibit: Treasures of the Library
DESCRIPTION:Step into the Audubon Room in the University of Michigan's Hatcher Graduate  Library to view a collection of library treasures.  The collection includes:  a 2250- year-old papyrus document from ancient Philadelphia\, reporting the loss of a  donkey\; a 400-year-old manuscript by Galileo\, in which he explains the usefulness  of the telescope\; and the first book purchased by the Board of Regents\, \"The Birds of  America\,\" published in 1838\, with original drawings by John James Audubon. \n\nHours: Mon-Fri 8:30am-7pm\, Sat 10am-6pm\,  Sun 1-7pm.
UID:2332-918907@events.umich.edu
URL:https://events.umich.edu/event/2332
CLASS:PUBLIC
STATUS:CONFIRMED
CATEGORIES:visual arts,literary arts
LOCATION:Hatcher Graduate Library - Audubon Room
CONTACT:
END:VEVENT
BEGIN:VEVENT
DTSTAMP:20090722T143534
DTSTART;TZID=America/Detroit:20100423T090000
DTEND;TZID=America/Detroit:20100423T170000
SUMMARY:Exhibition:Ida: Darwinius masillae
DESCRIPTION:\"Ida\,\" a new exhibit in the Exhibit Museum's Rotunda\, displays a high-resolution cast of an extremely rare  fossil discovered in 1983 near Messel\, Germany\, but only recently made available for study. The fossil has  proven to be a “link” between the prosimian and simian (\"anthropoid\") primate lineages. It has \"advanced\"  front teeth (incisors and canines) and second toes like those of monkeys\, and is broadly representative of what  human primate ancestors may have looked like during the Eocene epoch 47 million years ago.     Ida (prounded \"eeda\") is named after after the daughter of Dr JÃ¸rn Hurum\, the Norwegian vertebrate  paleontologist who secured one section of the fossil from an anonymous owner\, and led the research. Ida was  about eight months old\, or the equivalent of a six-year-old human.     Publication of a paper on the discovery was accompanied by a book\, The Link: Uncovering Our Earliest  Ancestors by Colin Tudge\, and a documentary shown on the History Channel (US)\, BBC One (UK)\,and various  stations in Germany and Norway.     U-M paleontologist Philip Gingerich and U-M anthropologist B. Holly Smith were two members of the \"dream  team\" invited to study Ida. The exhibit will be on display through May 2010.
UID:2124-918293@events.umich.edu
URL:https://events.umich.edu/event/2124
CLASS:PUBLIC
STATUS:CONFIRMED
CATEGORIES:multicultural,visual arts,welcome week
LOCATION:
CONTACT:
END:VEVENT
BEGIN:VEVENT
DTSTAMP:20101111T175734
DTSTART;TZID=America/Detroit:20100423T090000
DTEND;TZID=America/Detroit:20100423T170000
SUMMARY:Exhibition:Scott Hocking Installation
DESCRIPTION:Scott Hocking explores the abandoned buildings and sites of Detroit like a  newfangled scientist. He gathers raw data in his excavations\, and records his  findings using a wholly unique and modern process and method that he intuitively  formulates as he goes along. In his ongoing study of a city so rooted in a dense  past\, and the emotional attachments that accompany it\, Hocking is  uncompromising and unflinching\, and refuses to buy into the hype. His visual  essays chronicling urban markings of modern day ruin are not the stuff of tragedy  or fodder for magazine centerfolds\, but proof of a renaissance in real time.  Hocking's work is fully alive\, and honors the world going past and us moving forward  along with it\, exhilarated by industrial parks returning to fallow land\, and strawberry  bushes growing in the cracked concrete.
UID:1793-915937@events.umich.edu
URL:https://events.umich.edu/event/1793
CLASS:PUBLIC
STATUS:CONFIRMED
CATEGORIES:visual arts
LOCATION:202 S. Thayer - 1010
CONTACT:
END:VEVENT
BEGIN:VEVENT
DTSTAMP:20101111T175642
DTSTART;TZID=America/Detroit:20100423T100000
DTEND;TZID=America/Detroit:20100423T163000
SUMMARY:Other:Bike to the Bot - Hike to the Arb: A Campus Earth Day Event
DESCRIPTION:During Earth Day festivities\, visit Nichols Arboretum or Matthaei Botanical Gardens  for an alternative study spot and a welcome break from the library\, dorm room\, or  computer screen. Bring your mug and grab a cup of coffee at the Arb visitor center  (Washington Heights entrance). Study inside the visitor center or on the patio\, on  one of the many benches in the Arb\, or just get outside and give yourself a break.  9 am–4 pm each day. Bike to the Botanical Gardens and study amid the lush green  setting of the conservatory. Wireless available in some areas of the Arb and  Gardens. Conservatory open 10 am–8 pm Wed.\, April 21\; 10–4:30 pm Thurs. and  Fri.\, April 22 & 23. Conservatory free for U-M students!
UID:765-912475@events.umich.edu
URL:https://events.umich.edu/event/765
CLASS:PUBLIC
STATUS:CONFIRMED
CATEGORIES:
LOCATION:Nichols Arboretum
CONTACT:
END:VEVENT
BEGIN:VEVENT
DTSTAMP:20101111T175600
DTSTART;TZID=America/Detroit:20100423T100000
DTEND;TZID=America/Detroit:20100423T170000
SUMMARY:Exhibition:Stearns Collection of Music
DESCRIPTION:The Stearns Collection at the School of Music\, Theatre & Dance is one of six major collections of musical instruments in North America. The 2\,500-piece collection is internationally known and is a resource for musical and cultural education.
UID:3790-909266@events.umich.edu
URL:https://events.umich.edu/event/3790
CLASS:PUBLIC
STATUS:CONFIRMED
CATEGORIES:
LOCATION:Earl V. Moore Building
CONTACT:
END:VEVENT
BEGIN:VEVENT
DTSTAMP:20101111T175843
DTSTART;TZID=America/Detroit:20100423T121500
DTEND;TZID=America/Detroit:20100423T130000
SUMMARY:Other:Relaxation Workshop Series
DESCRIPTION:Learn stress reduction techniques including deep muscle relaxation\, mental imagery\, mindfulness\, deep breathing and supportive \"self-talk\".
UID:2769-920491@events.umich.edu
URL:https://events.umich.edu/event/2769
CLASS:PUBLIC
STATUS:CONFIRMED
CATEGORIES:
LOCATION:Michigan Union - CAPS Library, Room 3100
CONTACT:
END:VEVENT
BEGIN:VEVENT
DTSTAMP:20100423T030002
DTSTART;TZID=America/Detroit:20100423T190000
SUMMARY:Other:Masters Recital:  Jesse Enderle\, baritone
DESCRIPTION:Joint recital with Samantha Biniker and  Rhea OlivaccePROGRAM:  Skelton - What’s the matter eh!/When they come back/if everything happens that can't be done/Shapes Come to a Potter\;there are so many tictoc/The Bird her punctual music brings/This Is What I Can Do (on the potter's wheel)/Good Morning - Midnight\; Skelton - Jimmie's got a goil\, goil\, goil/says ol man no body/jake hates all the girls/Gold Tooth Blues/Greazy Man (a New Orleans character)\; Williams - Songs of Travel\;Johnson and Hughes - Fi-yer from the Folk Operetta\, Fi-yer!\; Traditional Spiritual - Give Me Jesus/Deep River/Ride On\, King Jesus!
UID:2814-921296@events.umich.edu
URL:https://events.umich.edu/event/2814
CLASS:PUBLIC
STATUS:CONFIRMED
CATEGORIES:music
LOCATION:
CONTACT:
END:VEVENT
BEGIN:VEVENT
DTSTAMP:20100302T113443
DTSTART;TZID=America/Detroit:20100423T190000
SUMMARY:Performance:Peter Pan
DESCRIPTION:Peter Pan musical theater production by Young People's Theater\, 112 young people from Southeast Michigan ages 5-18!
UID:476-911703@events.umich.edu
URL:https://events.umich.edu/event/476
CLASS:PUBLIC
STATUS:CONFIRMED
CATEGORIES:theater
LOCATION:Lydia Mendelssohn Theatre
CONTACT:
END:VEVENT
BEGIN:VEVENT
DTSTAMP:20100423T030002
DTSTART;TZID=America/Detroit:20100423T190000
SUMMARY:Other:Senior Recital:  Samantha Binikier\, piano
DESCRIPTION:Joint recital with Jesse Enderle and Rhea OlivaccePROGRAM:  Skelton - What’s the matter eh!/When they come back/if everything happens that can't be done/Shapes Come to a Potter\;there are so many tictoc/The Bird her punctual music brings/This Is What I Can Do (on the potter's wheel)/Good Morning - Midnight\; Skelton - Jimmie's got a goil\, goil\, goil/says ol man no body/jake hates all the girls/Gold Tooth Blues/Greazy Man (a New Orleans character)\; Williams - Songs of Travel\;Johnson and Hughes - Fi-yer from the Folk Operetta\, Fi-yer!\; Traditional Spiritual - Give Me Jesus/Deep River/Ride On\, King Jesus!
UID:770-913112@events.umich.edu
URL:https://events.umich.edu/event/770
CLASS:PUBLIC
STATUS:CONFIRMED
CATEGORIES:music
LOCATION:
CONTACT:
END:VEVENT
BEGIN:VEVENT
DTSTAMP:20100423T030002
DTSTART;TZID=America/Detroit:20100423T200000
SUMMARY:Other:Masters Recital:  Monica Sciaky\, mezzo-soprano
DESCRIPTION:PROGRAM:  Handel - Mi palpita il cor (HWV 132c)\; Poulenc - La Fraicheur et le Feu\; Schumann - Frauenliebe und Leben Op. 42\; Rossini - Scena e Duetto
UID:568-911862@events.umich.edu
URL:https://events.umich.edu/event/568
CLASS:PUBLIC
STATUS:CONFIRMED
CATEGORIES:music
LOCATION:
CONTACT:
END:VEVENT
BEGIN:VEVENT
DTSTAMP:20100423T030002
DTSTART;TZID=America/Detroit:20100423T200000
SUMMARY:Other:Student Recital:  Rosseels Quartet - Paula Muldoon\, Christopher Jones\, Hoi Yue Ng\, James Jaffe
DESCRIPTION:PROGRAM: Mozart - Quartet in D Major\, K. 499\; Bartok - Quartet No. 4\; Williams - Five Mystical Songs with the Choir of the FBC (Brandon Straub\, director)
UID:2544-920134@events.umich.edu
URL:https://events.umich.edu/event/2544
CLASS:PUBLIC
STATUS:CONFIRMED
CATEGORIES:music
LOCATION:
CONTACT:
END:VEVENT
BEGIN:VEVENT
DTSTAMP:20100423T030002
DTSTART;TZID=America/Detroit:20100423T210000
SUMMARY:Other:Masters Recital: Christopher Turbessi\, collaborative piano
DESCRIPTION:PROGRAM:  Barber - Knoxville: Summer of 1915\; Canteloube - Selections from Chants d'Auvergne\;  Saint-SaÃ«ns - Aria\, scene and duet: Samson\, recherchant ma présence (Samson et Dalila)\; Strauss - Scene\, trio and duet: Mein Gott! Es war nicht mehr als eine Farce (Der Rosenkavalier)
UID:2836-920608@events.umich.edu
URL:https://events.umich.edu/event/2836
CLASS:PUBLIC
STATUS:CONFIRMED
CATEGORIES:music
LOCATION:
CONTACT:
END:VEVENT
BEGIN:VEVENT
DTSTAMP:20100301T134658
DTSTART;TZID=America/Detroit:20100423T213000
SUMMARY:Film Screening:Film: Herb and Dorothy
DESCRIPTION:Herb and Dorothy tells the extraordinary story of Herbert Vogel\, a postal clerk\, and Dorothy Vogel\, a librarian\, who managed to build one of the most important contemporary art collections in history with very modest means. They collected artworks guided by two rules: the piece had to be affordable\, and it had to be small enough to fit in their one-bedroom Manhattan apartment. Most of those they supported and befriended in this process went on to become world-renowned artists\, including Sol LeWitt\, Christo and Jeanne-Claude\, Richard Tuttle\, and Chuck Close. Directed by Megumi Sasaki.
UID:2716-921059@events.umich.edu
URL:https://events.umich.edu/event/2716
CLASS:PUBLIC
STATUS:CONFIRMED
CATEGORIES:
LOCATION:Museum of Art - Helmut Stern Auditorium
CONTACT:
END:VEVENT
END:VCALENDAR