BEGIN:VCALENDAR
VERSION:2.0
PRODID:-//UM//UM*Events//EN
CALSCALE:GREGORIAN
BEGIN:VTIMEZONE
TZID:America/Detroit
TZURL:http://tzurl.org/zoneinfo/America/Detroit
X-LIC-LOCATION:America/Detroit
BEGIN:DAYLIGHT
TZOFFSETFROM:-0500
TZOFFSETTO:-0400
TZNAME:EDT
DTSTART:20070311T020000
RRULE:FREQ=YEARLY;BYMONTH=3;BYDAY=2SU
END:DAYLIGHT
BEGIN:STANDARD
TZOFFSETFROM:-0400
TZOFFSETTO:-0500
TZNAME:EST
DTSTART:20071104T020000
RRULE:FREQ=YEARLY;BYMONTH=11;BYDAY=1SU
END:STANDARD
END:VTIMEZONE
BEGIN:VEVENT
DTSTAMP:20101111T175734
DTSTART;TZID=America/Detroit:20100424T000000
SUMMARY:Conference / Symposium:4th Biannual Graduate Student Translation Conference
DESCRIPTION:The 4th Biannual Graduate Student Translation Conference featuring Keynote  Speaker: Susan Bernofsky.
UID:1813-915975@events.umich.edu
URL:https://events.umich.edu/event/1813
CLASS:PUBLIC
STATUS:CONFIRMED
CATEGORIES:
LOCATION:Rackham Graduate School (Horace H.)
CONTACT:
END:VEVENT
BEGIN:VEVENT
DTSTAMP:20101111T175629
DTSTART;TZID=America/Detroit:20100424T000000
SUMMARY:Exhibition:Exhibit of Recent Aquisitions
DESCRIPTION:This exhibit includes an extraordinarily wide variety of primary source material collected to support current and  future research.  Among the items on display are:  a watercolor “portrait” of a railroad bridge built in Prague in  1850\, original artwork by local artist Tom Pohrt for a children's book written by Justice Sandra Day O'Connor\, a  diary and photographs from a female UM student who hitchhiked from Ann Arbor to San Francisco in 1923\, a  Spanish text from 1693 for those studying to be soldiers\, and Dante's Divine Comedy with illustrations by  Salvador Dali.  \n\nNew archival collections with samples on display include the papers of film director Robert Altman and writers  Nicholas Delbanco and Richard Tillinghast\, as well as four separate women involved in radical causes such as  Clarence Darrow's 1907 defense of union leaders accused of murder and the ecological costs of technology.   This is the first opportunity for the public to see materials from the Altman Collection\, which is estimated to be  1\,000 linear feet in size and is now being sorted and processed for use.
UID:748-911499@events.umich.edu
URL:https://events.umich.edu/event/748
CLASS:PUBLIC
STATUS:CONFIRMED
CATEGORIES:visual arts
LOCATION:Hatcher Graduate Library - 7th Floor Special Collections Library
CONTACT:
END:VEVENT
BEGIN:VEVENT
DTSTAMP:20101111T175620
DTSTART;TZID=America/Detroit:20100424T000000
SUMMARY:Exhibition:Permanent Exhibits at the Exhibit Museum of Natural History
DESCRIPTION:The Hall of Evolution houses Michigan's largest display of prehistoric life. More than 600 million years of life on Earth are traced through fossils\, models and dioramas. The Michigan Wildlife Gallery has a large collection of native Great Lakes birds\, mammals\, reptiles\, and amphibians\, with taxidermy mounts\, habitat scenes\, and the largest mastodon trackway on display in the world. There are also displays about some of the environmental problems faced in this region today. The Anthropology Displays feature artifacts from human cultures around the world. The Geology Displays on the fourth floor offer a large selection of rocks\, minerals and gems. These displays are updated periodically. For more information go to www.lsa.umich.edu/exhibitmuseum/exhibits/permexhibits or call 734-764-0480.
UID:452-910660@events.umich.edu
URL:https://events.umich.edu/event/452
CLASS:PUBLIC
STATUS:CONFIRMED
CATEGORIES:
LOCATION:Ruthven Museums Building
CONTACT:
END:VEVENT
BEGIN:VEVENT
DTSTAMP:20100318T170051
DTSTART;TZID=America/Detroit:20100424T080000
SUMMARY:Exhibition:Exhibit: The Ghost Army
DESCRIPTION:This exhibit tells the story of the Ghost Army from WWII. In June of 1944\, an  exceptional U.S. Army unit went into action in Normandy. Its weapons included  hundreds of inflatable tanks and a one-of-a-kind collection of sound effects  records\, and it carried out its battlefield mission without firing a shot. The unit was  officially called the 23rd Headquarters Special Troops\, but it was known to its men  as The Ghost Army.\n\nMembers of The Ghost Army adhered to a decades-long gag order\; many never  told their families about their extraordinary military service. Sixty-five years after  this top-secret group went into action\, the University of Michigan's Hatcher Library  will unveil the first public exhibit of this captivating group of materials documenting  The Ghost Army. \n\nThis exhibit is available during library hours. See http://www.lib.umich.edu/hatcher- graduate-library.
UID:1124-913960@events.umich.edu
URL:https://events.umich.edu/event/1124
CLASS:PUBLIC
STATUS:CONFIRMED
CATEGORIES:visual arts
LOCATION:Hatcher Graduate Library - Gallery in Room 100
CONTACT:
END:VEVENT
BEGIN:VEVENT
DTSTAMP:20100407T151643
DTSTART;TZID=America/Detroit:20100424T083000
DTEND;TZID=America/Detroit:20100424T190000
SUMMARY:Exhibition:Exhibit: Treasures of the Library
DESCRIPTION:Step into the Audubon Room in the University of Michigan's Hatcher Graduate  Library to view a collection of library treasures.  The collection includes:  a 2250- year-old papyrus document from ancient Philadelphia\, reporting the loss of a  donkey\; a 400-year-old manuscript by Galileo\, in which he explains the usefulness  of the telescope\; and the first book purchased by the Board of Regents\, \"The Birds of  America\,\" published in 1838\, with original drawings by John James Audubon. \n\nHours: Mon-Fri 8:30am-7pm\, Sat 10am-6pm\,  Sun 1-7pm.
UID:2332-918908@events.umich.edu
URL:https://events.umich.edu/event/2332
CLASS:PUBLIC
STATUS:CONFIRMED
CATEGORIES:visual arts,literary arts
LOCATION:Hatcher Graduate Library - Audubon Room
CONTACT:
END:VEVENT
BEGIN:VEVENT
DTSTAMP:20100423T030002
DTSTART;TZID=America/Detroit:20100424T090000
SUMMARY:Other:Dance Medicine Conference
DESCRIPTION:A Chance for Healthcare Professionals\, Dancers\, Gymnasts\, & Figure Skaters to come together to educate and enlighten!Presenters include Laurie Donaldson MD\, Kristen Balfour DPT\, Patricia Moylan PHD\, Melissa Beck-Matjias\, Nicola Conraths\, Amy Chavasse\,  & Kathleen Wright.The day will be composed of lectures and demonstrations addressing injury prevention\, treatment\, preventative technique\, psychology of injuries\, and post-injury return (among many other things!) Come to any or all sessions of the conference. For more information or reservations\, contact dancemedicine@umich.edu
UID:850-912603@events.umich.edu
URL:https://events.umich.edu/event/850
CLASS:PUBLIC
STATUS:CONFIRMED
CATEGORIES:dance,music
LOCATION:
CONTACT:
END:VEVENT
BEGIN:VEVENT
DTSTAMP:20100420T135156
DTSTART;TZID=America/Detroit:20100424T090000
DTEND;TZID=America/Detroit:20100424T140000
SUMMARY:Community Service:FREE E-WASTE RECYCLING EVENT
DESCRIPTION:A free e-waste recycling event will help area residents recycle electronics in an earth- friendly way.  E-waste is the fastest growing waste stream in the country and  frequently contains hazardous materials like lead and mercury\, which can adversely  affect the environment. This free disposal event will keep everything from laptops  to televisions out of landfills and recaptures raw materials that can be reused to  manufacture new items.  For a complete list of accepted materials and information  on the e-Waste recycling events\, visit www.climatesavers.umich.edu/e-waste.\n\nSponsor:              Office of Campus Sustainability and Ann Arbor Public Schools
UID:2132-917320@events.umich.edu
URL:https://events.umich.edu/event/2132
CLASS:PUBLIC
STATUS:CONFIRMED
CATEGORIES:
LOCATION:
CONTACT:
END:VEVENT
BEGIN:VEVENT
DTSTAMP:20090722T143534
DTSTART;TZID=America/Detroit:20100424T090000
DTEND;TZID=America/Detroit:20100424T170000
SUMMARY:Exhibition:Ida: Darwinius masillae
DESCRIPTION:\"Ida\,\" a new exhibit in the Exhibit Museum's Rotunda\, displays a high-resolution cast of an extremely rare  fossil discovered in 1983 near Messel\, Germany\, but only recently made available for study. The fossil has  proven to be a “link” between the prosimian and simian (\"anthropoid\") primate lineages. It has \"advanced\"  front teeth (incisors and canines) and second toes like those of monkeys\, and is broadly representative of what  human primate ancestors may have looked like during the Eocene epoch 47 million years ago.     Ida (prounded \"eeda\") is named after after the daughter of Dr JÃ¸rn Hurum\, the Norwegian vertebrate  paleontologist who secured one section of the fossil from an anonymous owner\, and led the research. Ida was  about eight months old\, or the equivalent of a six-year-old human.     Publication of a paper on the discovery was accompanied by a book\, The Link: Uncovering Our Earliest  Ancestors by Colin Tudge\, and a documentary shown on the History Channel (US)\, BBC One (UK)\,and various  stations in Germany and Norway.     U-M paleontologist Philip Gingerich and U-M anthropologist B. Holly Smith were two members of the \"dream  team\" invited to study Ida. The exhibit will be on display through May 2010.
UID:2124-918294@events.umich.edu
URL:https://events.umich.edu/event/2124
CLASS:PUBLIC
STATUS:CONFIRMED
CATEGORIES:welcome week,multicultural,visual arts
LOCATION:
CONTACT:
END:VEVENT
BEGIN:VEVENT
DTSTAMP:20100423T030002
DTSTART;TZID=America/Detroit:20100424T130000
SUMMARY:Other:Dance Medicine Conference
DESCRIPTION:A Chance for Healthcare Professionals\, Dancers\, Gymnasts\, & Figure Skaters to come together to educate and enlighten!Presenters include Laurie Donaldson MD\, Kristen Balfour DPT\, Patricia Moylan PHD\, Melissa Beck-Matjias\, Nicola Conraths\, Amy Chavasse\,  & Kathleen Wright The day will be composed of lectures and demonstrations addressing injury prevention\, treatment\, preventative technique\, psychology of injuries\, and post-injury return (among many other things!) Come to any or all sessions of the conference. For more information or reservations\, contact dancemedicine@umich.edu
UID:1564-915355@events.umich.edu
URL:https://events.umich.edu/event/1564
CLASS:PUBLIC
STATUS:CONFIRMED
CATEGORIES:dance,music
LOCATION:
CONTACT:
END:VEVENT
BEGIN:VEVENT
DTSTAMP:20101111T175738
DTSTART;TZID=America/Detroit:20100424T140000
SUMMARY:Performance:Peter Pan
DESCRIPTION:Peter Pan Musical Theater Production by Young People's Theater.  112 Young People from Southeast Michigan\, ages 5-18!
UID:1572-916173@events.umich.edu
URL:https://events.umich.edu/event/1572
CLASS:PUBLIC
STATUS:CONFIRMED
CATEGORIES:theater
LOCATION:Lydia Mendelssohn Theatre
CONTACT:
END:VEVENT
BEGIN:VEVENT
DTSTAMP:20100423T030002
DTSTART;TZID=America/Detroit:20100424T140000
SUMMARY:Other:Third Dissertation Recital:  Yeonjin Kim\, cello
DESCRIPTION:PROGRAM:  Debussy - Cello Sonata in D Minor\; Poulenc - Sonata for Piano and Cello\; Franck - Cello Sonata in A Major
UID:3023-921935@events.umich.edu
URL:https://events.umich.edu/event/3023
CLASS:PUBLIC
STATUS:CONFIRMED
CATEGORIES:music
LOCATION:Earl V. Moore Building - Britton Recital Hall
CONTACT:
END:VEVENT
BEGIN:VEVENT
DTSTAMP:20100329T162542
DTSTART;TZID=America/Detroit:20100424T150000
DTEND;TZID=America/Detroit:20100424T170000
SUMMARY:Exhibition:Artist Talk: Oliver van den Berg
DESCRIPTION:Berlin-based sculptor Oliver van den Berg will discuss his work–carved wooden replicas of technical equipment such as cameras\, microphones\, and projectors–and his low-tech take on high-tech contemporary society. Join Oliver and UMMA's Jacob Proctor for this engaging conversation.\n\nThis project is made possible in part by the University of Michigan Office of the President and UMMA's New Visions Venture Fund including the Dr. Robert and Janet Miller Fund.\n\nThis event will take place in the Helmut Stern Auditorium.
UID:661-911316@events.umich.edu
URL:https://events.umich.edu/event/661
CLASS:PUBLIC
STATUS:CONFIRMED
CATEGORIES:visual arts
LOCATION:Museum of Art
CONTACT:
END:VEVENT
BEGIN:VEVENT
DTSTAMP:20100302T113443
DTSTART;TZID=America/Detroit:20100424T190000
SUMMARY:Performance:Peter Pan
DESCRIPTION:Peter Pan musical theater production by Young People's Theater\, 112 young people from Southeast Michigan ages 5-18!
UID:476-911704@events.umich.edu
URL:https://events.umich.edu/event/476
CLASS:PUBLIC
STATUS:CONFIRMED
CATEGORIES:theater
LOCATION:Lydia Mendelssohn Theatre
CONTACT:
END:VEVENT
BEGIN:VEVENT
DTSTAMP:20100423T030002
DTSTART;TZID=America/Detroit:20100424T190000
SUMMARY:Other:Senior Recital:  Austin Chrzanowski\, bass
DESCRIPTION:PROGRAM:  Handel - Honor and Arms (from Samson)\; Vivaldi - Piango Gemo (Crying\, Weeping)\; Strauss - Im SpÃ¤tboot (In the Late Boat)/Das Thal (The Valley)\; Strauss - Der Einsame (The Lonely)\; Mozart - O Isis und Osiris (from Magic Flute\; Halévy - Si la rigueur (from La Juive)\; Ibert - Chanson de Départ de Don Quichotte\; Ibert - Chanson de Duc/Chanson Ã  Dulcinée/Chanson de la Mort de Don Quichotte\; Bolcom - Song of Black Max\; Loesser - My Time of Day (from Guys and Dolls)
UID:319-910364@events.umich.edu
URL:https://events.umich.edu/event/319
CLASS:PUBLIC
STATUS:CONFIRMED
CATEGORIES:music
LOCATION:
CONTACT:
END:VEVENT
BEGIN:VEVENT
DTSTAMP:20100423T030002
DTSTART;TZID=America/Detroit:20100424T190000
SUMMARY:Other:Senior Recital:  Jennifer McKenzie\, mezzo-soprano
DESCRIPTION:PROGRAM:  Rossini - SopranoL'Invito\; Wolf - In dem Schatten meiner Locken/Ach\, des Knaben Augen/Klinge\, klinge mein Pandero\; Purcell - From Rosy Bowers\; Bizet - Habanera (L'Amour est un oiseau rebelle)\; Viardot - Les Filles de Cadix\; Delibes - Les Filles de Cadix\; Debussy - Chanson Espagnole (Les Filles de Cadix)\; de Falla - Preludios/Olas gigantes/ ¡Dios mÃ­o\, que solos se quedan los muertos!/OraciÃ³n de las madres que tienen a sus hijos en brazos/El pan de Ronda\; Luna - De EspaÃ±a vengo
UID:1958-917947@events.umich.edu
URL:https://events.umich.edu/event/1958
CLASS:PUBLIC
STATUS:CONFIRMED
CATEGORIES:music
LOCATION:
CONTACT:
END:VEVENT
BEGIN:VEVENT
DTSTAMP:20100423T030002
DTSTART;TZID=America/Detroit:20100424T193000
SUMMARY:Other:Senior Recital:  Anthony Bucci\, countertenor
DESCRIPTION:PROGRAM:  Bach - Cantata No. 54\; Dowland - I saw my lady weep/Can she excuse my wrongs?/In darkness let me dwell\; Purcell - Music for a while\; Mozart - Venga pur\, minacci e frema\; Debussy - Fetes Galantes II\; Handel - To thee\, thou glorious son of worth
UID:2217-918586@events.umich.edu
URL:https://events.umich.edu/event/2217
CLASS:PUBLIC
STATUS:CONFIRMED
CATEGORIES:music
LOCATION:
CONTACT:
END:VEVENT
END:VCALENDAR