BEGIN:VCALENDAR
VERSION:2.0
PRODID:-//UM//UM*Events//EN
CALSCALE:GREGORIAN
BEGIN:VTIMEZONE
TZID:America/Detroit
TZURL:http://tzurl.org/zoneinfo/America/Detroit
X-LIC-LOCATION:America/Detroit
BEGIN:DAYLIGHT
TZOFFSETFROM:-0500
TZOFFSETTO:-0400
TZNAME:EDT
DTSTART:20070311T020000
RRULE:FREQ=YEARLY;BYMONTH=3;BYDAY=2SU
END:DAYLIGHT
BEGIN:STANDARD
TZOFFSETFROM:-0400
TZOFFSETTO:-0500
TZNAME:EST
DTSTART:20071104T020000
RRULE:FREQ=YEARLY;BYMONTH=11;BYDAY=1SU
END:STANDARD
END:VTIMEZONE
BEGIN:VEVENT
DTSTAMP:20101111T175734
DTSTART;TZID=America/Detroit:20100425T000000
SUMMARY:Conference / Symposium:4th Biannual Graduate Student Translation Conference
DESCRIPTION:The 4th Biannual Graduate Student Translation Conference featuring Keynote  Speaker: Susan Bernofsky.
UID:1813-915976@events.umich.edu
URL:https://events.umich.edu/event/1813
CLASS:PUBLIC
STATUS:CONFIRMED
CATEGORIES:
LOCATION:Rackham Graduate School (Horace H.)
CONTACT:
END:VEVENT
BEGIN:VEVENT
DTSTAMP:20101111T175629
DTSTART;TZID=America/Detroit:20100425T000000
SUMMARY:Exhibition:Exhibit of Recent Aquisitions
DESCRIPTION:This exhibit includes an extraordinarily wide variety of primary source material collected to support current and  future research.  Among the items on display are:  a watercolor “portrait” of a railroad bridge built in Prague in  1850\, original artwork by local artist Tom Pohrt for a children's book written by Justice Sandra Day O'Connor\, a  diary and photographs from a female UM student who hitchhiked from Ann Arbor to San Francisco in 1923\, a  Spanish text from 1693 for those studying to be soldiers\, and Dante's Divine Comedy with illustrations by  Salvador Dali.  \n\nNew archival collections with samples on display include the papers of film director Robert Altman and writers  Nicholas Delbanco and Richard Tillinghast\, as well as four separate women involved in radical causes such as  Clarence Darrow's 1907 defense of union leaders accused of murder and the ecological costs of technology.   This is the first opportunity for the public to see materials from the Altman Collection\, which is estimated to be  1\,000 linear feet in size and is now being sorted and processed for use.
UID:748-911500@events.umich.edu
URL:https://events.umich.edu/event/748
CLASS:PUBLIC
STATUS:CONFIRMED
CATEGORIES:visual arts
LOCATION:Hatcher Graduate Library - 7th Floor Special Collections Library
CONTACT:
END:VEVENT
BEGIN:VEVENT
DTSTAMP:20101111T175620
DTSTART;TZID=America/Detroit:20100425T000000
SUMMARY:Exhibition:Permanent Exhibits at the Exhibit Museum of Natural History
DESCRIPTION:The Hall of Evolution houses Michigan's largest display of prehistoric life. More than 600 million years of life on Earth are traced through fossils\, models and dioramas. The Michigan Wildlife Gallery has a large collection of native Great Lakes birds\, mammals\, reptiles\, and amphibians\, with taxidermy mounts\, habitat scenes\, and the largest mastodon trackway on display in the world. There are also displays about some of the environmental problems faced in this region today. The Anthropology Displays feature artifacts from human cultures around the world. The Geology Displays on the fourth floor offer a large selection of rocks\, minerals and gems. These displays are updated periodically. For more information go to www.lsa.umich.edu/exhibitmuseum/exhibits/permexhibits or call 734-764-0480.
UID:452-910661@events.umich.edu
URL:https://events.umich.edu/event/452
CLASS:PUBLIC
STATUS:CONFIRMED
CATEGORIES:
LOCATION:Ruthven Museums Building
CONTACT:
END:VEVENT
BEGIN:VEVENT
DTSTAMP:20100318T170051
DTSTART;TZID=America/Detroit:20100425T080000
SUMMARY:Exhibition:Exhibit: The Ghost Army
DESCRIPTION:This exhibit tells the story of the Ghost Army from WWII. In June of 1944\, an  exceptional U.S. Army unit went into action in Normandy. Its weapons included  hundreds of inflatable tanks and a one-of-a-kind collection of sound effects  records\, and it carried out its battlefield mission without firing a shot. The unit was  officially called the 23rd Headquarters Special Troops\, but it was known to its men  as The Ghost Army.\n\nMembers of The Ghost Army adhered to a decades-long gag order\; many never  told their families about their extraordinary military service. Sixty-five years after  this top-secret group went into action\, the University of Michigan's Hatcher Library  will unveil the first public exhibit of this captivating group of materials documenting  The Ghost Army. \n\nThis exhibit is available during library hours. See http://www.lib.umich.edu/hatcher- graduate-library.
UID:1124-913961@events.umich.edu
URL:https://events.umich.edu/event/1124
CLASS:PUBLIC
STATUS:CONFIRMED
CATEGORIES:visual arts
LOCATION:Hatcher Graduate Library - Gallery in Room 100
CONTACT:
END:VEVENT
BEGIN:VEVENT
DTSTAMP:20100407T151643
DTSTART;TZID=America/Detroit:20100425T083000
DTEND;TZID=America/Detroit:20100425T190000
SUMMARY:Exhibition:Exhibit: Treasures of the Library
DESCRIPTION:Step into the Audubon Room in the University of Michigan's Hatcher Graduate  Library to view a collection of library treasures.  The collection includes:  a 2250- year-old papyrus document from ancient Philadelphia\, reporting the loss of a  donkey\; a 400-year-old manuscript by Galileo\, in which he explains the usefulness  of the telescope\; and the first book purchased by the Board of Regents\, \"The Birds of  America\,\" published in 1838\, with original drawings by John James Audubon. \n\nHours: Mon-Fri 8:30am-7pm\, Sat 10am-6pm\,  Sun 1-7pm.
UID:2332-918909@events.umich.edu
URL:https://events.umich.edu/event/2332
CLASS:PUBLIC
STATUS:CONFIRMED
CATEGORIES:literary arts,visual arts
LOCATION:Hatcher Graduate Library - Audubon Room
CONTACT:
END:VEVENT
BEGIN:VEVENT
DTSTAMP:20090722T143534
DTSTART;TZID=America/Detroit:20100425T090000
DTEND;TZID=America/Detroit:20100425T170000
SUMMARY:Exhibition:Ida: Darwinius masillae
DESCRIPTION:\"Ida\,\" a new exhibit in the Exhibit Museum's Rotunda\, displays a high-resolution cast of an extremely rare  fossil discovered in 1983 near Messel\, Germany\, but only recently made available for study. The fossil has  proven to be a “link” between the prosimian and simian (\"anthropoid\") primate lineages. It has \"advanced\"  front teeth (incisors and canines) and second toes like those of monkeys\, and is broadly representative of what  human primate ancestors may have looked like during the Eocene epoch 47 million years ago.     Ida (prounded \"eeda\") is named after after the daughter of Dr JÃ¸rn Hurum\, the Norwegian vertebrate  paleontologist who secured one section of the fossil from an anonymous owner\, and led the research. Ida was  about eight months old\, or the equivalent of a six-year-old human.     Publication of a paper on the discovery was accompanied by a book\, The Link: Uncovering Our Earliest  Ancestors by Colin Tudge\, and a documentary shown on the History Channel (US)\, BBC One (UK)\,and various  stations in Germany and Norway.     U-M paleontologist Philip Gingerich and U-M anthropologist B. Holly Smith were two members of the \"dream  team\" invited to study Ida. The exhibit will be on display through May 2010.
UID:2124-918295@events.umich.edu
URL:https://events.umich.edu/event/2124
CLASS:PUBLIC
STATUS:CONFIRMED
CATEGORIES:multicultural,visual arts,welcome week
LOCATION:
CONTACT:
END:VEVENT
BEGIN:VEVENT
DTSTAMP:20100323T152513
DTSTART;TZID=America/Detroit:20100425T090000
SUMMARY:Rally / Mass Meeting:March for Babies
DESCRIPTION:The biggest March of Dimes fundraiser/event of the year is here! If you have not already signed up\, you can  still show up at the park without signing up to walk and have some fun. To sign up\, go to marchforbabies.org.  We have a school-wide team called Wolverines for Babies. To register\, click \"Join a Team\" on the left hand  side. Type in the team name in the search bar - if typed correctly\, our team should be the only one to show  up. Click on the team and fill out the registration form. Simple as that! Personal fundraising goals can be  anything you want - they have ranged from $5 to $500 - you are not obliged to meet this goal. All personal  goals go towards the team goal which is $3000. We are competing against MSU\, CMU\, and other colleges for  the amount raised for the team\, so let's show that the Wolverines are the best!\n\n Registration starts at 9am\n\nWalk starts at 10am\n\nRoute is 3 miles\n\n TONS of FREE FOOD\, music\, and fun. This is one event you will want to take a break from studying for finals  for.\n\n**If you are interested in helping volunteer at the event anytime during the week before the walk\, before the  walk starts on this day or during the walk (for those that don't want to)\, e-mail us for more info on how you  can help!\n\n**T-shirt are available to order until April 9th at 8pm. Email us for more details on this if you are interested -  um.marchofdimes@gmail.com
UID:1473-914555@events.umich.edu
URL:https://events.umich.edu/event/1473
CLASS:PUBLIC
STATUS:CONFIRMED
CATEGORIES:
LOCATION:
CONTACT:
END:VEVENT
BEGIN:VEVENT
DTSTAMP:20100423T030002
DTSTART;TZID=America/Detroit:20100425T140000
SUMMARY:Other:First Dissertation Recital:  Mariah Mlynarek\, piano
DESCRIPTION:PROGRAM:  Barber - Rain Has Fallen/Sleep Now/I Hear and Army\; Debussy - Pierrot/Clair de lune/Pantomime/Apparition\; de Falla - Siete Canciones Populares EspaÃ±oles/El pano moruno/Seguidillamurciana/Asturiana/Jota/Nana/Cancion/Polo\; Paderewski - Sonata for Violin and Piano\, Op. 13\; Montsalvatge - Cinco Canciones Negras/Cuba dentro de un piano/Punto de Habanera/Chévere/CanciÃ³n de cuna para dormir a un negrito/Canto negro
UID:994-913638@events.umich.edu
URL:https://events.umich.edu/event/994
CLASS:PUBLIC
STATUS:CONFIRMED
CATEGORIES:music
LOCATION:
CONTACT:
END:VEVENT
BEGIN:VEVENT
DTSTAMP:20101111T175652
DTSTART;TZID=America/Detroit:20100425T140000
DTEND;TZID=America/Detroit:20100425T153000
SUMMARY:Performance:Life Sciences Orchestra Concert
DESCRIPTION:The U-M Life Sciences Orchestra will play a free concert of Beethoven\, Tchaikovsky  and Corigliano to close its 10th season of blending science and music. The  orchestra\, made up of nearly 100 faculty\, staff\, students and alumni from the  health and biomedical areas of U-M\, will be introduced by Ora Hirsch Pescovitz\,  M.D.\, CEO of the U-M Health System. On the program are \"Voyage\" for strings by  living composer John Corigliano\, the first movement of Beethoven's \"Emperor\"  piano concerto featuring Cathy Twu\, and Tchaikovsky's Symphony No. 5. The LSO is  conducted by music  director Robert Boardman and assistant conductor Avlana  Eisenberg.
UID:1133-913080@events.umich.edu
URL:https://events.umich.edu/event/1133
CLASS:PUBLIC
STATUS:CONFIRMED
CATEGORIES:music
LOCATION:Hill Auditorium
CONTACT:
END:VEVENT
BEGIN:VEVENT
DTSTAMP:20101111T175738
DTSTART;TZID=America/Detroit:20100425T140000
SUMMARY:Performance:Peter Pan
DESCRIPTION:Peter Pan Musical Theater Production by Young People's Theater.  112 Young People from Southeast Michigan\, ages 5-18!
UID:1572-916174@events.umich.edu
URL:https://events.umich.edu/event/1572
CLASS:PUBLIC
STATUS:CONFIRMED
CATEGORIES:theater
LOCATION:Lydia Mendelssohn Theatre
CONTACT:
END:VEVENT
END:VCALENDAR