BEGIN:VCALENDAR
VERSION:2.0
PRODID:-//UM//UM*Events//EN
CALSCALE:GREGORIAN
BEGIN:VTIMEZONE
TZID:America/Detroit
TZURL:http://tzurl.org/zoneinfo/America/Detroit
X-LIC-LOCATION:America/Detroit
BEGIN:DAYLIGHT
TZOFFSETFROM:-0500
TZOFFSETTO:-0400
TZNAME:EDT
DTSTART:20070311T020000
RRULE:FREQ=YEARLY;BYMONTH=3;BYDAY=2SU
END:DAYLIGHT
BEGIN:STANDARD
TZOFFSETFROM:-0400
TZOFFSETTO:-0500
TZNAME:EST
DTSTART:20071104T020000
RRULE:FREQ=YEARLY;BYMONTH=11;BYDAY=1SU
END:STANDARD
END:VTIMEZONE
BEGIN:VEVENT
DTSTAMP:20101111T175629
DTSTART;TZID=America/Detroit:20100430T000000
SUMMARY:Exhibition:Exhibit of Recent Aquisitions
DESCRIPTION:This exhibit includes an extraordinarily wide variety of primary source material collected to support current and  future research.  Among the items on display are:  a watercolor “portrait” of a railroad bridge built in Prague in  1850\, original artwork by local artist Tom Pohrt for a children's book written by Justice Sandra Day O'Connor\, a  diary and photographs from a female UM student who hitchhiked from Ann Arbor to San Francisco in 1923\, a  Spanish text from 1693 for those studying to be soldiers\, and Dante's Divine Comedy with illustrations by  Salvador Dali.  \n\nNew archival collections with samples on display include the papers of film director Robert Altman and writers  Nicholas Delbanco and Richard Tillinghast\, as well as four separate women involved in radical causes such as  Clarence Darrow's 1907 defense of union leaders accused of murder and the ecological costs of technology.   This is the first opportunity for the public to see materials from the Altman Collection\, which is estimated to be  1\,000 linear feet in size and is now being sorted and processed for use.
UID:748-911400@events.umich.edu
URL:https://events.umich.edu/event/748
CLASS:PUBLIC
STATUS:CONFIRMED
CATEGORIES:visual arts
LOCATION:Hatcher Graduate Library - 7th Floor Special Collections Library
CONTACT:
END:VEVENT
BEGIN:VEVENT
DTSTAMP:20101111T175620
DTSTART;TZID=America/Detroit:20100430T000000
SUMMARY:Exhibition:Permanent Exhibits at the Exhibit Museum of Natural History
DESCRIPTION:The Hall of Evolution houses Michigan's largest display of prehistoric life. More than 600 million years of life on Earth are traced through fossils\, models and dioramas. The Michigan Wildlife Gallery has a large collection of native Great Lakes birds\, mammals\, reptiles\, and amphibians\, with taxidermy mounts\, habitat scenes\, and the largest mastodon trackway on display in the world. There are also displays about some of the environmental problems faced in this region today. The Anthropology Displays feature artifacts from human cultures around the world. The Geology Displays on the fourth floor offer a large selection of rocks\, minerals and gems. These displays are updated periodically. For more information go to www.lsa.umich.edu/exhibitmuseum/exhibits/permexhibits or call 734-764-0480.
UID:452-910666@events.umich.edu
URL:https://events.umich.edu/event/452
CLASS:PUBLIC
STATUS:CONFIRMED
CATEGORIES:
LOCATION:Ruthven Museums Building
CONTACT:
END:VEVENT
BEGIN:VEVENT
DTSTAMP:20100318T170051
DTSTART;TZID=America/Detroit:20100430T080000
SUMMARY:Exhibition:Exhibit: The Ghost Army
DESCRIPTION:This exhibit tells the story of the Ghost Army from WWII. In June of 1944\, an  exceptional U.S. Army unit went into action in Normandy. Its weapons included  hundreds of inflatable tanks and a one-of-a-kind collection of sound effects  records\, and it carried out its battlefield mission without firing a shot. The unit was  officially called the 23rd Headquarters Special Troops\, but it was known to its men  as The Ghost Army.\n\nMembers of The Ghost Army adhered to a decades-long gag order\; many never  told their families about their extraordinary military service. Sixty-five years after  this top-secret group went into action\, the University of Michigan's Hatcher Library  will unveil the first public exhibit of this captivating group of materials documenting  The Ghost Army. \n\nThis exhibit is available during library hours. See http://www.lib.umich.edu/hatcher- graduate-library.
UID:1124-913966@events.umich.edu
URL:https://events.umich.edu/event/1124
CLASS:PUBLIC
STATUS:CONFIRMED
CATEGORIES:visual arts
LOCATION:Hatcher Graduate Library - Gallery in Room 100
CONTACT:
END:VEVENT
BEGIN:VEVENT
DTSTAMP:20101111T175759
DTSTART;TZID=America/Detroit:20100430T080000
DTEND;TZID=America/Detroit:20100430T170000
SUMMARY:Exhibition:History of Dentistry exhibits at the Sindecuse Museum of Dentistry
DESCRIPTION:Exhibits at the Sindecuse Museum of Dentistry include Dental Operatories of the 1860s to 1930s\, St. Apollonia-Patron Saint of Dentistry and more. Call 763-0767 or go to www.dent.umich.edu/museum for more information.
UID:3856-917539@events.umich.edu
URL:https://events.umich.edu/event/3856
CLASS:PUBLIC
STATUS:CONFIRMED
CATEGORIES:
LOCATION:Dental & W.K. Kellogg Institute
CONTACT:
END:VEVENT
BEGIN:VEVENT
DTSTAMP:20100407T151643
DTSTART;TZID=America/Detroit:20100430T083000
DTEND;TZID=America/Detroit:20100430T190000
SUMMARY:Exhibition:Exhibit: Treasures of the Library
DESCRIPTION:Step into the Audubon Room in the University of Michigan's Hatcher Graduate  Library to view a collection of library treasures.  The collection includes:  a 2250- year-old papyrus document from ancient Philadelphia\, reporting the loss of a  donkey\; a 400-year-old manuscript by Galileo\, in which he explains the usefulness  of the telescope\; and the first book purchased by the Board of Regents\, \"The Birds of  America\,\" published in 1838\, with original drawings by John James Audubon. \n\nHours: Mon-Fri 8:30am-7pm\, Sat 10am-6pm\,  Sun 1-7pm.
UID:2332-918914@events.umich.edu
URL:https://events.umich.edu/event/2332
CLASS:PUBLIC
STATUS:CONFIRMED
CATEGORIES:literary arts,visual arts
LOCATION:Hatcher Graduate Library - Audubon Room
CONTACT:
END:VEVENT
BEGIN:VEVENT
DTSTAMP:20100423T141347
DTSTART;TZID=America/Detroit:20100430T090000
DTEND;TZID=America/Detroit:20100430T190000
SUMMARY:Exhibition:Architecture Thesis Reviews and Exhibit
DESCRIPTION:University of Michigan Taubman College of Architecture and Urban Planning Architecture Thesis Reviews and Exhibit April 28 - May 2\, 2010 @ Liberty Lofts Warehouse 305 W. Liberty Street\, Ann Arbor \n\nReviews: April 28-29: 9 AM – 7 PM Exhibit: April 30 – May 1\, 10 AM – 5 PM and May 2\, 12 PM – 7 PM \n\nArchitecture master students from University of Michigan's Taubman College of Architecture and  Urban Planning program will display their thesis projects at the Liberty Lofts Warehouse\, 305. W.  Liberty\, in Ann Arbor\, April 28-May 2\, 2010. The thesis' students reviews and the exhibit are free  and open to the U-M community and guests. \n\nThe thesis projects are related to the following studio topics led by U-M Taubman College faculty: \n\nDigital Publics - Dawn Gilpin\, Will Glover\, Jennifer Maigret\, Jason Young  Euphoria - Robert Adams\, Perry Kulper\, Benjamin Smith\, Glenn Wilcox  Body Building / Building Bodies - Caroline Constant\, Karl Daubmann\, Neal Robinson\, Mireille  Roddier  Heavy Weather_Atmospheres | Environment | Ecologies- Craig Borum\, Amy Kulper\, Shweta  Manchanda\, Geoffrey ThÃ¼n \n\nCritics who will be judging the architecture thesis projects on April 28-29\, 2010: \n\nTerry Boling: Assistant Professor of Architecture\, University of Cincinnati_ School of Architecture  & Interior Design  Benjamin Bratton: Associate Professor Visual Arts\, University of California\, San Diego\; Design  Policy Program Director\, California Institute of Telecommunications and Information Technology  Nat Chard: Head and Professor\, University of Manitoba\, Department of Architecture  Britt Eversole: PhD Candidate\, Princeton University School of Architecture  Sean Lally: Assistant Professor\, University of Illinois at Chicago\, School of Architecture  Lola Shephard: Professor of Architecture\, University of Waterloo  Bill Sherman: Associate Professor of Architecture\, University of Virginia  John Shnier: Associate Professor\, University of Toronto\, John H. Daniels Faculty of Architecture\,  Landscape\, and Design  Jesse Vogler: Adjunct Assistant Professor\, IIT College of Architecture
UID:1653-916329@events.umich.edu
URL:https://events.umich.edu/event/1653
CLASS:PUBLIC
STATUS:CONFIRMED
CATEGORIES:architecture
LOCATION:
CONTACT:
END:VEVENT
BEGIN:VEVENT
DTSTAMP:20090722T143534
DTSTART;TZID=America/Detroit:20100430T090000
DTEND;TZID=America/Detroit:20100430T170000
SUMMARY:Exhibition:Ida: Darwinius masillae
DESCRIPTION:\"Ida\,\" a new exhibit in the Exhibit Museum's Rotunda\, displays a high-resolution cast of an extremely rare  fossil discovered in 1983 near Messel\, Germany\, but only recently made available for study. The fossil has  proven to be a “link” between the prosimian and simian (\"anthropoid\") primate lineages. It has \"advanced\"  front teeth (incisors and canines) and second toes like those of monkeys\, and is broadly representative of what  human primate ancestors may have looked like during the Eocene epoch 47 million years ago.     Ida (prounded \"eeda\") is named after after the daughter of Dr JÃ¸rn Hurum\, the Norwegian vertebrate  paleontologist who secured one section of the fossil from an anonymous owner\, and led the research. Ida was  about eight months old\, or the equivalent of a six-year-old human.     Publication of a paper on the discovery was accompanied by a book\, The Link: Uncovering Our Earliest  Ancestors by Colin Tudge\, and a documentary shown on the History Channel (US)\, BBC One (UK)\,and various  stations in Germany and Norway.     U-M paleontologist Philip Gingerich and U-M anthropologist B. Holly Smith were two members of the \"dream  team\" invited to study Ida. The exhibit will be on display through May 2010.
UID:2124-918300@events.umich.edu
URL:https://events.umich.edu/event/2124
CLASS:PUBLIC
STATUS:CONFIRMED
CATEGORIES:multicultural,visual arts,welcome week
LOCATION:
CONTACT:
END:VEVENT
BEGIN:VEVENT
DTSTAMP:20101111T175734
DTSTART;TZID=America/Detroit:20100430T090000
DTEND;TZID=America/Detroit:20100430T170000
SUMMARY:Exhibition:Scott Hocking Installation
DESCRIPTION:Scott Hocking explores the abandoned buildings and sites of Detroit like a  newfangled scientist. He gathers raw data in his excavations\, and records his  findings using a wholly unique and modern process and method that he intuitively  formulates as he goes along. In his ongoing study of a city so rooted in a dense  past\, and the emotional attachments that accompany it\, Hocking is  uncompromising and unflinching\, and refuses to buy into the hype. His visual  essays chronicling urban markings of modern day ruin are not the stuff of tragedy  or fodder for magazine centerfolds\, but proof of a renaissance in real time.  Hocking's work is fully alive\, and honors the world going past and us moving forward  along with it\, exhilarated by industrial parks returning to fallow land\, and strawberry  bushes growing in the cracked concrete.
UID:1793-915942@events.umich.edu
URL:https://events.umich.edu/event/1793
CLASS:PUBLIC
STATUS:CONFIRMED
CATEGORIES:visual arts
LOCATION:202 S. Thayer - 1010
CONTACT:
END:VEVENT
BEGIN:VEVENT
DTSTAMP:20101111T175600
DTSTART;TZID=America/Detroit:20100430T100000
DTEND;TZID=America/Detroit:20100430T170000
SUMMARY:Exhibition:Stearns Collection of Music
DESCRIPTION:The Stearns Collection at the School of Music\, Theatre & Dance is one of six major collections of musical instruments in North America. The 2\,500-piece collection is internationally known and is a resource for musical and cultural education.
UID:3790-909271@events.umich.edu
URL:https://events.umich.edu/event/3790
CLASS:PUBLIC
STATUS:CONFIRMED
CATEGORIES:
LOCATION:Earl V. Moore Building
CONTACT:
END:VEVENT
BEGIN:VEVENT
DTSTAMP:20100423T141141
DTSTART;TZID=America/Detroit:20100430T170000
DTEND;TZID=America/Detroit:20100430T190000
SUMMARY:Exhibition:2010 Wallenberg Competition and Award Symposium
DESCRIPTION:Join Taubman College of Architecture and Urban Planning studio reviews April 22\,  23\, and 30\, 2010 as the college seniors present final projects for the Raoul  Wallenberg Studios coordinated by Assistant Professor of Architecture Jennifer  Maigret. The review galleries\, known as the CMYK Gallery\, are located on the third  floor of the Art and Architecture Building and are open to the public.  Project Reviews\, April 22 & 23\n\nStudent Studio Reviews: April 22 & 23\, 2010\, A+A BLDG.\, Third Floor Studios Student work will be displayed and judged by faculty and outside reviewers\,  including practicing architects and academics.\n\nThursday\, April 22: 10AM – 1PM and 2PM – 6PM East Review: Anca Trandafirescu\, Going Rogue South Side C: Cathyln Newell\, Overconstruciton South Side M: Thomas Moran\, \"_____\" Visitor's Center South Side Y: Vivian Lee\, Fathom Gotham South Side K: Ellie Abrons\, Mother Ditch: Architectural Intervention and the LA River\n\nFriday\, April 23: 10AM – 1PM and 2PM – 6PM East Review: Steven Christensen\, Borderline Personality South Side C: Meredith Miller\, Second Natures South Side M: Rosalyne Shieh\, Field Station Zero West Review: Jennifer Maigret\, Phase Change \n\nSymposium & Award Ceremony\, April 30\n\nSymposium and Award Ceremony: April 20\, 2010\, A+A Auditorium Room 2104 Public presentation of awards will be held in lecture hall from 5-6pm followed by  time to visit exhibit work and social from 6-7pm in studio space located at CMYK.\n\nJurors: Roger Sherman: University of California\, Los Angeles\, School of the Arts and  Architecture Laura MIller: University of Toronto\, John H. Daniels Faculty of Architecture\,  Landscape\, and Design\n\nCritics: Clare Lyster: CLUAA\, University of Illinois\, Chicago\, School of Architecture Derek Hoeferlin: Washington Univeristy\, Saint Louis\, Sam Fox School of Design &  Vsual Arts Jason Long: OMA New York Marc Kushner: HWKN Architects Paul Coughlin: Resolution: 4 Architecture\n\nAbout the Wallenberg Studios\n\nInspired by the heroic acts of Raoul Wallenberg and with a desire to carefully consider the  interrelated nature of the constructed environment and social\, cultural\, economic and  environmental issues\, the nine 2010 Wallenberg studios will explore the theme of “Architecture  as Infrastructure.” While responses will vary from one studio to the next\, the aim is to create a  framework for lively debate and exchange that will serve as a basis from which everyone will  participate in and benefit from an expanded view of the world. Towards this end\, the semester  will be structured around several events when all of the studios will come together to share work  and discuss ideas. Three guest speakers will give lectures addressing how their own work  interconnects with our shared theme. The mid and final reviews will be conducted in unison as  the final exhibit to be presented at the end for the judging and awarding of the Wallenberg prizes  and as a means for presenting the studio work to the entire college community\, jurors and  visitors. \n\nThe Raoul Wallenberg Scholarship Endowment was established with a generous gift from the  Benard L. Maas Foundation in 1986. During the last semester of the undergraduate sequence\, all  seniors at Taubman College participate in the Wallenberg Studio. Throughout this semester-long  competition\, the students are challenged to develop proposals that define architecture as a  humane and social art and translate their ideas into a physical project. The studio culminates in a  review by outside critics who award scholarships for the best conceived and executed efforts.
UID:2194-917445@events.umich.edu
URL:https://events.umich.edu/event/2194
CLASS:PUBLIC
STATUS:CONFIRMED
CATEGORIES:architecture,social justice
LOCATION:Art and Architecture Building - A+A Auditorium, Rm 2104 and CMYK Gallery
CONTACT:
END:VEVENT
BEGIN:VEVENT
DTSTAMP:20100430T030002
DTSTART;TZID=America/Detroit:20100430T200000
SUMMARY:Other:Student Recital:  The Akropolis Reed Quintet
DESCRIPTION:Timothy Gocklin\, oboe\; Kari Dion\, clarinet\; Matthew Landry\, saxophone\; Andrew Koeppe\, bass clarinet\; Ryan Reynolds\, Bassoon  PROGRAM:  Doest - Circusmuziek\; Debussy - Children's Corner\; Ligeti - Sechs Bagatellen\; Meijering - De vrouw die eieren uitbroedt (The woman that breeds eggs)\; Ravel - Le tombeau de Couperin
UID:1107-913060@events.umich.edu
URL:https://events.umich.edu/event/1107
CLASS:PUBLIC
STATUS:CONFIRMED
CATEGORIES:music
LOCATION:Earl V. Moore Building - McIntosh Theatre
CONTACT:
END:VEVENT
BEGIN:VEVENT
DTSTAMP:20100301T134658
DTSTART;TZID=America/Detroit:20100430T213000
SUMMARY:Film Screening:Film: Herb and Dorothy
DESCRIPTION:Herb and Dorothy tells the extraordinary story of Herbert Vogel\, a postal clerk\, and Dorothy Vogel\, a librarian\, who managed to build one of the most important contemporary art collections in history with very modest means. They collected artworks guided by two rules: the piece had to be affordable\, and it had to be small enough to fit in their one-bedroom Manhattan apartment. Most of those they supported and befriended in this process went on to become world-renowned artists\, including Sol LeWitt\, Christo and Jeanne-Claude\, Richard Tuttle\, and Chuck Close. Directed by Megumi Sasaki.
UID:2716-921061@events.umich.edu
URL:https://events.umich.edu/event/2716
CLASS:PUBLIC
STATUS:CONFIRMED
CATEGORIES:
LOCATION:Museum of Art - Helmut Stern Auditorium
CONTACT:
END:VEVENT
END:VCALENDAR