BEGIN:VCALENDAR
VERSION:2.0
PRODID:-//UM//UM*Events//EN
CALSCALE:GREGORIAN
BEGIN:VTIMEZONE
TZID:America/Detroit
TZURL:http://tzurl.org/zoneinfo/America/Detroit
X-LIC-LOCATION:America/Detroit
BEGIN:DAYLIGHT
TZOFFSETFROM:-0500
TZOFFSETTO:-0400
TZNAME:EDT
DTSTART:20070311T020000
RRULE:FREQ=YEARLY;BYMONTH=3;BYDAY=2SU
END:DAYLIGHT
BEGIN:STANDARD
TZOFFSETFROM:-0400
TZOFFSETTO:-0500
TZNAME:EST
DTSTART:20071104T020000
RRULE:FREQ=YEARLY;BYMONTH=11;BYDAY=1SU
END:STANDARD
END:VTIMEZONE
BEGIN:VEVENT
DTSTAMP:20101111T175620
DTSTART;TZID=America/Detroit:20100507T000000
SUMMARY:Exhibition:Permanent Exhibits at the Exhibit Museum of Natural History
DESCRIPTION:The Hall of Evolution houses Michigan's largest display of prehistoric life. More than 600 million years of life on Earth are traced through fossils\, models and dioramas. The Michigan Wildlife Gallery has a large collection of native Great Lakes birds\, mammals\, reptiles\, and amphibians\, with taxidermy mounts\, habitat scenes\, and the largest mastodon trackway on display in the world. There are also displays about some of the environmental problems faced in this region today. The Anthropology Displays feature artifacts from human cultures around the world. The Geology Displays on the fourth floor offer a large selection of rocks\, minerals and gems. These displays are updated periodically. For more information go to www.lsa.umich.edu/exhibitmuseum/exhibits/permexhibits or call 734-764-0480.
UID:452-910673@events.umich.edu
URL:https://events.umich.edu/event/452
CLASS:PUBLIC
STATUS:CONFIRMED
CATEGORIES:
LOCATION:Ruthven Museums Building
CONTACT:
END:VEVENT
BEGIN:VEVENT
DTSTAMP:20101111T175816
DTSTART;TZID=America/Detroit:20100507T000000
SUMMARY:Other:Wilderness First Responder course
DESCRIPTION:The Wilderness First Responder curriculum uses the principles of long-term care\, improvised resources\, and varying  environmental conditions as the framework for learning. Created to provide outdoor leaders\, guides\, and rangers  with the knowledge necessary to deal with crises in remote settings\, this 80 hour certification course meets  Department of Transportation National Standards for First Responder with additional protocols for extended-care  situations. The intensive 80 hour curriculum takes place over nine days. To optimize learning potential class  sessions are complimented with a variety of mock scenarios and simulations. The program is fast-paced and both  intellectually and physically demanding.\n\nTo register call 734-764-3967 today!
UID:2395-919014@events.umich.edu
URL:https://events.umich.edu/event/2395
CLASS:PUBLIC
STATUS:CONFIRMED
CATEGORIES:
LOCATION:
CONTACT:
END:VEVENT
BEGIN:VEVENT
DTSTAMP:20101111T175759
DTSTART;TZID=America/Detroit:20100507T080000
DTEND;TZID=America/Detroit:20100507T170000
SUMMARY:Exhibition:History of Dentistry exhibits at the Sindecuse Museum of Dentistry
DESCRIPTION:Exhibits at the Sindecuse Museum of Dentistry include Dental Operatories of the 1860s to 1930s\, St. Apollonia-Patron Saint of Dentistry and more. Call 763-0767 or go to www.dent.umich.edu/museum for more information.
UID:3856-917544@events.umich.edu
URL:https://events.umich.edu/event/3856
CLASS:PUBLIC
STATUS:CONFIRMED
CATEGORIES:
LOCATION:Dental & W.K. Kellogg Institute
CONTACT:
END:VEVENT
BEGIN:VEVENT
DTSTAMP:20100402T125621
DTSTART;TZID=America/Detroit:20100507T081500
DTEND;TZID=America/Detroit:20100507T163000
SUMMARY:Conference / Symposium:Living & Housing EXPO
DESCRIPTION:Visit the Living & Housing EXPO\, Friday\, May 7\, 2010\, organized by the Housing Bureau for  Seniors of the University of Michigan Health System\, for older adults\, their family members\, baby  boomers and recent retirees. It's an opportunity to gather information needed to make informed  decisions about housing\, care and quality of life.   The Expo\, Friday\, May 7 at Morris Lawrence Building\, Washtenaw Community  College offers workshops and over 65 exhibits by providers of senior housing and  care\, senior services\, products and resources. The Expo kicks off a nine day event\, the 12th  annual Senior Living & Housing Awareness Week\, May 7-16 with open houses at senior  communities throughout Washtenaw County and workshops in Ann Arbor\, Chelsea\, Saline and  Ypsilanti.   Program details: www.med.umich.edu/seniors/events/shaw/htm.  Deadline to register for workshops is Friday\, April 23.   No registration is required for Expo exhibits. Thanks to the generous support of sponsors and supporters all event activities are  offered at no cost to the public.
UID:1553-915346@events.umich.edu
URL:https://events.umich.edu/event/1553
CLASS:PUBLIC
STATUS:CONFIRMED
CATEGORIES:
LOCATION:
CONTACT:
END:VEVENT
BEGIN:VEVENT
DTSTAMP:20100407T151643
DTSTART;TZID=America/Detroit:20100507T083000
DTEND;TZID=America/Detroit:20100507T190000
SUMMARY:Exhibition:Exhibit: Treasures of the Library
DESCRIPTION:Step into the Audubon Room in the University of Michigan's Hatcher Graduate  Library to view a collection of library treasures.  The collection includes:  a 2250- year-old papyrus document from ancient Philadelphia\, reporting the loss of a  donkey\; a 400-year-old manuscript by Galileo\, in which he explains the usefulness  of the telescope\; and the first book purchased by the Board of Regents\, \"The Birds of  America\,\" published in 1838\, with original drawings by John James Audubon. \n\nHours: Mon-Fri 8:30am-7pm\, Sat 10am-6pm\,  Sun 1-7pm.
UID:2332-918921@events.umich.edu
URL:https://events.umich.edu/event/2332
CLASS:PUBLIC
STATUS:CONFIRMED
CATEGORIES:literary arts,visual arts
LOCATION:Hatcher Graduate Library - Audubon Room
CONTACT:
END:VEVENT
BEGIN:VEVENT
DTSTAMP:20090722T143534
DTSTART;TZID=America/Detroit:20100507T090000
DTEND;TZID=America/Detroit:20100507T170000
SUMMARY:Exhibition:Ida: Darwinius masillae
DESCRIPTION:\"Ida\,\" a new exhibit in the Exhibit Museum's Rotunda\, displays a high-resolution cast of an extremely rare  fossil discovered in 1983 near Messel\, Germany\, but only recently made available for study. The fossil has  proven to be a “link” between the prosimian and simian (\"anthropoid\") primate lineages. It has \"advanced\"  front teeth (incisors and canines) and second toes like those of monkeys\, and is broadly representative of what  human primate ancestors may have looked like during the Eocene epoch 47 million years ago.     Ida (prounded \"eeda\") is named after after the daughter of Dr JÃ¸rn Hurum\, the Norwegian vertebrate  paleontologist who secured one section of the fossil from an anonymous owner\, and led the research. Ida was  about eight months old\, or the equivalent of a six-year-old human.     Publication of a paper on the discovery was accompanied by a book\, The Link: Uncovering Our Earliest  Ancestors by Colin Tudge\, and a documentary shown on the History Channel (US)\, BBC One (UK)\,and various  stations in Germany and Norway.     U-M paleontologist Philip Gingerich and U-M anthropologist B. Holly Smith were two members of the \"dream  team\" invited to study Ida. The exhibit will be on display through May 2010.
UID:2124-918308@events.umich.edu
URL:https://events.umich.edu/event/2124
CLASS:PUBLIC
STATUS:CONFIRMED
CATEGORIES:multicultural,visual arts,welcome week
LOCATION:
CONTACT:
END:VEVENT
BEGIN:VEVENT
DTSTAMP:20101111T175734
DTSTART;TZID=America/Detroit:20100507T090000
DTEND;TZID=America/Detroit:20100507T170000
SUMMARY:Exhibition:Scott Hocking Installation
DESCRIPTION:Scott Hocking explores the abandoned buildings and sites of Detroit like a  newfangled scientist. He gathers raw data in his excavations\, and records his  findings using a wholly unique and modern process and method that he intuitively  formulates as he goes along. In his ongoing study of a city so rooted in a dense  past\, and the emotional attachments that accompany it\, Hocking is  uncompromising and unflinching\, and refuses to buy into the hype. His visual  essays chronicling urban markings of modern day ruin are not the stuff of tragedy  or fodder for magazine centerfolds\, but proof of a renaissance in real time.  Hocking's work is fully alive\, and honors the world going past and us moving forward  along with it\, exhilarated by industrial parks returning to fallow land\, and strawberry  bushes growing in the cracked concrete.
UID:1793-915947@events.umich.edu
URL:https://events.umich.edu/event/1793
CLASS:PUBLIC
STATUS:CONFIRMED
CATEGORIES:visual arts
LOCATION:202 S. Thayer - 1010
CONTACT:
END:VEVENT
BEGIN:VEVENT
DTSTAMP:20101111T175600
DTSTART;TZID=America/Detroit:20100507T100000
DTEND;TZID=America/Detroit:20100507T170000
SUMMARY:Exhibition:Stearns Collection of Music
DESCRIPTION:The Stearns Collection at the School of Music\, Theatre & Dance is one of six major collections of musical instruments in North America. The 2\,500-piece collection is internationally known and is a resource for musical and cultural education.
UID:3790-909276@events.umich.edu
URL:https://events.umich.edu/event/3790
CLASS:PUBLIC
STATUS:CONFIRMED
CATEGORIES:
LOCATION:Earl V. Moore Building
CONTACT:
END:VEVENT
BEGIN:VEVENT
DTSTAMP:20100505T135126
DTSTART;TZID=America/Detroit:20100507T103000
DTEND;TZID=America/Detroit:20100507T190000
SUMMARY:Conference / Symposium:Science Environments in Africa
DESCRIPTION:Please join us!   The African Studies Center would like to invite you to the upcoming conference SCIENCE ENVIRONMENTS IN AFRICA scheduled from May 6-8\, 2010. The conference brings together participants from a wide array of Science\, Technology\, Engineering and Math disciplines to share ideas and map out possible strategies for topics including engineering\, natural resource management\, climate change\, environmental justice\, research on chronic disease\, information technology\, mathematical sciences\, and funding environments for scientific research in Africa.   We recognize that there is much more activity at University of Michigan on science related topics in Africa then could be captured in one conference and we hope this gathering will serve as a starting point for future collaboration and discussion.   Below are details on the two key note speakers for the conference. The complete program can found on the African Studies Center website under the event listing http://www.lsa.umich.edu/asc
UID:430-911589@events.umich.edu
URL:https://events.umich.edu/event/430
CLASS:PUBLIC
STATUS:CONFIRMED
CATEGORIES:multicultural
LOCATION:Dana Natural Resources  Building - Rooms 1040 and 2024
CONTACT:
END:VEVENT
BEGIN:VEVENT
DTSTAMP:20101111T175851
DTSTART;TZID=America/Detroit:20100507T200000
SUMMARY:Performance:Crooked Still
DESCRIPTION:
UID:3006-920913@events.umich.edu
URL:https://events.umich.edu/event/3006
CLASS:PUBLIC
STATUS:CONFIRMED
CATEGORIES:music
LOCATION:
CONTACT:
END:VEVENT
BEGIN:VEVENT
DTSTAMP:20100507T030001
DTSTART;TZID=America/Detroit:20100507T200000
SUMMARY:Other:Third Dissertation Recital:  Justin Benavidez\, tuba
DESCRIPTION:PROGRAM:  Stockhausen - In Freundschaft fur Tuba\; Eerola - Amorous Play for Tuba and Piano\; Kraft - Encounters II\; Gillingham - Diversive Elements
UID:1400-915064@events.umich.edu
URL:https://events.umich.edu/event/1400
CLASS:PUBLIC
STATUS:CONFIRMED
CATEGORIES:music
LOCATION:Walgreen Drama Center - Stamps Auditorium
CONTACT:
END:VEVENT
END:VCALENDAR