BEGIN:VCALENDAR
VERSION:2.0
PRODID:-//UM//UM*Events//EN
CALSCALE:GREGORIAN
BEGIN:VTIMEZONE
TZID:America/Detroit
TZURL:http://tzurl.org/zoneinfo/America/Detroit
X-LIC-LOCATION:America/Detroit
BEGIN:DAYLIGHT
TZOFFSETFROM:-0500
TZOFFSETTO:-0400
TZNAME:EDT
DTSTART:20070311T020000
RRULE:FREQ=YEARLY;BYMONTH=3;BYDAY=2SU
END:DAYLIGHT
BEGIN:STANDARD
TZOFFSETFROM:-0400
TZOFFSETTO:-0500
TZNAME:EST
DTSTART:20071104T020000
RRULE:FREQ=YEARLY;BYMONTH=11;BYDAY=1SU
END:STANDARD
END:VTIMEZONE
BEGIN:VEVENT
DTSTAMP:20101111T175620
DTSTART;TZID=America/Detroit:20100508T000000
SUMMARY:Exhibition:Permanent Exhibits at the Exhibit Museum of Natural History
DESCRIPTION:The Hall of Evolution houses Michigan's largest display of prehistoric life. More than 600 million years of life on Earth are traced through fossils\, models and dioramas. The Michigan Wildlife Gallery has a large collection of native Great Lakes birds\, mammals\, reptiles\, and amphibians\, with taxidermy mounts\, habitat scenes\, and the largest mastodon trackway on display in the world. There are also displays about some of the environmental problems faced in this region today. The Anthropology Displays feature artifacts from human cultures around the world. The Geology Displays on the fourth floor offer a large selection of rocks\, minerals and gems. These displays are updated periodically. For more information go to www.lsa.umich.edu/exhibitmuseum/exhibits/permexhibits or call 734-764-0480.
UID:452-910674@events.umich.edu
URL:https://events.umich.edu/event/452
CLASS:PUBLIC
STATUS:CONFIRMED
CATEGORIES:
LOCATION:Ruthven Museums Building
CONTACT:
END:VEVENT
BEGIN:VEVENT
DTSTAMP:20101111T175816
DTSTART;TZID=America/Detroit:20100508T000000
SUMMARY:Other:Wilderness First Responder course
DESCRIPTION:The Wilderness First Responder curriculum uses the principles of long-term care\, improvised resources\, and varying  environmental conditions as the framework for learning. Created to provide outdoor leaders\, guides\, and rangers  with the knowledge necessary to deal with crises in remote settings\, this 80 hour certification course meets  Department of Transportation National Standards for First Responder with additional protocols for extended-care  situations. The intensive 80 hour curriculum takes place over nine days. To optimize learning potential class  sessions are complimented with a variety of mock scenarios and simulations. The program is fast-paced and both  intellectually and physically demanding.\n\nTo register call 734-764-3967 today!
UID:2395-919015@events.umich.edu
URL:https://events.umich.edu/event/2395
CLASS:PUBLIC
STATUS:CONFIRMED
CATEGORIES:
LOCATION:
CONTACT:
END:VEVENT
BEGIN:VEVENT
DTSTAMP:20100407T151643
DTSTART;TZID=America/Detroit:20100508T083000
DTEND;TZID=America/Detroit:20100508T190000
SUMMARY:Exhibition:Exhibit: Treasures of the Library
DESCRIPTION:Step into the Audubon Room in the University of Michigan's Hatcher Graduate  Library to view a collection of library treasures.  The collection includes:  a 2250- year-old papyrus document from ancient Philadelphia\, reporting the loss of a  donkey\; a 400-year-old manuscript by Galileo\, in which he explains the usefulness  of the telescope\; and the first book purchased by the Board of Regents\, \"The Birds of  America\,\" published in 1838\, with original drawings by John James Audubon. \n\nHours: Mon-Fri 8:30am-7pm\, Sat 10am-6pm\,  Sun 1-7pm.
UID:2332-918922@events.umich.edu
URL:https://events.umich.edu/event/2332
CLASS:PUBLIC
STATUS:CONFIRMED
CATEGORIES:literary arts,visual arts
LOCATION:Hatcher Graduate Library - Audubon Room
CONTACT:
END:VEVENT
BEGIN:VEVENT
DTSTAMP:20090722T143534
DTSTART;TZID=America/Detroit:20100508T090000
DTEND;TZID=America/Detroit:20100508T170000
SUMMARY:Exhibition:Ida: Darwinius masillae
DESCRIPTION:\"Ida\,\" a new exhibit in the Exhibit Museum's Rotunda\, displays a high-resolution cast of an extremely rare  fossil discovered in 1983 near Messel\, Germany\, but only recently made available for study. The fossil has  proven to be a “link” between the prosimian and simian (\"anthropoid\") primate lineages. It has \"advanced\"  front teeth (incisors and canines) and second toes like those of monkeys\, and is broadly representative of what  human primate ancestors may have looked like during the Eocene epoch 47 million years ago.     Ida (prounded \"eeda\") is named after after the daughter of Dr JÃ¸rn Hurum\, the Norwegian vertebrate  paleontologist who secured one section of the fossil from an anonymous owner\, and led the research. Ida was  about eight months old\, or the equivalent of a six-year-old human.     Publication of a paper on the discovery was accompanied by a book\, The Link: Uncovering Our Earliest  Ancestors by Colin Tudge\, and a documentary shown on the History Channel (US)\, BBC One (UK)\,and various  stations in Germany and Norway.     U-M paleontologist Philip Gingerich and U-M anthropologist B. Holly Smith were two members of the \"dream  team\" invited to study Ida. The exhibit will be on display through May 2010.
UID:2124-918309@events.umich.edu
URL:https://events.umich.edu/event/2124
CLASS:PUBLIC
STATUS:CONFIRMED
CATEGORIES:multicultural,visual arts,welcome week
LOCATION:
CONTACT:
END:VEVENT
BEGIN:VEVENT
DTSTAMP:20100505T135126
DTSTART;TZID=America/Detroit:20100508T103000
DTEND;TZID=America/Detroit:20100508T190000
SUMMARY:Conference / Symposium:Science Environments in Africa
DESCRIPTION:Please join us!   The African Studies Center would like to invite you to the upcoming conference SCIENCE ENVIRONMENTS IN AFRICA scheduled from May 6-8\, 2010. The conference brings together participants from a wide array of Science\, Technology\, Engineering and Math disciplines to share ideas and map out possible strategies for topics including engineering\, natural resource management\, climate change\, environmental justice\, research on chronic disease\, information technology\, mathematical sciences\, and funding environments for scientific research in Africa.   We recognize that there is much more activity at University of Michigan on science related topics in Africa then could be captured in one conference and we hope this gathering will serve as a starting point for future collaboration and discussion.   Below are details on the two key note speakers for the conference. The complete program can found on the African Studies Center website under the event listing http://www.lsa.umich.edu/asc
UID:430-911590@events.umich.edu
URL:https://events.umich.edu/event/430
CLASS:PUBLIC
STATUS:CONFIRMED
CATEGORIES:multicultural
LOCATION:Dana Natural Resources  Building - Rooms 1040 and 2024
CONTACT:
END:VEVENT
BEGIN:VEVENT
DTSTAMP:20101111T175634
DTSTART;TZID=America/Detroit:20100508T120000
DTEND;TZID=America/Detroit:20100508T160000
SUMMARY:Workshop / Seminar:Preservation Clinic
DESCRIPTION:The public is invited to this walk-in Preservation Clinic for one-on-one consultations  with University of Michigan Library experts about preserving books\, papers\,  photographs\, sound recordings\, and digital photos and files\, as well as scanning for  preservation. \n\nBring your questions and/or a few of your personal treasures to discuss and get  information about care\, storage\, copying\, display\, and repair. Bring a friend\, too!\n\nSponsored by the University of Michigan Library.
UID:515-911728@events.umich.edu
URL:https://events.umich.edu/event/515
CLASS:PUBLIC
STATUS:CONFIRMED
CATEGORIES:visual arts
LOCATION:Hatcher Graduate Library - Gallery/Room 100
CONTACT:
END:VEVENT
BEGIN:VEVENT
DTSTAMP:20101111T175648
DTSTART;TZID=America/Detroit:20100508T200000
SUMMARY:Performance:John McCutcheon
DESCRIPTION:
UID:985-912792@events.umich.edu
URL:https://events.umich.edu/event/985
CLASS:PUBLIC
STATUS:CONFIRMED
CATEGORIES:music
LOCATION:
CONTACT:
END:VEVENT
END:VCALENDAR