BEGIN:VCALENDAR
VERSION:2.0
PRODID:-//UM//UM*Events//EN
CALSCALE:GREGORIAN
BEGIN:VTIMEZONE
TZID:America/Detroit
TZURL:http://tzurl.org/zoneinfo/America/Detroit
X-LIC-LOCATION:America/Detroit
BEGIN:DAYLIGHT
TZOFFSETFROM:-0500
TZOFFSETTO:-0400
TZNAME:EDT
DTSTART:20070311T020000
RRULE:FREQ=YEARLY;BYMONTH=3;BYDAY=2SU
END:DAYLIGHT
BEGIN:STANDARD
TZOFFSETFROM:-0400
TZOFFSETTO:-0500
TZNAME:EST
DTSTART:20071104T020000
RRULE:FREQ=YEARLY;BYMONTH=11;BYDAY=1SU
END:STANDARD
END:VTIMEZONE
BEGIN:VEVENT
DTSTAMP:20101111T175620
DTSTART;TZID=America/Detroit:20100515T000000
SUMMARY:Exhibition:Permanent Exhibits at the Exhibit Museum of Natural History
DESCRIPTION:The Hall of Evolution houses Michigan's largest display of prehistoric life. More than 600 million years of life on Earth are traced through fossils\, models and dioramas. The Michigan Wildlife Gallery has a large collection of native Great Lakes birds\, mammals\, reptiles\, and amphibians\, with taxidermy mounts\, habitat scenes\, and the largest mastodon trackway on display in the world. There are also displays about some of the environmental problems faced in this region today. The Anthropology Displays feature artifacts from human cultures around the world. The Geology Displays on the fourth floor offer a large selection of rocks\, minerals and gems. These displays are updated periodically. For more information go to www.lsa.umich.edu/exhibitmuseum/exhibits/permexhibits or call 734-764-0480.
UID:452-910681@events.umich.edu
URL:https://events.umich.edu/event/452
CLASS:PUBLIC
STATUS:CONFIRMED
CATEGORIES:
LOCATION:Ruthven Museums Building
CONTACT:
END:VEVENT
BEGIN:VEVENT
DTSTAMP:20100407T151643
DTSTART;TZID=America/Detroit:20100515T083000
DTEND;TZID=America/Detroit:20100515T190000
SUMMARY:Exhibition:Exhibit: Treasures of the Library
DESCRIPTION:Step into the Audubon Room in the University of Michigan's Hatcher Graduate  Library to view a collection of library treasures.  The collection includes:  a 2250- year-old papyrus document from ancient Philadelphia\, reporting the loss of a  donkey\; a 400-year-old manuscript by Galileo\, in which he explains the usefulness  of the telescope\; and the first book purchased by the Board of Regents\, \"The Birds of  America\,\" published in 1838\, with original drawings by John James Audubon. \n\nHours: Mon-Fri 8:30am-7pm\, Sat 10am-6pm\,  Sun 1-7pm.
UID:2332-918929@events.umich.edu
URL:https://events.umich.edu/event/2332
CLASS:PUBLIC
STATUS:CONFIRMED
CATEGORIES:literary arts,visual arts
LOCATION:Hatcher Graduate Library - Audubon Room
CONTACT:
END:VEVENT
BEGIN:VEVENT
DTSTAMP:20090722T143534
DTSTART;TZID=America/Detroit:20100515T090000
DTEND;TZID=America/Detroit:20100515T170000
SUMMARY:Exhibition:Ida: Darwinius masillae
DESCRIPTION:\"Ida\,\" a new exhibit in the Exhibit Museum's Rotunda\, displays a high-resolution cast of an extremely rare  fossil discovered in 1983 near Messel\, Germany\, but only recently made available for study. The fossil has  proven to be a “link” between the prosimian and simian (\"anthropoid\") primate lineages. It has \"advanced\"  front teeth (incisors and canines) and second toes like those of monkeys\, and is broadly representative of what  human primate ancestors may have looked like during the Eocene epoch 47 million years ago.     Ida (prounded \"eeda\") is named after after the daughter of Dr JÃ¸rn Hurum\, the Norwegian vertebrate  paleontologist who secured one section of the fossil from an anonymous owner\, and led the research. Ida was  about eight months old\, or the equivalent of a six-year-old human.     Publication of a paper on the discovery was accompanied by a book\, The Link: Uncovering Our Earliest  Ancestors by Colin Tudge\, and a documentary shown on the History Channel (US)\, BBC One (UK)\,and various  stations in Germany and Norway.     U-M paleontologist Philip Gingerich and U-M anthropologist B. Holly Smith were two members of the \"dream  team\" invited to study Ida. The exhibit will be on display through May 2010.
UID:2124-918316@events.umich.edu
URL:https://events.umich.edu/event/2124
CLASS:PUBLIC
STATUS:CONFIRMED
CATEGORIES:multicultural,visual arts,welcome week
LOCATION:
CONTACT:
END:VEVENT
BEGIN:VEVENT
DTSTAMP:20100330T101126
DTSTART;TZID=America/Detroit:20100515T091500
SUMMARY:Community Service:American Heart Association Heart Walk and Run
DESCRIPTION:Help fight heart disease and stroke. New this year is a 5K run\, as well as 1.5 and 3 mile walks. Runners start at 9:15 a.m. Walkers start at 10:15 a.m. For more information or to sign up go to www.miheartwalk.org.
UID:3861-918581@events.umich.edu
URL:https://events.umich.edu/event/3861
CLASS:PUBLIC
STATUS:CONFIRMED
CATEGORIES:
LOCATION:
CONTACT:
END:VEVENT
BEGIN:VEVENT
DTSTAMP:20101111T175837
DTSTART;TZID=America/Detroit:20100515T100000
DTEND;TZID=America/Detroit:20100515T150000
SUMMARY:Fair / Festival:U-M Consumption Fair
DESCRIPTION:We encourage academics and families alike to join us for this exciting opportunity  to learn about practical solutions to problems of consumption.  Events include  activity stations presented by University of Michigan student and campus groups  with interactive displays to educate people of all ages.
UID:2558-920186@events.umich.edu
URL:https://events.umich.edu/event/2558
CLASS:PUBLIC
STATUS:CONFIRMED
CATEGORIES:
LOCATION:Rackham Graduate School (Horace H.) - 4th Floor
CONTACT:
END:VEVENT
BEGIN:VEVENT
DTSTAMP:20101111T175706
DTSTART;TZID=America/Detroit:20100515T110000
DTEND;TZID=America/Detroit:20100515T130000
SUMMARY:Lecture / Discussion:Choices beyond energy technologies
DESCRIPTION:Between the forecasted doubling of demand for energy by 2030 and stark  constraints of technology to push alternative energy sources to the forefront by then  is a gap. A big one.\n\nThree University of Michigan experts in social sciences will explore the role of social  innovations in filling that gap between energy technologies and the demand for  clean energy.  \n\n”¢	Irv Salmeen\, Center for the Study of Complex Systems\, explores the  struggle between physical laws which tell us how much work we can do with a pile of  coal\, and human choices which dictate how fast to burn it.\n\n”¢	Stephanie Preston\, Psychology\, focuses on how the evolution and  structure of the brain limit our ability to be green and how interventions can work  with (rather than against) these pre-exisitng biases.\n\n”¢	Ryan Kellogg\, Economics\, discusses individual economic choices as  cheap fossil fuels face off against clean energy innovations.\n\nDavid Featherman (CARSS–Center for Advancing Research and Solutions for  Society) will moderate. Discussion will follow.
UID:1253-914120@events.umich.edu
URL:https://events.umich.edu/event/1253
CLASS:PUBLIC
STATUS:CONFIRMED
CATEGORIES:
LOCATION:Rackham Graduate School (Horace H.) - Amphitheatre - 4th floor
CONTACT:
END:VEVENT
BEGIN:VEVENT
DTSTAMP:20101111T175722
DTSTART;TZID=America/Detroit:20100515T110000
SUMMARY:Lecture / Discussion:Choices beyond energy technologies
DESCRIPTION:Between the forecasted doubling of demand for energy by 2030 and stark  constraints of technology to push alternative energy sources to the forefront by then  is a gap. A big one.\n\nThree University of Michigan experts in social sciences will explore the role of social  innovations in filling that gap between energy technologies and the demand for  clean energy.  \n\n”¢	Irv Salmeen\, Center for the Study of Complex Systems\, explores the  struggle between physical laws which tell us how much work we can do with a pile of  coal\, and human choices which dictate how fast to burn it.\n\n”¢	Stephanie Preston\, Psychology\, focuses on how the evolution and  structure of the brain limit our ability to be green and how interventions can work  with (rather than against) these pre-existing biases.\n\n”¢	Ryan Kellogg\, Economics\, discusses individual economic choices as  cheap fossil fuels face off against clean energy innovations.\n\nDavid Featherman (CARSS–Center for Advancing Research and Solutions for  Society) will moderate. Discussion will follow.
UID:1410-915070@events.umich.edu
URL:https://events.umich.edu/event/1410
CLASS:PUBLIC
STATUS:CONFIRMED
CATEGORIES:
LOCATION:Rackham Graduate School (Horace H.) - 4th Fl Amphitheatre
CONTACT:
END:VEVENT
BEGIN:VEVENT
DTSTAMP:20100505T192725
DTSTART;TZID=America/Detroit:20100515T120000
DTEND;TZID=America/Detroit:20100515T160000
SUMMARY:Class / Instruction:MTango Beginner's Bootcamp - Hurricane Weekend
DESCRIPTION:MTango Beginner's Bootcamp - Hurricane Weekend Learn Argentine tango in an intensive 8-hour  series in one weekend\, designed to prepare you for the social dance  floor.  Two 4-hour sessions\, one Saturday\, one Sunday\, followed by  practica 4-5p.  No partner or dance experience necessary.  Space is  limited\, so register now!  Registration and further details on the  website.  Anderson Room\, Michigan  Union. $25.  mtango.news@gmail.com    www.umich.edu/~mtango
UID:1701-916510@events.umich.edu
URL:https://events.umich.edu/event/1701
CLASS:PUBLIC
STATUS:CONFIRMED
CATEGORIES:
LOCATION:Michigan Union - Anderson
CONTACT:
END:VEVENT
BEGIN:VEVENT
DTSTAMP:20101111T175756
DTSTART;TZID=America/Detroit:20100515T200000
SUMMARY:Performance:Josh White Jr.
DESCRIPTION:
UID:2168-917387@events.umich.edu
URL:https://events.umich.edu/event/2168
CLASS:PUBLIC
STATUS:CONFIRMED
CATEGORIES:music
LOCATION:
CONTACT:
END:VEVENT
END:VCALENDAR