BEGIN:VCALENDAR
VERSION:2.0
PRODID:-//UM//UM*Events//EN
CALSCALE:GREGORIAN
BEGIN:VTIMEZONE
TZID:America/Detroit
TZURL:http://tzurl.org/zoneinfo/America/Detroit
X-LIC-LOCATION:America/Detroit
BEGIN:DAYLIGHT
TZOFFSETFROM:-0500
TZOFFSETTO:-0400
TZNAME:EDT
DTSTART:20070311T020000
RRULE:FREQ=YEARLY;BYMONTH=3;BYDAY=2SU
END:DAYLIGHT
BEGIN:STANDARD
TZOFFSETFROM:-0400
TZOFFSETTO:-0500
TZNAME:EST
DTSTART:20071104T020000
RRULE:FREQ=YEARLY;BYMONTH=11;BYDAY=1SU
END:STANDARD
END:VTIMEZONE
BEGIN:VEVENT
DTSTAMP:20101111T175620
DTSTART;TZID=America/Detroit:20100516T000000
SUMMARY:Exhibition:Permanent Exhibits at the Exhibit Museum of Natural History
DESCRIPTION:The Hall of Evolution houses Michigan's largest display of prehistoric life. More than 600 million years of life on Earth are traced through fossils\, models and dioramas. The Michigan Wildlife Gallery has a large collection of native Great Lakes birds\, mammals\, reptiles\, and amphibians\, with taxidermy mounts\, habitat scenes\, and the largest mastodon trackway on display in the world. There are also displays about some of the environmental problems faced in this region today. The Anthropology Displays feature artifacts from human cultures around the world. The Geology Displays on the fourth floor offer a large selection of rocks\, minerals and gems. These displays are updated periodically. For more information go to www.lsa.umich.edu/exhibitmuseum/exhibits/permexhibits or call 734-764-0480.
UID:452-910682@events.umich.edu
URL:https://events.umich.edu/event/452
CLASS:PUBLIC
STATUS:CONFIRMED
CATEGORIES:
LOCATION:Ruthven Museums Building
CONTACT:
END:VEVENT
BEGIN:VEVENT
DTSTAMP:20100407T151643
DTSTART;TZID=America/Detroit:20100516T083000
DTEND;TZID=America/Detroit:20100516T190000
SUMMARY:Exhibition:Exhibit: Treasures of the Library
DESCRIPTION:Step into the Audubon Room in the University of Michigan's Hatcher Graduate  Library to view a collection of library treasures.  The collection includes:  a 2250- year-old papyrus document from ancient Philadelphia\, reporting the loss of a  donkey\; a 400-year-old manuscript by Galileo\, in which he explains the usefulness  of the telescope\; and the first book purchased by the Board of Regents\, \"The Birds of  America\,\" published in 1838\, with original drawings by John James Audubon. \n\nHours: Mon-Fri 8:30am-7pm\, Sat 10am-6pm\,  Sun 1-7pm.
UID:2332-918930@events.umich.edu
URL:https://events.umich.edu/event/2332
CLASS:PUBLIC
STATUS:CONFIRMED
CATEGORIES:literary arts,visual arts
LOCATION:Hatcher Graduate Library - Audubon Room
CONTACT:
END:VEVENT
BEGIN:VEVENT
DTSTAMP:20090722T143534
DTSTART;TZID=America/Detroit:20100516T090000
DTEND;TZID=America/Detroit:20100516T170000
SUMMARY:Exhibition:Ida: Darwinius masillae
DESCRIPTION:\"Ida\,\" a new exhibit in the Exhibit Museum's Rotunda\, displays a high-resolution cast of an extremely rare  fossil discovered in 1983 near Messel\, Germany\, but only recently made available for study. The fossil has  proven to be a “link” between the prosimian and simian (\"anthropoid\") primate lineages. It has \"advanced\"  front teeth (incisors and canines) and second toes like those of monkeys\, and is broadly representative of what  human primate ancestors may have looked like during the Eocene epoch 47 million years ago.     Ida (prounded \"eeda\") is named after after the daughter of Dr JÃ¸rn Hurum\, the Norwegian vertebrate  paleontologist who secured one section of the fossil from an anonymous owner\, and led the research. Ida was  about eight months old\, or the equivalent of a six-year-old human.     Publication of a paper on the discovery was accompanied by a book\, The Link: Uncovering Our Earliest  Ancestors by Colin Tudge\, and a documentary shown on the History Channel (US)\, BBC One (UK)\,and various  stations in Germany and Norway.     U-M paleontologist Philip Gingerich and U-M anthropologist B. Holly Smith were two members of the \"dream  team\" invited to study Ida. The exhibit will be on display through May 2010.
UID:2124-918317@events.umich.edu
URL:https://events.umich.edu/event/2124
CLASS:PUBLIC
STATUS:CONFIRMED
CATEGORIES:multicultural,visual arts,welcome week
LOCATION:
CONTACT:
END:VEVENT
BEGIN:VEVENT
DTSTAMP:20100505T192725
DTSTART;TZID=America/Detroit:20100516T120000
DTEND;TZID=America/Detroit:20100516T160000
SUMMARY:Class / Instruction:MTango Beginner's Bootcamp - Hurricane Weekend
DESCRIPTION:MTango Beginner's Bootcamp - Hurricane Weekend Learn Argentine tango in an intensive 8-hour  series in one weekend\, designed to prepare you for the social dance  floor.  Two 4-hour sessions\, one Saturday\, one Sunday\, followed by  practica 4-5p.  No partner or dance experience necessary.  Space is  limited\, so register now!  Registration and further details on the  website.  Anderson Room\, Michigan  Union. $25.  mtango.news@gmail.com    www.umich.edu/~mtango
UID:1701-916511@events.umich.edu
URL:https://events.umich.edu/event/1701
CLASS:PUBLIC
STATUS:CONFIRMED
CATEGORIES:
LOCATION:Michigan Union - Anderson
CONTACT:
END:VEVENT
BEGIN:VEVENT
DTSTAMP:20100516T030001
DTSTART;TZID=America/Detroit:20100516T140000
SUMMARY:Other:Furlong Recital: Zhu Zhu\, piano
DESCRIPTION:PROGRAM:  Beethoven - Sonata in C Major\, Op. 2\, No. 3\; Chopin - Preludes\, Op. 28
UID:2327-918849@events.umich.edu
URL:https://events.umich.edu/event/2327
CLASS:PUBLIC
STATUS:CONFIRMED
CATEGORIES:music
LOCATION:Earl V. Moore Building - Britton Recital Hall
CONTACT:
END:VEVENT
BEGIN:VEVENT
DTSTAMP:20101111T175834
DTSTART;TZID=America/Detroit:20100516T140000
DTEND;TZID=America/Detroit:20100516T150000
SUMMARY:Exhibition:Kimono Fashion Show
DESCRIPTION:Since the development of kimono in the 17th century\, the choice of kimono and its accessories had to follow subtle but strict codes dictated by criteria such as the relationship to the life cycle\, the formality of occasion\, age\, and taste. Design elements referring to the seasons also play a role in the intricate visual language of kimono. Fabrics\, colors\, and designs in particular give physical embodiment to the four seasons and affect practical details such as weight\, number of layers\, and lining choices. For modern approaches to the art of traditional dress\, join us for a kimono fashion show that will present elegant kimono and obi created for various occasions and ages. Local kimono expert Minako Yamasaki will also demonstrate how to wear kimono and obi.
UID:2454-919973@events.umich.edu
URL:https://events.umich.edu/event/2454
CLASS:PUBLIC
STATUS:CONFIRMED
CATEGORIES:multicultural,visual arts
LOCATION:Museum of Art - Helmut Stern Auditorium
CONTACT:
END:VEVENT
BEGIN:VEVENT
DTSTAMP:20101111T175609
DTSTART;TZID=America/Detroit:20100516T150000
DTEND;TZID=America/Detroit:20100516T160000
SUMMARY:Exhibition:Guided Tour: Wrapped in Silk and Gold
DESCRIPTION:A guided tour of Wrapped in Silk and Gold: A Family Legacy of 20th-Century Japanese Kimono.\n\nWrapped in Silk and Gold presents for the first time the Museum's recently acquired collection of deluxe kimono\, haori\, obi\, and other traditional Japanese women's garments. Dating from the 1930s through the end of the 20th century\, these garments trace changing fashions as the function of kimono changed over the course of time\, as well as the arc of a woman's lifetime from youth to maturity. The works in the exhibition are the generous gift of the Yamaguchi family\, and were made for and worn by a mother and daughter living in Tokyo.\n\nThis exhibition is made possible in part by the University of Michigan's Center for Japanese Studies\, the Michigan Council for Arts and Cultural Affairs\, the Friends of the University of Michigan Museum of Art\, the Charles H. & Katharine C. Sawyer Endowment Fund\, The Japan Foundation\, New York\, the CEW Frances and Sydney Lewis Visiting Leaders Fund\, and the Japan Business Society of Detroit Foundation.
UID:46-909883@events.umich.edu
URL:https://events.umich.edu/event/46
CLASS:PUBLIC
STATUS:CONFIRMED
CATEGORIES:multicultural,visual arts
LOCATION:Museum of Art
CONTACT:
END:VEVENT
END:VCALENDAR