BEGIN:VCALENDAR
VERSION:2.0
PRODID:-//UM//UM*Events//EN
CALSCALE:GREGORIAN
BEGIN:VTIMEZONE
TZID:America/Detroit
TZURL:http://tzurl.org/zoneinfo/America/Detroit
X-LIC-LOCATION:America/Detroit
BEGIN:DAYLIGHT
TZOFFSETFROM:-0500
TZOFFSETTO:-0400
TZNAME:EDT
DTSTART:20070311T020000
RRULE:FREQ=YEARLY;BYMONTH=3;BYDAY=2SU
END:DAYLIGHT
BEGIN:STANDARD
TZOFFSETFROM:-0400
TZOFFSETTO:-0500
TZNAME:EST
DTSTART:20071104T020000
RRULE:FREQ=YEARLY;BYMONTH=11;BYDAY=1SU
END:STANDARD
END:VTIMEZONE
BEGIN:VEVENT
DTSTAMP:20101111T175620
DTSTART;TZID=America/Detroit:20100519T000000
SUMMARY:Exhibition:Permanent Exhibits at the Exhibit Museum of Natural History
DESCRIPTION:The Hall of Evolution houses Michigan's largest display of prehistoric life. More than 600 million years of life on Earth are traced through fossils\, models and dioramas. The Michigan Wildlife Gallery has a large collection of native Great Lakes birds\, mammals\, reptiles\, and amphibians\, with taxidermy mounts\, habitat scenes\, and the largest mastodon trackway on display in the world. There are also displays about some of the environmental problems faced in this region today. The Anthropology Displays feature artifacts from human cultures around the world. The Geology Displays on the fourth floor offer a large selection of rocks\, minerals and gems. These displays are updated periodically. For more information go to www.lsa.umich.edu/exhibitmuseum/exhibits/permexhibits or call 734-764-0480.
UID:452-910685@events.umich.edu
URL:https://events.umich.edu/event/452
CLASS:PUBLIC
STATUS:CONFIRMED
CATEGORIES:
LOCATION:Ruthven Museums Building
CONTACT:
END:VEVENT
BEGIN:VEVENT
DTSTAMP:20101111T175759
DTSTART;TZID=America/Detroit:20100519T080000
DTEND;TZID=America/Detroit:20100519T170000
SUMMARY:Exhibition:History of Dentistry exhibits at the Sindecuse Museum of Dentistry
DESCRIPTION:Exhibits at the Sindecuse Museum of Dentistry include Dental Operatories of the 1860s to 1930s\, St. Apollonia-Patron Saint of Dentistry and more. Call 763-0767 or go to www.dent.umich.edu/museum for more information.
UID:3856-917552@events.umich.edu
URL:https://events.umich.edu/event/3856
CLASS:PUBLIC
STATUS:CONFIRMED
CATEGORIES:
LOCATION:Dental & W.K. Kellogg Institute
CONTACT:
END:VEVENT
BEGIN:VEVENT
DTSTAMP:20100407T151643
DTSTART;TZID=America/Detroit:20100519T083000
DTEND;TZID=America/Detroit:20100519T190000
SUMMARY:Exhibition:Exhibit: Treasures of the Library
DESCRIPTION:Step into the Audubon Room in the University of Michigan's Hatcher Graduate  Library to view a collection of library treasures.  The collection includes:  a 2250- year-old papyrus document from ancient Philadelphia\, reporting the loss of a  donkey\; a 400-year-old manuscript by Galileo\, in which he explains the usefulness  of the telescope\; and the first book purchased by the Board of Regents\, \"The Birds of  America\,\" published in 1838\, with original drawings by John James Audubon. \n\nHours: Mon-Fri 8:30am-7pm\, Sat 10am-6pm\,  Sun 1-7pm.
UID:2332-918933@events.umich.edu
URL:https://events.umich.edu/event/2332
CLASS:PUBLIC
STATUS:CONFIRMED
CATEGORIES:literary arts,visual arts
LOCATION:Hatcher Graduate Library - Audubon Room
CONTACT:
END:VEVENT
BEGIN:VEVENT
DTSTAMP:20090722T143534
DTSTART;TZID=America/Detroit:20100519T090000
DTEND;TZID=America/Detroit:20100519T170000
SUMMARY:Exhibition:Ida: Darwinius masillae
DESCRIPTION:\"Ida\,\" a new exhibit in the Exhibit Museum's Rotunda\, displays a high-resolution cast of an extremely rare  fossil discovered in 1983 near Messel\, Germany\, but only recently made available for study. The fossil has  proven to be a “link” between the prosimian and simian (\"anthropoid\") primate lineages. It has \"advanced\"  front teeth (incisors and canines) and second toes like those of monkeys\, and is broadly representative of what  human primate ancestors may have looked like during the Eocene epoch 47 million years ago.     Ida (prounded \"eeda\") is named after after the daughter of Dr JÃ¸rn Hurum\, the Norwegian vertebrate  paleontologist who secured one section of the fossil from an anonymous owner\, and led the research. Ida was  about eight months old\, or the equivalent of a six-year-old human.     Publication of a paper on the discovery was accompanied by a book\, The Link: Uncovering Our Earliest  Ancestors by Colin Tudge\, and a documentary shown on the History Channel (US)\, BBC One (UK)\,and various  stations in Germany and Norway.     U-M paleontologist Philip Gingerich and U-M anthropologist B. Holly Smith were two members of the \"dream  team\" invited to study Ida. The exhibit will be on display through May 2010.
UID:2124-918320@events.umich.edu
URL:https://events.umich.edu/event/2124
CLASS:PUBLIC
STATUS:CONFIRMED
CATEGORIES:multicultural,visual arts,welcome week
LOCATION:
CONTACT:
END:VEVENT
BEGIN:VEVENT
DTSTAMP:20101111T175600
DTSTART;TZID=America/Detroit:20100519T100000
DTEND;TZID=America/Detroit:20100519T170000
SUMMARY:Exhibition:Stearns Collection of Music
DESCRIPTION:The Stearns Collection at the School of Music\, Theatre & Dance is one of six major collections of musical instruments in North America. The 2\,500-piece collection is internationally known and is a resource for musical and cultural education.
UID:3790-909284@events.umich.edu
URL:https://events.umich.edu/event/3790
CLASS:PUBLIC
STATUS:CONFIRMED
CATEGORIES:
LOCATION:Earl V. Moore Building
CONTACT:
END:VEVENT
BEGIN:VEVENT
DTSTAMP:20101111T175715
DTSTART;TZID=America/Detroit:20100519T113000
DTEND;TZID=America/Detroit:20100519T121500
SUMMARY:Other:Free Yoga Class for UM Faculty/Staff
DESCRIPTION:You must reserve your free space by emailing U-Move@umich.edu or calling 764-1342. The UM  Faculty/Staff who have reserved their space for the class will be allowed entry to the CCRB during  the class time by presenting their valid M-Card.
UID:1146-914611@events.umich.edu
URL:https://events.umich.edu/event/1146
CLASS:PUBLIC
STATUS:CONFIRMED
CATEGORIES:
LOCATION:Central Campus Recreation Building (Bell Pool) - 3275
CONTACT:
END:VEVENT
BEGIN:VEVENT
DTSTAMP:20101111T175827
DTSTART;TZID=America/Detroit:20100519T200000
SUMMARY:Performance:Crash Test Dummies
DESCRIPTION:The Crash Test Dummies got started in mid-1980s Winnipeg\, Manitoba as a cover band called Bad Brad Roberts and the St. James Rhythm Pigs. Since then it's been an upward trajectory all the way as the edgy baritone voice of singer and songwriter Roberts became a familiar sound in the world of folk-tinged alternative rock. The Dummies had an international hit album with 1993's \"God Shuffled His Feet\" and its quizzical hit single \"Mmm Mmm Mmm Mmm.\" Since then the group has ranged from comic lyrics reminiscent of Shel Silverstein to pure darkness. One highlight was the album \"I Don't Care That You Don't Mind\,\" which Roberts wrote in Nova Scotia with some genuine down-east lobstermen he met in rehab after an auto crash. Tonight's show features music from the Dummies' new and as-yet-unreleased album \"Ooh La La\,\" their first since 2004. The Crash Test Dummies have family connections in southeast Michigan (Brad's in-laws live in downtown Detroit)\, and you'd be surprised how often that's a good predictor of a really special show.
UID:2624-919431@events.umich.edu
URL:https://events.umich.edu/event/2624
CLASS:PUBLIC
STATUS:CONFIRMED
CATEGORIES:music
LOCATION:
CONTACT:
END:VEVENT
BEGIN:VEVENT
DTSTAMP:20101111T175718
DTSTART;TZID=America/Detroit:20100519T210000
DTEND;TZID=America/Detroit:20100519T230000
SUMMARY:Exhibition:Jazz Series
DESCRIPTION:Come hear jazz every month at UMMA! Experience outstanding local artists in an intimate group setting at this exciting series curated by UM Associate Professor of Music Adam Unsworth.\n\nOn May 19\, the series features Quartex–Danny Fisher-Lochhead on sax\; Matt Endahl\, piano\; Andrew Kratzat\, bass\; and Aaron Gold on drums. Originally founded by Steve Rush\, Quartex plays an array of styles\, from Ornette Coleman to traditional spirituals. June artists to be announced on our website.
UID:1217-914783@events.umich.edu
URL:https://events.umich.edu/event/1217
CLASS:PUBLIC
STATUS:CONFIRMED
CATEGORIES:music
LOCATION:Museum of Art - Commons
CONTACT:
END:VEVENT
END:VCALENDAR