BEGIN:VCALENDAR
VERSION:2.0
PRODID:-//UM//UM*Events//EN
CALSCALE:GREGORIAN
BEGIN:VTIMEZONE
TZID:America/Detroit
TZURL:http://tzurl.org/zoneinfo/America/Detroit
X-LIC-LOCATION:America/Detroit
BEGIN:DAYLIGHT
TZOFFSETFROM:-0500
TZOFFSETTO:-0400
TZNAME:EDT
DTSTART:20070311T020000
RRULE:FREQ=YEARLY;BYMONTH=3;BYDAY=2SU
END:DAYLIGHT
BEGIN:STANDARD
TZOFFSETFROM:-0400
TZOFFSETTO:-0500
TZNAME:EST
DTSTART:20071104T020000
RRULE:FREQ=YEARLY;BYMONTH=11;BYDAY=1SU
END:STANDARD
END:VTIMEZONE
BEGIN:VEVENT
DTSTAMP:20101111T175620
DTSTART;TZID=America/Detroit:20100522T000000
SUMMARY:Exhibition:Permanent Exhibits at the Exhibit Museum of Natural History
DESCRIPTION:The Hall of Evolution houses Michigan's largest display of prehistoric life. More than 600 million years of life on Earth are traced through fossils\, models and dioramas. The Michigan Wildlife Gallery has a large collection of native Great Lakes birds\, mammals\, reptiles\, and amphibians\, with taxidermy mounts\, habitat scenes\, and the largest mastodon trackway on display in the world. There are also displays about some of the environmental problems faced in this region today. The Anthropology Displays feature artifacts from human cultures around the world. The Geology Displays on the fourth floor offer a large selection of rocks\, minerals and gems. These displays are updated periodically. For more information go to www.lsa.umich.edu/exhibitmuseum/exhibits/permexhibits or call 734-764-0480.
UID:452-910688@events.umich.edu
URL:https://events.umich.edu/event/452
CLASS:PUBLIC
STATUS:CONFIRMED
CATEGORIES:
LOCATION:Ruthven Museums Building
CONTACT:
END:VEVENT
BEGIN:VEVENT
DTSTAMP:20100407T151643
DTSTART;TZID=America/Detroit:20100522T083000
DTEND;TZID=America/Detroit:20100522T190000
SUMMARY:Exhibition:Exhibit: Treasures of the Library
DESCRIPTION:Step into the Audubon Room in the University of Michigan's Hatcher Graduate  Library to view a collection of library treasures.  The collection includes:  a 2250- year-old papyrus document from ancient Philadelphia\, reporting the loss of a  donkey\; a 400-year-old manuscript by Galileo\, in which he explains the usefulness  of the telescope\; and the first book purchased by the Board of Regents\, \"The Birds of  America\,\" published in 1838\, with original drawings by John James Audubon. \n\nHours: Mon-Fri 8:30am-7pm\, Sat 10am-6pm\,  Sun 1-7pm.
UID:2332-918936@events.umich.edu
URL:https://events.umich.edu/event/2332
CLASS:PUBLIC
STATUS:CONFIRMED
CATEGORIES:literary arts,visual arts
LOCATION:Hatcher Graduate Library - Audubon Room
CONTACT:
END:VEVENT
BEGIN:VEVENT
DTSTAMP:20090722T143534
DTSTART;TZID=America/Detroit:20100522T090000
DTEND;TZID=America/Detroit:20100522T170000
SUMMARY:Exhibition:Ida: Darwinius masillae
DESCRIPTION:\"Ida\,\" a new exhibit in the Exhibit Museum's Rotunda\, displays a high-resolution cast of an extremely rare  fossil discovered in 1983 near Messel\, Germany\, but only recently made available for study. The fossil has  proven to be a “link” between the prosimian and simian (\"anthropoid\") primate lineages. It has \"advanced\"  front teeth (incisors and canines) and second toes like those of monkeys\, and is broadly representative of what  human primate ancestors may have looked like during the Eocene epoch 47 million years ago.     Ida (prounded \"eeda\") is named after after the daughter of Dr JÃ¸rn Hurum\, the Norwegian vertebrate  paleontologist who secured one section of the fossil from an anonymous owner\, and led the research. Ida was  about eight months old\, or the equivalent of a six-year-old human.     Publication of a paper on the discovery was accompanied by a book\, The Link: Uncovering Our Earliest  Ancestors by Colin Tudge\, and a documentary shown on the History Channel (US)\, BBC One (UK)\,and various  stations in Germany and Norway.     U-M paleontologist Philip Gingerich and U-M anthropologist B. Holly Smith were two members of the \"dream  team\" invited to study Ida. The exhibit will be on display through May 2010.
UID:2124-918323@events.umich.edu
URL:https://events.umich.edu/event/2124
CLASS:PUBLIC
STATUS:CONFIRMED
CATEGORIES:multicultural,visual arts,welcome week
LOCATION:
CONTACT:
END:VEVENT
BEGIN:VEVENT
DTSTAMP:20101111T175607
DTSTART;TZID=America/Detroit:20100522T100000
DTEND;TZID=America/Detroit:20100522T140000
SUMMARY:Other:Butterfly Festival
DESCRIPTION:Explore the beautiful and fascinating world of butterflies and life cycles! Watch live Monarchs in our butterfly  sanctuary and take an up close and personal look at how they travel through each stage of their life cycle. Use our  microscopes to see what butterfly and moth wings are really made of\, and metamorphose into a butterfly when  you make wings of your own! Take a look at the life cycles of other animals\, too. Top it off with a visit to our  butterfly garden (weather permitting!).
UID:333-909779@events.umich.edu
URL:https://events.umich.edu/event/333
CLASS:PUBLIC
STATUS:CONFIRMED
CATEGORIES:
LOCATION:Ruthven Museums Building
CONTACT:
END:VEVENT
BEGIN:VEVENT
DTSTAMP:20101111T175838
DTSTART;TZID=America/Detroit:20100522T140000
DTEND;TZID=America/Detroit:20100522T151500
SUMMARY:Exhibition:Ceramics demonstration with Shigaraki potter KÃ´yama Kiyoko
DESCRIPTION:A leading female potter from the renowned historic kiln town of Shigaraki\, KÃ´yama Kiyoko will demonstrate her clay throwing and building techniques that combine old traditions with innovative approaches. KÃ´yama recently donated nine pieces to the Museum\, and her work is featured in the Turning Point exhibition.
UID:2593-920230@events.umich.edu
URL:https://events.umich.edu/event/2593
CLASS:PUBLIC
STATUS:CONFIRMED
CATEGORIES:multicultural,visual arts
LOCATION:Museum of Art - Multipurpose Room
CONTACT:
END:VEVENT
BEGIN:VEVENT
DTSTAMP:20101111T175623
DTSTART;TZID=America/Detroit:20100522T140000
SUMMARY:Performance:The Sound of Music
DESCRIPTION:
UID:550-911062@events.umich.edu
URL:https://events.umich.edu/event/550
CLASS:PUBLIC
STATUS:CONFIRMED
CATEGORIES:theater
LOCATION:Lydia Mendelssohn Theatre
CONTACT:
END:VEVENT
BEGIN:VEVENT
DTSTAMP:20101111T175641
DTSTART;TZID=America/Detroit:20100522T153000
DTEND;TZID=America/Detroit:20100522T163000
SUMMARY:Exhibition:Curator’s Talk
DESCRIPTION:Directly following the ceramics demonstration with KÃ´yama Kiyoko\, UMMA's Research Curator of Asian Art and curator of the exhibition Natsu Oyobe will introduce visitors to the exhibition.\n\nTurning Point: Japanese Studio Ceramics in the Mid-20th Century Open May 15–August 8\, 2010\n\nContemporary Japanese ceramics are currently highly prized\, avidly collected\, and frequently exhibited. UMMA became actively engaged with the medium in the 1960s\, and thanks to astute acquisitions made with the help of John Stephenson\, Catherine B. Heller Professor Emeritus\, School of Art and Design\, the Museum has a priceless selection of ceramics dating from the 1930s through 1970s by leading figures and “living national treasures” such as Hamada ShÃ´ji\, Kawai KanjirÃ´\, and Yagi Kazuo. The collection of approximately 50 works offers a focused look at the Japanese studio pottery movement at a moment of exceptional creativity and lasting influence.\n\nThis exhibition is made possible in part by the University of Michigan's Center for Japanese Studies\, the Michigan Council for Arts and Cultural Affairs\, the Charles H. & Katharine C. Sawyer Endowment Fund\, The Japan Foundation\, New York\, the Japan Business Society of Detroit Foundation\, and an anonymous donor.
UID:745-912454@events.umich.edu
URL:https://events.umich.edu/event/745
CLASS:PUBLIC
STATUS:CONFIRMED
CATEGORIES:multicultural,visual arts
LOCATION:Museum of Art - A. Alfred Taubman Gallery II
CONTACT:
END:VEVENT
BEGIN:VEVENT
DTSTAMP:20090918T102219
DTSTART;TZID=America/Detroit:20100522T180000
SUMMARY:Conference / Symposium:Constructing Green
DESCRIPTION:The conference will be hosted by the Erb Institute for Global Sustainable Enterprise at the University of Michigan www.erb.umich.edu in Ann Arbor. We are receptive to a wide range of research perspectives and methodologies. We also invite practitioners of the craft to join the discussion and help us hone and refine our research questions\, design and conclusions. This event is open for registration regardless of whether you are submitting a paper for consideration.
UID:1350-914995@events.umich.edu
URL:https://events.umich.edu/event/1350
CLASS:PUBLIC
STATUS:CONFIRMED
CATEGORIES:
LOCATION:Ross School of Business
CONTACT:
END:VEVENT
BEGIN:VEVENT
DTSTAMP:20101111T175816
DTSTART;TZID=America/Detroit:20100522T190000
SUMMARY:Performance:The Sound of Music
DESCRIPTION:
UID:2396-919018@events.umich.edu
URL:https://events.umich.edu/event/2396
CLASS:PUBLIC
STATUS:CONFIRMED
CATEGORIES:theater
LOCATION:Lydia Mendelssohn Theatre
CONTACT:
END:VEVENT
END:VCALENDAR