BEGIN:VCALENDAR
VERSION:2.0
PRODID:-//UM//UM*Events//EN
CALSCALE:GREGORIAN
BEGIN:VTIMEZONE
TZID:America/Detroit
TZURL:http://tzurl.org/zoneinfo/America/Detroit
X-LIC-LOCATION:America/Detroit
BEGIN:DAYLIGHT
TZOFFSETFROM:-0500
TZOFFSETTO:-0400
TZNAME:EDT
DTSTART:20070311T020000
RRULE:FREQ=YEARLY;BYMONTH=3;BYDAY=2SU
END:DAYLIGHT
BEGIN:STANDARD
TZOFFSETFROM:-0400
TZOFFSETTO:-0500
TZNAME:EST
DTSTART:20071104T020000
RRULE:FREQ=YEARLY;BYMONTH=11;BYDAY=1SU
END:STANDARD
END:VTIMEZONE
BEGIN:VEVENT
DTSTAMP:20101111T175620
DTSTART;TZID=America/Detroit:20100524T000000
SUMMARY:Exhibition:Permanent Exhibits at the Exhibit Museum of Natural History
DESCRIPTION:The Hall of Evolution houses Michigan's largest display of prehistoric life. More than 600 million years of life on Earth are traced through fossils\, models and dioramas. The Michigan Wildlife Gallery has a large collection of native Great Lakes birds\, mammals\, reptiles\, and amphibians\, with taxidermy mounts\, habitat scenes\, and the largest mastodon trackway on display in the world. There are also displays about some of the environmental problems faced in this region today. The Anthropology Displays feature artifacts from human cultures around the world. The Geology Displays on the fourth floor offer a large selection of rocks\, minerals and gems. These displays are updated periodically. For more information go to www.lsa.umich.edu/exhibitmuseum/exhibits/permexhibits or call 734-764-0480.
UID:452-910690@events.umich.edu
URL:https://events.umich.edu/event/452
CLASS:PUBLIC
STATUS:CONFIRMED
CATEGORIES:
LOCATION:Ruthven Museums Building
CONTACT:
END:VEVENT
BEGIN:VEVENT
DTSTAMP:20101111T175759
DTSTART;TZID=America/Detroit:20100524T080000
DTEND;TZID=America/Detroit:20100524T170000
SUMMARY:Exhibition:History of Dentistry exhibits at the Sindecuse Museum of Dentistry
DESCRIPTION:Exhibits at the Sindecuse Museum of Dentistry include Dental Operatories of the 1860s to 1930s\, St. Apollonia-Patron Saint of Dentistry and more. Call 763-0767 or go to www.dent.umich.edu/museum for more information.
UID:3856-917555@events.umich.edu
URL:https://events.umich.edu/event/3856
CLASS:PUBLIC
STATUS:CONFIRMED
CATEGORIES:
LOCATION:Dental & W.K. Kellogg Institute
CONTACT:
END:VEVENT
BEGIN:VEVENT
DTSTAMP:20090722T143534
DTSTART;TZID=America/Detroit:20100524T090000
DTEND;TZID=America/Detroit:20100524T170000
SUMMARY:Exhibition:Ida: Darwinius masillae
DESCRIPTION:\"Ida\,\" a new exhibit in the Exhibit Museum's Rotunda\, displays a high-resolution cast of an extremely rare  fossil discovered in 1983 near Messel\, Germany\, but only recently made available for study. The fossil has  proven to be a “link” between the prosimian and simian (\"anthropoid\") primate lineages. It has \"advanced\"  front teeth (incisors and canines) and second toes like those of monkeys\, and is broadly representative of what  human primate ancestors may have looked like during the Eocene epoch 47 million years ago.     Ida (prounded \"eeda\") is named after after the daughter of Dr JÃ¸rn Hurum\, the Norwegian vertebrate  paleontologist who secured one section of the fossil from an anonymous owner\, and led the research. Ida was  about eight months old\, or the equivalent of a six-year-old human.     Publication of a paper on the discovery was accompanied by a book\, The Link: Uncovering Our Earliest  Ancestors by Colin Tudge\, and a documentary shown on the History Channel (US)\, BBC One (UK)\,and various  stations in Germany and Norway.     U-M paleontologist Philip Gingerich and U-M anthropologist B. Holly Smith were two members of the \"dream  team\" invited to study Ida. The exhibit will be on display through May 2010.
UID:2124-918325@events.umich.edu
URL:https://events.umich.edu/event/2124
CLASS:PUBLIC
STATUS:CONFIRMED
CATEGORIES:multicultural,visual arts,welcome week
LOCATION:
CONTACT:
END:VEVENT
BEGIN:VEVENT
DTSTAMP:20101111T175600
DTSTART;TZID=America/Detroit:20100524T100000
DTEND;TZID=America/Detroit:20100524T170000
SUMMARY:Exhibition:Stearns Collection of Music
DESCRIPTION:The Stearns Collection at the School of Music\, Theatre & Dance is one of six major collections of musical instruments in North America. The 2\,500-piece collection is internationally known and is a resource for musical and cultural education.
UID:3790-909287@events.umich.edu
URL:https://events.umich.edu/event/3790
CLASS:PUBLIC
STATUS:CONFIRMED
CATEGORIES:
LOCATION:Earl V. Moore Building
CONTACT:
END:VEVENT
BEGIN:VEVENT
DTSTAMP:20100408T100720
DTSTART;TZID=America/Detroit:20100524T150000
DTEND;TZID=America/Detroit:20100524T160000
SUMMARY:Lecture / Discussion:10th Annual James V. Neel Lectureship in Medical Genetics
DESCRIPTION:This annual lectureship honors James V. Neel\, M.D.\, Ph.D.\,  a pioneer in the study of human genetics and one of the first to foresee its importance in the diagnosis and treatment of medical conditions. During his 39-year career in the U-M Medical School\, Neel established one of the first clinics to evaluate and counsel people with hereditary diseases\, as well as the first academic department of human genetics in the United States. Neel established the University of Michigan Medical School's Department of Human Genetics in 1956\, which he chaired for 25 years.\n\nThe Neel Lectureship features an international leader in research who shares their experiences and underscores the importance of research in genetics.\n\nGuest speaker: David Botstein\, Ph.D.\, Director and Anthony B. Evnin Professor of Genomics\, Department of Molecular Biology\, Lewis-Sigler Institute for Integrative Genomics\, Princeton University\n\nTitle:  \"Coordination of Growth Rate\, Cell Cycle\, Stress Response and Metabolic Activity in Yeast\"\n\nDavid Botstein received his bachelor's degree from Harvard University and doctoral degree from the University of Michigan\, working in the lab of Dr. Myron Levine during Dr. Neel's tenure as Chair of the Human Genetics Department. He taught at the Massachusetts Institute of Technology from 1967 to 1988\, and then served as vice president for science at the biotechnology company Genentech for two years before joining the faculty at the Stanford School of Medicine\, and then Princeton University. He is a member of the National Academy of Sciences and the Institute of Medicine and has received numerous awards.  In March\, 2010\, Botstein was named one of three recipients of the annual $500\,000 Albany Medical Center Prize in Medicine and Biomedical Research. The award is the largest prize in medicine in the United States and is considered second only to the Nobel Prize.  Botstein\, along with Francis Collins (U-M faculty\, 1984-2003)\, director of the National Institutes of Health\, and Eric Lander\, director of the Broad Institute of MIT and Harvard\, received the prize for their foundational work in mapping the human genome\, which ultimately paved the way for the Human Genome Project.\n\n4:00-5:00 PM\, Reception and Poster Session to follow in BSRB Seminar Rooms A-B-C
UID:2358-919670@events.umich.edu
URL:https://events.umich.edu/event/2358
CLASS:PUBLIC
STATUS:CONFIRMED
CATEGORIES:
LOCATION:Taubman Biomedical Science Research Building - D. Dan &amp;amp; Betty Kahn Auditorium
CONTACT:
END:VEVENT
END:VCALENDAR