BEGIN:VCALENDAR
VERSION:2.0
PRODID:-//UM//UM*Events//EN
CALSCALE:GREGORIAN
BEGIN:VTIMEZONE
TZID:America/Detroit
TZURL:http://tzurl.org/zoneinfo/America/Detroit
X-LIC-LOCATION:America/Detroit
BEGIN:DAYLIGHT
TZOFFSETFROM:-0500
TZOFFSETTO:-0400
TZNAME:EDT
DTSTART:20070311T020000
RRULE:FREQ=YEARLY;BYMONTH=3;BYDAY=2SU
END:DAYLIGHT
BEGIN:STANDARD
TZOFFSETFROM:-0400
TZOFFSETTO:-0500
TZNAME:EST
DTSTART:20071104T020000
RRULE:FREQ=YEARLY;BYMONTH=11;BYDAY=1SU
END:STANDARD
END:VTIMEZONE
BEGIN:VEVENT
DTSTAMP:20101111T175620
DTSTART;TZID=America/Detroit:20100605T000000
SUMMARY:Exhibition:Permanent Exhibits at the Exhibit Museum of Natural History
DESCRIPTION:The Hall of Evolution houses Michigan's largest display of prehistoric life. More than 600 million years of life on Earth are traced through fossils\, models and dioramas. The Michigan Wildlife Gallery has a large collection of native Great Lakes birds\, mammals\, reptiles\, and amphibians\, with taxidermy mounts\, habitat scenes\, and the largest mastodon trackway on display in the world. There are also displays about some of the environmental problems faced in this region today. The Anthropology Displays feature artifacts from human cultures around the world. The Geology Displays on the fourth floor offer a large selection of rocks\, minerals and gems. These displays are updated periodically. For more information go to www.lsa.umich.edu/exhibitmuseum/exhibits/permexhibits or call 734-764-0480.
UID:452-910702@events.umich.edu
URL:https://events.umich.edu/event/452
CLASS:PUBLIC
STATUS:CONFIRMED
CATEGORIES:
LOCATION:Ruthven Museums Building
CONTACT:
END:VEVENT
BEGIN:VEVENT
DTSTAMP:20101111T175613
DTSTART;TZID=America/Detroit:20100605T080000
DTEND;TZID=America/Detroit:20100605T173000
SUMMARY:Conference / Symposium:Enforcement\, Evasion and Informality: Theory and Practice
DESCRIPTION:
UID:180-910098@events.umich.edu
URL:https://events.umich.edu/event/180
CLASS:PUBLIC
STATUS:CONFIRMED
CATEGORIES:
LOCATION:Weill Hall (Ford School) - 1120 Annenberg Auditorium
CONTACT:
END:VEVENT
BEGIN:VEVENT
DTSTAMP:20100525T095632
DTSTART;TZID=America/Detroit:20100605T120000
SUMMARY:Presentation:Tea Ceremony
DESCRIPTION:Please join us for the first Japanese tea ceremony in the new UMMA. Kazu Ogoshi and Mitsuko Yoshida\, two revered tea masters who have been practicing the Sekishu-style of tea for 65 years\, will travel from Japan to UMMA for this special occasion. (This will be their third appearance at UMMA following their visits in 1997 and 2001.) Yasuo Watanabe will provide interpretation and narration. The Sekishu-style of tea was the orthodox style of the ruling Tokugawa Shogunate (1615–1868) and is also known as the “warrior style” tea. These demonstrations will be followed by a limited sampling of tea and Japanese sweets. There will be two ceremonies: one at 12pm\, the following at 2:30.
UID:2786-921271@events.umich.edu
URL:https://events.umich.edu/event/2786
CLASS:PUBLIC
STATUS:CONFIRMED
CATEGORIES:multicultural
LOCATION:Museum of Art - the Apse
CONTACT:
END:VEVENT
BEGIN:VEVENT
DTSTAMP:20100506T163549
DTSTART;TZID=America/Detroit:20100605T133000
SUMMARY:Lecture / Discussion:Curator's Talk
DESCRIPTION:UMMA's Research Curator of Asian Art and curator of the exhibition\, Natsu Oyobe\, will guide visitors through Wrapped in Silk and Gold and will discuss the changing status of kimonos and the continuity of traditional textile production in the modern era.
UID:1048-913710@events.umich.edu
URL:https://events.umich.edu/event/1048
CLASS:PUBLIC
STATUS:CONFIRMED
CATEGORIES:multicultural,visual arts
LOCATION:Museum of Art - A. Alfred Taubman Gallery I
CONTACT:
END:VEVENT
BEGIN:VEVENT
DTSTAMP:20101111T175649
DTSTART;TZID=America/Detroit:20100605T183000
DTEND;TZID=America/Detroit:20100605T210000
SUMMARY:Performance:Shakespeare in the Arb
DESCRIPTION:The tenth season of Shakespeare in the Arb features A Midsummer Night's Dream\,  directed by Kate Mendeloff. Four performaces every weekend for the entire month  of June. Box office opens at 5 pm to Arb & Gardens' members\; 5:30 pm for general  admission at the Arb's 1610 Washington Heights entrance. All performances start at  6:30 pm\; please allow 10 minutes to walk to the first act. Ticket prices: general  admission: $18.00\; MBGNA members: $15.00\; students and children 5–18: $10.00\;  under 5 free.
UID:1007-912845@events.umich.edu
URL:https://events.umich.edu/event/1007
CLASS:PUBLIC
STATUS:CONFIRMED
CATEGORIES:theater
LOCATION:Nichols Arboretum
CONTACT:
END:VEVENT
END:VCALENDAR