BEGIN:VCALENDAR
VERSION:2.0
PRODID:-//UM//UM*Events//EN
CALSCALE:GREGORIAN
BEGIN:VTIMEZONE
TZID:America/Detroit
TZURL:http://tzurl.org/zoneinfo/America/Detroit
X-LIC-LOCATION:America/Detroit
BEGIN:DAYLIGHT
TZOFFSETFROM:-0500
TZOFFSETTO:-0400
TZNAME:EDT
DTSTART:20070311T020000
RRULE:FREQ=YEARLY;BYMONTH=3;BYDAY=2SU
END:DAYLIGHT
BEGIN:STANDARD
TZOFFSETFROM:-0400
TZOFFSETTO:-0500
TZNAME:EST
DTSTART:20071104T020000
RRULE:FREQ=YEARLY;BYMONTH=11;BYDAY=1SU
END:STANDARD
END:VTIMEZONE
BEGIN:VEVENT
DTSTAMP:20101111T175620
DTSTART;TZID=America/Detroit:20100627T000000
SUMMARY:Exhibition:Permanent Exhibits at the Exhibit Museum of Natural History
DESCRIPTION:The Hall of Evolution houses Michigan's largest display of prehistoric life. More than 600 million years of life on Earth are traced through fossils\, models and dioramas. The Michigan Wildlife Gallery has a large collection of native Great Lakes birds\, mammals\, reptiles\, and amphibians\, with taxidermy mounts\, habitat scenes\, and the largest mastodon trackway on display in the world. There are also displays about some of the environmental problems faced in this region today. The Anthropology Displays feature artifacts from human cultures around the world. The Geology Displays on the fourth floor offer a large selection of rocks\, minerals and gems. These displays are updated periodically. For more information go to www.lsa.umich.edu/exhibitmuseum/exhibits/permexhibits or call 734-764-0480.
UID:452-910724@events.umich.edu
URL:https://events.umich.edu/event/452
CLASS:PUBLIC
STATUS:CONFIRMED
CATEGORIES:
LOCATION:Ruthven Museums Building
CONTACT:
END:VEVENT
BEGIN:VEVENT
DTSTAMP:20100614T131024
DTSTART;TZID=America/Detroit:20100627T100000
DTEND;TZID=America/Detroit:20100627T163000
SUMMARY:Exhibition:Fabulous Flamingos! - A Whimsical Garden Display
DESCRIPTION:The flamingos have landed – at Matthaei! On display are dozens of pink flamingo  lawn ornaments imaginatively themed and decorated by U-M Art School students\,  community members\, and Ann Arbor Public School students\; fantastic topiary  creatures such as Nessie the garden serpent and others creatively grown and  decorated by our expert horticulturists\; perennial garden favorites like whirligigs and  gnomes\; lush seasonal plantings\; and more. A must-see garden! While you're  visiting Matthaei\, be sure to vote for your favorite flamingo June 19 through July  15. Voting cards and ballot box located in the lobby at Matthaei. Best in Show  Flamingos announced on Saturday\, July 17\, 2 pm. Gardens and trails at Matthaei  are free and open 7 days a week. Display opens June 19 and continues through the  summer at Matthaei Botanical Gardens\, 1800 N. Dixboro Rd.\, Ann Arbor. For more  information visit our website: www.mbgna.umich.edu or call 734-647-7600.
UID:1664-916363@events.umich.edu
URL:https://events.umich.edu/event/1664
CLASS:PUBLIC
STATUS:CONFIRMED
CATEGORIES:
LOCATION:
CONTACT:
END:VEVENT
BEGIN:VEVENT
DTSTAMP:20101111T175832
DTSTART;TZID=America/Detroit:20100627T140000
SUMMARY:Exhibition:Guided Tour
DESCRIPTION:
UID:2397-919741@events.umich.edu
URL:https://events.umich.edu/event/2397
CLASS:PUBLIC
STATUS:CONFIRMED
CATEGORIES:multicultural,visual arts
LOCATION:Museum of Art
CONTACT:
END:VEVENT
BEGIN:VEVENT
DTSTAMP:20101111T175649
DTSTART;TZID=America/Detroit:20100627T183000
DTEND;TZID=America/Detroit:20100627T210000
SUMMARY:Performance:Shakespeare in the Arb
DESCRIPTION:The tenth season of Shakespeare in the Arb features A Midsummer Night's Dream\,  directed by Kate Mendeloff. Four performaces every weekend for the entire month  of June. Box office opens at 5 pm to Arb & Gardens' members\; 5:30 pm for general  admission at the Arb's 1610 Washington Heights entrance. All performances start at  6:30 pm\; please allow 10 minutes to walk to the first act. Ticket prices: general  admission: $18.00\; MBGNA members: $15.00\; students and children 5–18: $10.00\;  under 5 free.
UID:1007-912842@events.umich.edu
URL:https://events.umich.edu/event/1007
CLASS:PUBLIC
STATUS:CONFIRMED
CATEGORIES:theater
LOCATION:Nichols Arboretum
CONTACT:
END:VEVENT
END:VCALENDAR