BEGIN:VCALENDAR
VERSION:2.0
PRODID:-//UM//UM*Events//EN
CALSCALE:GREGORIAN
BEGIN:VTIMEZONE
TZID:America/Detroit
TZURL:http://tzurl.org/zoneinfo/America/Detroit
X-LIC-LOCATION:America/Detroit
BEGIN:DAYLIGHT
TZOFFSETFROM:-0500
TZOFFSETTO:-0400
TZNAME:EDT
DTSTART:20070311T020000
RRULE:FREQ=YEARLY;BYMONTH=3;BYDAY=2SU
END:DAYLIGHT
BEGIN:STANDARD
TZOFFSETFROM:-0400
TZOFFSETTO:-0500
TZNAME:EST
DTSTART:20071104T020000
RRULE:FREQ=YEARLY;BYMONTH=11;BYDAY=1SU
END:STANDARD
END:VTIMEZONE
BEGIN:VEVENT
DTSTAMP:20100614T131024
DTSTART;TZID=America/Detroit:20100707T100000
DTEND;TZID=America/Detroit:20100707T163000
SUMMARY:Exhibition:Fabulous Flamingos! - A Whimsical Garden Display
DESCRIPTION:The flamingos have landed – at Matthaei! On display are dozens of pink flamingo  lawn ornaments imaginatively themed and decorated by U-M Art School students\,  community members\, and Ann Arbor Public School students\; fantastic topiary  creatures such as Nessie the garden serpent and others creatively grown and  decorated by our expert horticulturists\; perennial garden favorites like whirligigs and  gnomes\; lush seasonal plantings\; and more. A must-see garden! While you're  visiting Matthaei\, be sure to vote for your favorite flamingo June 19 through July  15. Voting cards and ballot box located in the lobby at Matthaei. Best in Show  Flamingos announced on Saturday\, July 17\, 2 pm. Gardens and trails at Matthaei  are free and open 7 days a week. Display opens June 19 and continues through the  summer at Matthaei Botanical Gardens\, 1800 N. Dixboro Rd.\, Ann Arbor. For more  information visit our website: www.mbgna.umich.edu or call 734-647-7600.
UID:1664-916373@events.umich.edu
URL:https://events.umich.edu/event/1664
CLASS:PUBLIC
STATUS:CONFIRMED
CATEGORIES:
LOCATION:
CONTACT:
END:VEVENT
BEGIN:VEVENT
DTSTAMP:20101111T175641
DTSTART;TZID=America/Detroit:20100707T190000
SUMMARY:Film Screening:Film Screening and Talk Back
DESCRIPTION:Showcased at the 2010 Sundance Film Festival\, Bilal's Stand (www.bilalsstand.com) is about an upright black Muslim teen who works at his family's taxi stand in Detroit. But Bilal has dreams to attend a top university\, and when his two lives collide\, Bilal is forced to decide between keeping The Stand alive–and living the only life he has ever known–or taking a shot at social mobility. \n\nBased on a true story\, UM grad Sharrief's debut feature is a freshly crafted film filled with heart and authenticity that transports audiences to a world rarely seen onscreen and heralds the arrival of its filmmaker as a new voice in American independent cinema. Sharrief will give a brief talk back after the film.
UID:732-912444@events.umich.edu
URL:https://events.umich.edu/event/732
CLASS:PUBLIC
STATUS:CONFIRMED
CATEGORIES:film,multicultural,social justice
LOCATION:Museum of Art - Helmut Stern Auditorium
CONTACT:
END:VEVENT
END:VCALENDAR