BEGIN:VCALENDAR
VERSION:2.0
PRODID:-//UM//UM*Events//EN
CALSCALE:GREGORIAN
BEGIN:VTIMEZONE
TZID:America/Detroit
TZURL:http://tzurl.org/zoneinfo/America/Detroit
X-LIC-LOCATION:America/Detroit
BEGIN:DAYLIGHT
TZOFFSETFROM:-0500
TZOFFSETTO:-0400
TZNAME:EDT
DTSTART:20070311T020000
RRULE:FREQ=YEARLY;BYMONTH=3;BYDAY=2SU
END:DAYLIGHT
BEGIN:STANDARD
TZOFFSETFROM:-0400
TZOFFSETTO:-0500
TZNAME:EST
DTSTART:20071104T020000
RRULE:FREQ=YEARLY;BYMONTH=11;BYDAY=1SU
END:STANDARD
END:VTIMEZONE
BEGIN:VEVENT
DTSTAMP:20100614T131024
DTSTART;TZID=America/Detroit:20100709T100000
DTEND;TZID=America/Detroit:20100709T163000
SUMMARY:Exhibition:Fabulous Flamingos! - A Whimsical Garden Display
DESCRIPTION:The flamingos have landed – at Matthaei! On display are dozens of pink flamingo  lawn ornaments imaginatively themed and decorated by U-M Art School students\,  community members\, and Ann Arbor Public School students\; fantastic topiary  creatures such as Nessie the garden serpent and others creatively grown and  decorated by our expert horticulturists\; perennial garden favorites like whirligigs and  gnomes\; lush seasonal plantings\; and more. A must-see garden! While you're  visiting Matthaei\, be sure to vote for your favorite flamingo June 19 through July  15. Voting cards and ballot box located in the lobby at Matthaei. Best in Show  Flamingos announced on Saturday\, July 17\, 2 pm. Gardens and trails at Matthaei  are free and open 7 days a week. Display opens June 19 and continues through the  summer at Matthaei Botanical Gardens\, 1800 N. Dixboro Rd.\, Ann Arbor. For more  information visit our website: www.mbgna.umich.edu or call 734-647-7600.
UID:1664-916375@events.umich.edu
URL:https://events.umich.edu/event/1664
CLASS:PUBLIC
STATUS:CONFIRMED
CATEGORIES:
LOCATION:
CONTACT:
END:VEVENT
BEGIN:VEVENT
DTSTAMP:20100622T100530
DTSTART;TZID=America/Detroit:20100709T130000
DTEND;TZID=America/Detroit:20100709T153000
SUMMARY:Workshop / Seminar:Ann Arbor Art Center Workshops
DESCRIPTION:If you've always wanted to try to draw and paint but never knew where to start\, this is the course for you! You will explore the fundamental principles of drawing and painting and how to transition from drawing into painting in the inspiring environment of the Museum. Lab fee includes basic painting materials. Please bring 11 x 14 inch or larger drawing pad\; HB\, 4B\, or 6B drawing pencils\; and kneaded eraser to the first class. All levels welcome. 6-week workshop: Fridays\, July 9-August 20. No class on July 23.
UID:1544-915336@events.umich.edu
URL:https://events.umich.edu/event/1544
CLASS:PUBLIC
STATUS:CONFIRMED
CATEGORIES:visual arts
LOCATION:Museum of Art
CONTACT:
END:VEVENT
BEGIN:VEVENT
DTSTAMP:20101111T175640
DTSTART;TZID=America/Detroit:20100709T200000
DTEND;TZID=America/Detroit:20100709T093000
SUMMARY:Class / Instruction:M-Tango Beginner's Boot Camp July-August Series
DESCRIPTION:Beginner's Bootcamp: Our intensive beginner's bootcamp in Argentine tango will prepare you to join the social dance floor quickly. We cover walking in parallel and crossed systems\, cruzadas\, and molinetes\, in both open and close embrace. The bootcamp is extremely popular and space is limited\, so register soon! Note: due to the intensive nature of the bootcamp\, you must register for the entire series.
UID:681-912341@events.umich.edu
URL:https://events.umich.edu/event/681
CLASS:PUBLIC
STATUS:CONFIRMED
CATEGORIES:multicultural
LOCATION:Mason Hall - 3427
CONTACT:
END:VEVENT
BEGIN:VEVENT
DTSTAMP:20101111T175736
DTSTART;TZID=America/Detroit:20100709T200000
SUMMARY:Performance:The Lucky Stars
DESCRIPTION:
UID:1871-916024@events.umich.edu
URL:https://events.umich.edu/event/1871
CLASS:PUBLIC
STATUS:CONFIRMED
CATEGORIES:music
LOCATION:
CONTACT:
END:VEVENT
END:VCALENDAR