BEGIN:VCALENDAR
VERSION:2.0
PRODID:-//UM//UM*Events//EN
CALSCALE:GREGORIAN
BEGIN:VTIMEZONE
TZID:America/Detroit
TZURL:http://tzurl.org/zoneinfo/America/Detroit
X-LIC-LOCATION:America/Detroit
BEGIN:DAYLIGHT
TZOFFSETFROM:-0500
TZOFFSETTO:-0400
TZNAME:EDT
DTSTART:20070311T020000
RRULE:FREQ=YEARLY;BYMONTH=3;BYDAY=2SU
END:DAYLIGHT
BEGIN:STANDARD
TZOFFSETFROM:-0400
TZOFFSETTO:-0500
TZNAME:EST
DTSTART:20071104T020000
RRULE:FREQ=YEARLY;BYMONTH=11;BYDAY=1SU
END:STANDARD
END:VTIMEZONE
BEGIN:VEVENT
DTSTAMP:20100614T131024
DTSTART;TZID=America/Detroit:20100710T100000
DTEND;TZID=America/Detroit:20100710T163000
SUMMARY:Exhibition:Fabulous Flamingos! - A Whimsical Garden Display
DESCRIPTION:The flamingos have landed – at Matthaei! On display are dozens of pink flamingo  lawn ornaments imaginatively themed and decorated by U-M Art School students\,  community members\, and Ann Arbor Public School students\; fantastic topiary  creatures such as Nessie the garden serpent and others creatively grown and  decorated by our expert horticulturists\; perennial garden favorites like whirligigs and  gnomes\; lush seasonal plantings\; and more. A must-see garden! While you're  visiting Matthaei\, be sure to vote for your favorite flamingo June 19 through July  15. Voting cards and ballot box located in the lobby at Matthaei. Best in Show  Flamingos announced on Saturday\, July 17\, 2 pm. Gardens and trails at Matthaei  are free and open 7 days a week. Display opens June 19 and continues through the  summer at Matthaei Botanical Gardens\, 1800 N. Dixboro Rd.\, Ann Arbor. For more  information visit our website: www.mbgna.umich.edu or call 734-647-7600.
UID:1664-916376@events.umich.edu
URL:https://events.umich.edu/event/1664
CLASS:PUBLIC
STATUS:CONFIRMED
CATEGORIES:
LOCATION:
CONTACT:
END:VEVENT
BEGIN:VEVENT
DTSTAMP:20100707T094027
DTSTART;TZID=America/Detroit:20100710T193000
SUMMARY:Performance:Concert: Die Roten Punkte
DESCRIPTION:Die Roten Punkte (the utterly dysfunctional pairing of German siblings Otto and Astrid Rot\, aka “Berlin's Prince and Princess of Punk\,”) became an instant household name in Europe after topping the charts in Germany and Poland with their 2005 hits I'm in a Band and Best Band in the World. Described as “inspired\, brilliantly executed lunacy”¦a lipstick-smeared\, tantrum-loving\, sonic collision between Plastic Bertrand\, Kraftwerk and early Ramones\,” Die Roten Punkte's live shows are one of the most irreverent and hilarious gigs you are ever likely to see.\n\nCHANGE OF VENUE: Die Roten Punkte will no longer be performing in Helmut Stern at UMMA but at  the Mendelssohn Theatre in the Michigan League. Tickets available by calling 734.764.2538 or  online at  www.annarborsummerfestival.org.
UID:2709-920433@events.umich.edu
URL:https://events.umich.edu/event/2709
CLASS:PUBLIC
STATUS:CONFIRMED
CATEGORIES:music
LOCATION:Lydia Mendelssohn Theatre - Helmut Stern Auditorium
CONTACT:
END:VEVENT
BEGIN:VEVENT
DTSTAMP:20100513T145315
DTSTART;TZID=America/Detroit:20100710T200000
SUMMARY:Performance:Ann Arbor Dance Works 25th Anniversary Concert Series
DESCRIPTION:Ann Arbor Dance Works proudly presents its 25th Anniversary Season\, featuring premieres and recent works by two guest artists\, Emily Berry and Carolyn Dorfman\, and resident choreographers Amy Chavasse\, Bill DeYoung\, Jessica Fogel\, Melissa Beck Matjias\, Peter Sparling\, Sandra Torijano\, and Robin Wilson.  Three different programs of dance will be presented June 10\, 11\, and 12\, 2010 at 8:00pm\, in the Duderstadt Center Video Studio\, 2281 Bonisteel Blvd\, located on the University of Michigan's North Campus in Ann Arbor\, Michigan.  Seating is very limited and advanced ticket purchase is recommended.
UID:1362-915006@events.umich.edu
URL:https://events.umich.edu/event/1362
CLASS:PUBLIC
STATUS:CONFIRMED
CATEGORIES:dance
LOCATION:Duderstadt Center - Video Studio
CONTACT:
END:VEVENT
END:VCALENDAR