BEGIN:VCALENDAR
VERSION:2.0
PRODID:-//UM//UM*Events//EN
CALSCALE:GREGORIAN
BEGIN:VTIMEZONE
TZID:America/Detroit
TZURL:http://tzurl.org/zoneinfo/America/Detroit
X-LIC-LOCATION:America/Detroit
BEGIN:DAYLIGHT
TZOFFSETFROM:-0500
TZOFFSETTO:-0400
TZNAME:EDT
DTSTART:20070311T020000
RRULE:FREQ=YEARLY;BYMONTH=3;BYDAY=2SU
END:DAYLIGHT
BEGIN:STANDARD
TZOFFSETFROM:-0400
TZOFFSETTO:-0500
TZNAME:EST
DTSTART:20071104T020000
RRULE:FREQ=YEARLY;BYMONTH=11;BYDAY=1SU
END:STANDARD
END:VTIMEZONE
BEGIN:VEVENT
DTSTAMP:20100614T131024
DTSTART;TZID=America/Detroit:20100715T100000
DTEND;TZID=America/Detroit:20100715T163000
SUMMARY:Exhibition:Fabulous Flamingos! - A Whimsical Garden Display
DESCRIPTION:The flamingos have landed – at Matthaei! On display are dozens of pink flamingo  lawn ornaments imaginatively themed and decorated by U-M Art School students\,  community members\, and Ann Arbor Public School students\; fantastic topiary  creatures such as Nessie the garden serpent and others creatively grown and  decorated by our expert horticulturists\; perennial garden favorites like whirligigs and  gnomes\; lush seasonal plantings\; and more. A must-see garden! While you're  visiting Matthaei\, be sure to vote for your favorite flamingo June 19 through July  15. Voting cards and ballot box located in the lobby at Matthaei. Best in Show  Flamingos announced on Saturday\, July 17\, 2 pm. Gardens and trails at Matthaei  are free and open 7 days a week. Display opens June 19 and continues through the  summer at Matthaei Botanical Gardens\, 1800 N. Dixboro Rd.\, Ann Arbor. For more  information visit our website: www.mbgna.umich.edu or call 734-647-7600.
UID:1664-916381@events.umich.edu
URL:https://events.umich.edu/event/1664
CLASS:PUBLIC
STATUS:CONFIRMED
CATEGORIES:
LOCATION:
CONTACT:
END:VEVENT
BEGIN:VEVENT
DTSTAMP:20100628T101749
DTSTART;TZID=America/Detroit:20100715T173000
DTEND;TZID=America/Detroit:20100715T190000
SUMMARY:Lecture / Discussion:Lecture by Liza Dalby
DESCRIPTION:Justified or not\, geisha loom large as cultural icons of Japan to the outside world. Yet the Western view of geisha completely misses one of their most important contributions within Japan–that of fashion arbiter. Especially through the nineteenth and early twentieth centuries\, when kimono was still the most common mode of dress found in Japan\, geisha formed the vanguard of what defined fashion\, setting trends that filtered down to respectable mainstream Japanese women. Liza Dalby is an anthropologist who spent a year as a geisha in Japan. She is the author of Geisha (1983)\, Kimono–Fashioning Culture (1993)\, and The Tale of Murasaki: A Novel (2000) and was a consultant to Rob Marshall's film\, Memoirs of a Geisha (2004)\, based on a novel by Arthur Golden.
UID:1476-915176@events.umich.edu
URL:https://events.umich.edu/event/1476
CLASS:PUBLIC
STATUS:CONFIRMED
CATEGORIES:multicultural,visual arts
LOCATION:Museum of Art - Helmut Stern Auditorium
CONTACT:
END:VEVENT
END:VCALENDAR