BEGIN:VCALENDAR
VERSION:2.0
PRODID:-//UM//UM*Events//EN
CALSCALE:GREGORIAN
BEGIN:VTIMEZONE
TZID:America/Detroit
TZURL:http://tzurl.org/zoneinfo/America/Detroit
X-LIC-LOCATION:America/Detroit
BEGIN:DAYLIGHT
TZOFFSETFROM:-0500
TZOFFSETTO:-0400
TZNAME:EDT
DTSTART:20070311T020000
RRULE:FREQ=YEARLY;BYMONTH=3;BYDAY=2SU
END:DAYLIGHT
BEGIN:STANDARD
TZOFFSETFROM:-0400
TZOFFSETTO:-0500
TZNAME:EST
DTSTART:20071104T020000
RRULE:FREQ=YEARLY;BYMONTH=11;BYDAY=1SU
END:STANDARD
END:VTIMEZONE
BEGIN:VEVENT
DTSTAMP:20100715T195744
DTSTART;TZID=America/Detroit:20100717T083000
DTEND;TZID=America/Detroit:20100717T190000
SUMMARY:Exhibition:Tour de France: Travel & Topography in France 1700-1900
DESCRIPTION:The Audubon Room currently displays maps\, atlases and books related to cartography\, travel\, and the geography of France\, drawing on the University of Michigan Library's extensive holdings of French materials in the Map Library.\n\nOpen during Audubon Room hours\; see http://www.lib.umich.edu/audubon-room
UID:2614-919356@events.umich.edu
URL:https://events.umich.edu/event/2614
CLASS:PUBLIC
STATUS:CONFIRMED
CATEGORIES:visual arts
LOCATION:Hatcher Graduate Library - Audubon Room
CONTACT:
END:VEVENT
BEGIN:VEVENT
DTSTAMP:20100614T131024
DTSTART;TZID=America/Detroit:20100717T100000
DTEND;TZID=America/Detroit:20100717T163000
SUMMARY:Exhibition:Fabulous Flamingos! - A Whimsical Garden Display
DESCRIPTION:The flamingos have landed – at Matthaei! On display are dozens of pink flamingo  lawn ornaments imaginatively themed and decorated by U-M Art School students\,  community members\, and Ann Arbor Public School students\; fantastic topiary  creatures such as Nessie the garden serpent and others creatively grown and  decorated by our expert horticulturists\; perennial garden favorites like whirligigs and  gnomes\; lush seasonal plantings\; and more. A must-see garden! While you're  visiting Matthaei\, be sure to vote for your favorite flamingo June 19 through July  15. Voting cards and ballot box located in the lobby at Matthaei. Best in Show  Flamingos announced on Saturday\, July 17\, 2 pm. Gardens and trails at Matthaei  are free and open 7 days a week. Display opens June 19 and continues through the  summer at Matthaei Botanical Gardens\, 1800 N. Dixboro Rd.\, Ann Arbor. For more  information visit our website: www.mbgna.umich.edu or call 734-647-7600.
UID:1664-916383@events.umich.edu
URL:https://events.umich.edu/event/1664
CLASS:PUBLIC
STATUS:CONFIRMED
CATEGORIES:
LOCATION:
CONTACT:
END:VEVENT
BEGIN:VEVENT
DTSTAMP:20100712T161704
DTSTART;TZID=America/Detroit:20100717T110000
DTEND;TZID=America/Detroit:20100717T170000
SUMMARY:Exhibition:School of Art & Design Alumni Exhibition
DESCRIPTION:over 140 works in all media by the School of Art & Design's talented alumni.
UID:2379-919708@events.umich.edu
URL:https://events.umich.edu/event/2379
CLASS:PUBLIC
STATUS:CONFIRMED
CATEGORIES:visual arts
LOCATION:Art and Architecture Building - Slusser Gallery
CONTACT:
END:VEVENT
BEGIN:VEVENT
DTSTAMP:20101111T175732
DTSTART;TZID=America/Detroit:20100717T143000
SUMMARY:Ceremony / Service:Tea Ceremony
DESCRIPTION:Please join us for a midsummer tea ceremony presented by tea master SÃ´yÃ» Nabeta and her students. Developed  and highly refined in the sixteenth century\, the Japanese tea ceremony is a distinctive cultural practice that  involves art appreciation\, physical performance\, and sensory experience. The season plays an important role in the  ceremony–the selection of objects and utensils\, movement and conversations\, arrangement of the sweets\, and  even the temperature of the tea\, are all carefully calculated for a particular occasion. Urasenke style is one of  three tea schools originated from the great tea master\, Sen RikyÃ» (1522–1591). The demonstration will be  followed by a limited sampling of tea and Japanese sweets. Seating is limited\; please plan to arrive early.
UID:1738-915756@events.umich.edu
URL:https://events.umich.edu/event/1738
CLASS:PUBLIC
STATUS:CONFIRMED
CATEGORIES:multicultural,visual arts
LOCATION:Museum of Art - Apse
CONTACT:
END:VEVENT
BEGIN:VEVENT
DTSTAMP:20100628T101654
DTSTART;TZID=America/Detroit:20100717T143000
SUMMARY:Ceremony / Service:Wrapped in Silk and Gold
DESCRIPTION:Please join us for a midsummer tea ceremony presented by tea master SÃ´yÃ» Nabeta and her students. Developed and highly refined in the sixteenth century\, the Japanese tea ceremony is a distinctive cultural practice that involves art appreciation\, physical performance\, and sensory experience. The season plays an important role in the ceremony–the selection of objects and utensils\, movement and conversations\, arrangement of the sweets\, and even the temperature of the tea\, are all carefully calculated for a particular occasion. Urasenke style is one of three tea schools originated from the great tea master\, Sen RikyÃ» (1522–1591). The demonstration will be followed by a limited sampling of tea and Japanese sweets. Seating is limited\; please plan to arrive early.
UID:2648-920289@events.umich.edu
URL:https://events.umich.edu/event/2648
CLASS:PUBLIC
STATUS:CONFIRMED
CATEGORIES:multicultural
LOCATION:Museum of Art - Apse
CONTACT:
END:VEVENT
END:VCALENDAR